BEGIN:VCALENDAR
VERSION:2.0
PRODID:-//The Civic, Holmfirth - ECPv6.15.20//NONSGML v1.0//EN
CALSCALE:GREGORIAN
METHOD:PUBLISH
X-ORIGINAL-URL:https://thecivicholmfirth.org
X-WR-CALDESC:Events for The Civic, Holmfirth
REFRESH-INTERVAL;VALUE=DURATION:PT1H
X-Robots-Tag:noindex
X-PUBLISHED-TTL:PT1H
BEGIN:VTIMEZONE
TZID:Europe/London
BEGIN:DAYLIGHT
TZOFFSETFROM:+0000
TZOFFSETTO:+0100
TZNAME:BST
DTSTART:20250330T010000
END:DAYLIGHT
BEGIN:STANDARD
TZOFFSETFROM:+0100
TZOFFSETTO:+0000
TZNAME:GMT
DTSTART:20251026T010000
END:STANDARD
BEGIN:DAYLIGHT
TZOFFSETFROM:+0000
TZOFFSETTO:+0100
TZNAME:BST
DTSTART:20260329T010000
END:DAYLIGHT
BEGIN:STANDARD
TZOFFSETFROM:+0100
TZOFFSETTO:+0000
TZNAME:GMT
DTSTART:20261025T010000
END:STANDARD
BEGIN:DAYLIGHT
TZOFFSETFROM:+0000
TZOFFSETTO:+0100
TZNAME:BST
DTSTART:20270328T010000
END:DAYLIGHT
BEGIN:STANDARD
TZOFFSETFROM:+0100
TZOFFSETTO:+0000
TZNAME:GMT
DTSTART:20271031T010000
END:STANDARD
END:VTIMEZONE
BEGIN:VEVENT
DTSTART;TZID=Europe/London:20260502T130000
DTEND;TZID=Europe/London:20260502T180000
DTSTAMP:20260423T180521
CREATED:20260130T123114Z
LAST-MODIFIED:20260130T123114Z
UID:10011623-1777726800-1777744800@thecivicholmfirth.org
SUMMARY:All of us by Bolouebi Solomon
DESCRIPTION:
URL:https://thecivicholmfirth.org/events/all-of-us-by-bolouebi-solomon/
LOCATION:Large Hall\, The Civic Holmfirth\, Holmfirth\, HD9 3AS\, United Kingdom
CATEGORIES:Live Events
ATTACH;FMTTYPE=image/png:https://thecivicholmfirth.org/wp-content/uploads/2026/01/Ebi-Solomon-Event-Flyer.png
GEO:53.572496509564;-1.7860824573628
X-APPLE-STRUCTURED-LOCATION;VALUE=URI;X-ADDRESS=Large Hall The Civic Holmfirth Holmfirth HD9 3AS United Kingdom;X-APPLE-RADIUS=500;X-TITLE=The Civic Holmfirth:geo:-1.7860824573628,53.572496509564
END:VEVENT
END:VCALENDAR