BEGIN:VCALENDAR
VERSION:2.0
PRODID:-//The Civic, Holmfirth - ECPv6.15.20//NONSGML v1.0//EN
CALSCALE:GREGORIAN
METHOD:PUBLISH
X-ORIGINAL-URL:https://thecivicholmfirth.org
X-WR-CALDESC:Events for The Civic, Holmfirth
REFRESH-INTERVAL;VALUE=DURATION:PT1H
X-Robots-Tag:noindex
X-PUBLISHED-TTL:PT1H
BEGIN:VTIMEZONE
TZID:Europe/London
BEGIN:DAYLIGHT
TZOFFSETFROM:+0000
TZOFFSETTO:+0100
TZNAME:BST
DTSTART:20250330T010000
END:DAYLIGHT
BEGIN:STANDARD
TZOFFSETFROM:+0100
TZOFFSETTO:+0000
TZNAME:GMT
DTSTART:20251026T010000
END:STANDARD
BEGIN:DAYLIGHT
TZOFFSETFROM:+0000
TZOFFSETTO:+0100
TZNAME:BST
DTSTART:20260329T010000
END:DAYLIGHT
BEGIN:STANDARD
TZOFFSETFROM:+0100
TZOFFSETTO:+0000
TZNAME:GMT
DTSTART:20261025T010000
END:STANDARD
BEGIN:DAYLIGHT
TZOFFSETFROM:+0000
TZOFFSETTO:+0100
TZNAME:BST
DTSTART:20270328T010000
END:DAYLIGHT
BEGIN:STANDARD
TZOFFSETFROM:+0100
TZOFFSETTO:+0000
TZNAME:GMT
DTSTART:20271031T010000
END:STANDARD
END:VTIMEZONE
BEGIN:VEVENT
DTSTART;TZID=Europe/London:20260412T140000
DTEND;TZID=Europe/London:20260412T170000
DTSTAMP:20260419T161018
CREATED:20260122T135534Z
LAST-MODIFIED:20260321T101352Z
UID:10011603-1776002400-1776013200@thecivicholmfirth.org
SUMMARY:SOLD OUT! New Mill Male Voice Choir present an afternoon with Sir Willard White
DESCRIPTION:
URL:https://thecivicholmfirth.org/events/nmmvc-with-sir-willard-white/
LOCATION:Large Hall\, The Civic Holmfirth\, Holmfirth\, HD9 3AS\, United Kingdom
CATEGORIES:Live Events
ATTACH;FMTTYPE=image/jpeg:https://thecivicholmfirth.org/wp-content/uploads/2026/01/Sir-Willard-White.jpg
GEO:53.572496509564;-1.7860824573628
X-APPLE-STRUCTURED-LOCATION;VALUE=URI;X-ADDRESS=Large Hall The Civic Holmfirth Holmfirth HD9 3AS United Kingdom;X-APPLE-RADIUS=500;X-TITLE=The Civic Holmfirth:geo:-1.7860824573628,53.572496509564
END:VEVENT
BEGIN:VEVENT
DTSTART;TZID=Europe/London:20260410T093000
DTEND;TZID=Europe/London:20260410T123000
DTSTAMP:20260419T161018
CREATED:20260226T142719Z
LAST-MODIFIED:20260226T142719Z
UID:10011944-1775813400-1775824200@thecivicholmfirth.org
SUMMARY:Fundraising Coffee Morning in support of Square Peg
DESCRIPTION:
URL:https://thecivicholmfirth.org/events/fundraising-square-peg/
LOCATION:Reception Room
CATEGORIES:Live Events
ATTACH;FMTTYPE=image/png:https://thecivicholmfirth.org/wp-content/uploads/2026/02/Square-Peg-2026-Charity-Coffee-Morning.png
ORGANIZER;CN="HCHCT":MAILTO:bookings@thecivicholmfirth.org
END:VEVENT
BEGIN:VEVENT
DTSTART;TZID=Europe/London:20260321T193000
DTEND;TZID=Europe/London:20260321T220000
DTSTAMP:20260419T161018
CREATED:20250612T102852Z
LAST-MODIFIED:20260321T101511Z
UID:10010693-1774121400-1774130400@thecivicholmfirth.org
SUMMARY:SOLD OUT!  Beatles Complete - A Tribute To The Fab Four
DESCRIPTION:
URL:https://thecivicholmfirth.org/events/beatles-complete-a-tribute-to-the-fab-four/
CATEGORIES:Live Events
ATTACH;FMTTYPE=image/jpeg:https://thecivicholmfirth.org/wp-content/uploads/2025/06/Beatles-Complete-Sullivan-Suits-scaled.jpg
END:VEVENT
END:VCALENDAR