BEGIN:VCALENDAR
VERSION:2.0
PRODID:-//The Civic, Holmfirth - ECPv6.15.20//NONSGML v1.0//EN
CALSCALE:GREGORIAN
METHOD:PUBLISH
X-ORIGINAL-URL:https://thecivicholmfirth.org
X-WR-CALDESC:Events for The Civic, Holmfirth
REFRESH-INTERVAL;VALUE=DURATION:PT1H
X-Robots-Tag:noindex
X-PUBLISHED-TTL:PT1H
BEGIN:VTIMEZONE
TZID:Europe/London
BEGIN:DAYLIGHT
TZOFFSETFROM:+0000
TZOFFSETTO:+0100
TZNAME:BST
DTSTART:20250330T010000
END:DAYLIGHT
BEGIN:STANDARD
TZOFFSETFROM:+0100
TZOFFSETTO:+0000
TZNAME:GMT
DTSTART:20251026T010000
END:STANDARD
BEGIN:DAYLIGHT
TZOFFSETFROM:+0000
TZOFFSETTO:+0100
TZNAME:BST
DTSTART:20260329T010000
END:DAYLIGHT
BEGIN:STANDARD
TZOFFSETFROM:+0100
TZOFFSETTO:+0000
TZNAME:GMT
DTSTART:20261025T010000
END:STANDARD
BEGIN:DAYLIGHT
TZOFFSETFROM:+0000
TZOFFSETTO:+0100
TZNAME:BST
DTSTART:20270328T010000
END:DAYLIGHT
BEGIN:STANDARD
TZOFFSETFROM:+0100
TZOFFSETTO:+0000
TZNAME:GMT
DTSTART:20271031T010000
END:STANDARD
END:VTIMEZONE
BEGIN:VEVENT
DTSTART;TZID=Europe/London:20260508T190000
DTEND;TZID=Europe/London:20260508T223000
DTSTAMP:20260425T163306
CREATED:20260205T143033Z
LAST-MODIFIED:20260205T143033Z
UID:10011631-1778266800-1778279400@thecivicholmfirth.org
SUMMARY:Holmfirth Festival of Folk present Le Vendredi Danse
DESCRIPTION:
URL:https://thecivicholmfirth.org/events/hfof-levendredidanse/
LOCATION:Lesser Hall\, The Civic Holmfirth\, Holmfirth\, HD9 3AS
CATEGORIES:Live Events
ATTACH;FMTTYPE=image/jpeg:https://thecivicholmfirth.org/wp-content/uploads/2026/01/Image-2023.jpg
ORGANIZER;CN="Holmfirth Festival of Folk":MAILTO:enquiries@holmfirthfestivaloffolk.co.uk
GEO:53.572496509564;-1.7860824573628
X-APPLE-STRUCTURED-LOCATION;VALUE=URI;X-ADDRESS=Lesser Hall The Civic Holmfirth Holmfirth HD9 3AS;X-APPLE-RADIUS=500;X-TITLE=The Civic Holmfirth:geo:-1.7860824573628,53.572496509564
END:VEVENT
BEGIN:VEVENT
DTSTART;TZID=Europe/London:20260508T194500
DTEND;TZID=Europe/London:20260508T223000
DTSTAMP:20260425T163306
CREATED:20260205T142819Z
LAST-MODIFIED:20260205T142819Z
UID:10011624-1778269500-1778279400@thecivicholmfirth.org
SUMMARY:Holmfirth Folk Festival present Heisk
DESCRIPTION:
URL:https://thecivicholmfirth.org/events/hfof-heisk/
LOCATION:Large Hall\, The Civic Holmfirth\, Holmfirth\, HD9 3AS\, United Kingdom
CATEGORIES:Live Events
ATTACH;FMTTYPE=image/jpeg:https://thecivicholmfirth.org/wp-content/uploads/2026/01/Image-2023.jpg
ORGANIZER;CN="Holmfirth Festival of Folk":MAILTO:enquiries@holmfirthfestivaloffolk.co.uk
GEO:53.572496509564;-1.7860824573628
X-APPLE-STRUCTURED-LOCATION;VALUE=URI;X-ADDRESS=Large Hall The Civic Holmfirth Holmfirth HD9 3AS United Kingdom;X-APPLE-RADIUS=500;X-TITLE=The Civic Holmfirth:geo:-1.7860824573628,53.572496509564
END:VEVENT
BEGIN:VEVENT
DTSTART;TZID=Europe/London:20260509T133000
DTEND;TZID=Europe/London:20260509T153000
DTSTAMP:20260425T163306
CREATED:20260205T142613Z
LAST-MODIFIED:20260205T142613Z
UID:10011632-1778333400-1778340600@thecivicholmfirth.org
SUMMARY:Holmfirth Festival of Folk present Clive Gregson and the Hayes Sister's
DESCRIPTION:
URL:https://thecivicholmfirth.org/events/hfof-clivegregson/
LOCATION:Lesser Hall\, The Civic Holmfirth\, Holmfirth\, HD9 3AS
CATEGORIES:Live Events
ATTACH;FMTTYPE=image/jpeg:https://thecivicholmfirth.org/wp-content/uploads/2026/01/Image-2023.jpg
ORGANIZER;CN="Holmfirth Festival of Folk":MAILTO:enquiries@holmfirthfestivaloffolk.co.uk
GEO:53.572496509564;-1.7860824573628
X-APPLE-STRUCTURED-LOCATION;VALUE=URI;X-ADDRESS=Lesser Hall The Civic Holmfirth Holmfirth HD9 3AS;X-APPLE-RADIUS=500;X-TITLE=The Civic Holmfirth:geo:-1.7860824573628,53.572496509564
END:VEVENT
BEGIN:VEVENT
DTSTART;TZID=Europe/London:20260509T194500
DTEND;TZID=Europe/London:20260509T221500
DTSTAMP:20260425T163306
CREATED:20260205T142242Z
LAST-MODIFIED:20260205T142242Z
UID:10011633-1778355900-1778364900@thecivicholmfirth.org
SUMMARY:Holmfirth Festival of Folk present Jaywalkers accompanied with Ellie Gowers.
DESCRIPTION:
URL:https://thecivicholmfirth.org/events/hfof-jaywalkers/
LOCATION:Lesser Hall\, The Civic Holmfirth\, Holmfirth\, HD9 3AS
CATEGORIES:Live Events
ATTACH;FMTTYPE=image/jpeg:https://thecivicholmfirth.org/wp-content/uploads/2026/01/Image-2023.jpg
ORGANIZER;CN="Holmfirth Festival of Folk":MAILTO:enquiries@holmfirthfestivaloffolk.co.uk
GEO:53.572496509564;-1.7860824573628
X-APPLE-STRUCTURED-LOCATION;VALUE=URI;X-ADDRESS=Lesser Hall The Civic Holmfirth Holmfirth HD9 3AS;X-APPLE-RADIUS=500;X-TITLE=The Civic Holmfirth:geo:-1.7860824573628,53.572496509564
END:VEVENT
BEGIN:VEVENT
DTSTART;TZID=Europe/London:20260509T200000
DTEND;TZID=Europe/London:20260509T223000
DTSTAMP:20260425T163306
CREATED:20260205T142023Z
LAST-MODIFIED:20260205T142023Z
UID:10011634-1778356800-1778365800@thecivicholmfirth.org
SUMMARY:Holmfirth Festival of Folk Ceilidh
DESCRIPTION:
URL:https://thecivicholmfirth.org/events/hfof-ceilidh/
LOCATION:Large Hall\, The Civic Holmfirth\, Holmfirth\, HD9 3AS\, United Kingdom
CATEGORIES:Live Events
ATTACH;FMTTYPE=image/jpeg:https://thecivicholmfirth.org/wp-content/uploads/2026/01/Image-2023.jpg
ORGANIZER;CN="Holmfirth Festival of Folk":MAILTO:enquiries@holmfirthfestivaloffolk.co.uk
GEO:53.572496509564;-1.7860824573628
X-APPLE-STRUCTURED-LOCATION;VALUE=URI;X-ADDRESS=Large Hall The Civic Holmfirth Holmfirth HD9 3AS United Kingdom;X-APPLE-RADIUS=500;X-TITLE=The Civic Holmfirth:geo:-1.7860824573628,53.572496509564
END:VEVENT
BEGIN:VEVENT
DTSTART;TZID=Europe/London:20260510T130000
DTEND;TZID=Europe/London:20260510T150000
DTSTAMP:20260425T163306
CREATED:20260205T141728Z
LAST-MODIFIED:20260205T141728Z
UID:10011635-1778418000-1778425200@thecivicholmfirth.org
SUMMARY:Holmfirth Festival of Folk present Christina Alden and Alex Patterson with L’al Tethera
DESCRIPTION:
URL:https://thecivicholmfirth.org/events/hfof-christina-alden/
LOCATION:Lesser Hall\, The Civic Holmfirth\, Holmfirth\, HD9 3AS
CATEGORIES:Live Events
ATTACH;FMTTYPE=image/jpeg:https://thecivicholmfirth.org/wp-content/uploads/2026/01/Image-2023.jpg
ORGANIZER;CN="Holmfirth Festival of Folk":MAILTO:enquiries@holmfirthfestivaloffolk.co.uk
GEO:53.572496509564;-1.7860824573628
X-APPLE-STRUCTURED-LOCATION;VALUE=URI;X-ADDRESS=Lesser Hall The Civic Holmfirth Holmfirth HD9 3AS;X-APPLE-RADIUS=500;X-TITLE=The Civic Holmfirth:geo:-1.7860824573628,53.572496509564
END:VEVENT
BEGIN:VEVENT
DTSTART;TZID=Europe/London:20260510T180000
DTEND;TZID=Europe/London:20260510T203000
DTSTAMP:20260425T163306
CREATED:20260205T141205Z
LAST-MODIFIED:20260205T141205Z
UID:10011636-1778436000-1778445000@thecivicholmfirth.org
SUMMARY:Holmfirth Festival of Folk present Old Man Pie with support from Alastair Gordon
DESCRIPTION:
URL:https://thecivicholmfirth.org/events/hfof-old-man-pie/
LOCATION:Lesser Hall\, The Civic Holmfirth\, Holmfirth\, HD9 3AS
CATEGORIES:Live Events
ATTACH;FMTTYPE=image/jpeg:https://thecivicholmfirth.org/wp-content/uploads/2026/01/Image-2023.jpg
ORGANIZER;CN="Holmfirth Festival of Folk":MAILTO:enquiries@holmfirthfestivaloffolk.co.uk
GEO:53.572496509564;-1.7860824573628
X-APPLE-STRUCTURED-LOCATION;VALUE=URI;X-ADDRESS=Lesser Hall The Civic Holmfirth Holmfirth HD9 3AS;X-APPLE-RADIUS=500;X-TITLE=The Civic Holmfirth:geo:-1.7860824573628,53.572496509564
END:VEVENT
END:VCALENDAR