BEGIN:VCALENDAR
VERSION:2.0
PRODID:-//The Civic, Holmfirth - ECPv6.15.20//NONSGML v1.0//EN
CALSCALE:GREGORIAN
METHOD:PUBLISH
X-ORIGINAL-URL:https://thecivicholmfirth.org
X-WR-CALDESC:Events for The Civic, Holmfirth
REFRESH-INTERVAL;VALUE=DURATION:PT1H
X-Robots-Tag:noindex
X-PUBLISHED-TTL:PT1H
BEGIN:VTIMEZONE
TZID:Europe/London
BEGIN:DAYLIGHT
TZOFFSETFROM:+0000
TZOFFSETTO:+0100
TZNAME:BST
DTSTART:20270328T010000
END:DAYLIGHT
BEGIN:STANDARD
TZOFFSETFROM:+0100
TZOFFSETTO:+0000
TZNAME:GMT
DTSTART:20271031T010000
END:STANDARD
BEGIN:DAYLIGHT
TZOFFSETFROM:+0000
TZOFFSETTO:+0100
TZNAME:BST
DTSTART:20280326T010000
END:DAYLIGHT
BEGIN:STANDARD
TZOFFSETFROM:+0100
TZOFFSETTO:+0000
TZNAME:GMT
DTSTART:20281029T010000
END:STANDARD
BEGIN:DAYLIGHT
TZOFFSETFROM:+0000
TZOFFSETTO:+0100
TZNAME:BST
DTSTART:20290325T010000
END:DAYLIGHT
BEGIN:STANDARD
TZOFFSETFROM:+0100
TZOFFSETTO:+0000
TZNAME:GMT
DTSTART:20291028T010000
END:STANDARD
BEGIN:DAYLIGHT
TZOFFSETFROM:+0000
TZOFFSETTO:+0100
TZNAME:BST
DTSTART:20300331T010000
END:DAYLIGHT
BEGIN:STANDARD
TZOFFSETFROM:+0100
TZOFFSETTO:+0000
TZNAME:GMT
DTSTART:20301027T010000
END:STANDARD
END:VTIMEZONE
BEGIN:VEVENT
DTSTART;TZID=Europe/London:20281219T200000
DTEND;TZID=Europe/London:20281219T213000
DTSTAMP:20260424T161727
CREATED:20210407T103151Z
LAST-MODIFIED:20230712T102236Z
UID:10006683-1860868800-1860874200@thecivicholmfirth.org
SUMMARY:Holmfirth Badminton Club
DESCRIPTION:
URL:https://thecivicholmfirth.org/events/holmfirth-badminton-club/2028-12-19/
LOCATION:Large Hall\, The Civic Holmfirth\, Holmfirth\, HD9 3AS\, United Kingdom
CATEGORIES:Clubs & Classes
ATTACH;FMTTYPE=image/jpeg:https://thecivicholmfirth.org/wp-content/uploads/2021/04/Badminton-Netherthong-BC.jpg
GEO:53.572496509564;-1.7860824573628
X-APPLE-STRUCTURED-LOCATION;VALUE=URI;X-ADDRESS=Large Hall The Civic Holmfirth Holmfirth HD9 3AS United Kingdom;X-APPLE-RADIUS=500;X-TITLE=The Civic Holmfirth:geo:-1.7860824573628,53.572496509564
END:VEVENT
BEGIN:VEVENT
DTSTART;TZID=Europe/London:20281220T100000
DTEND;TZID=Europe/London:20281220T110000
DTSTAMP:20260424T161727
CREATED:20250725T105111Z
LAST-MODIFIED:20250725T105112Z
UID:10011009-1860919200-1860922800@thecivicholmfirth.org
SUMMARY:Zumba Gold
DESCRIPTION:
URL:https://thecivicholmfirth.org/events/zumba-gold-2/2028-12-20/
LOCATION:The Civic Holmfirth\, Huddersfield Road\, Holmfirth\, HD9 3AS
CATEGORIES:Clubs & Classes
ATTACH;FMTTYPE=image/jpeg:https://thecivicholmfirth.org/wp-content/uploads/2025/06/zumba_gold_logo_color.jpg
GEO:53.572496509564;-1.7860824573628
X-APPLE-STRUCTURED-LOCATION;VALUE=URI;X-ADDRESS=The Civic Holmfirth Huddersfield Road Holmfirth HD9 3AS;X-APPLE-RADIUS=500;X-TITLE=Huddersfield Road:geo:-1.7860824573628,53.572496509564
END:VEVENT
BEGIN:VEVENT
DTSTART;TZID=Europe/London:20281220T111500
DTEND;TZID=Europe/London:20281220T121500
DTSTAMP:20260424T161727
CREATED:20240206T112405Z
LAST-MODIFIED:20250807T110805Z
UID:10006684-1860923700-1860927300@thecivicholmfirth.org
SUMMARY:Mixed Ability Pilates
DESCRIPTION:
URL:https://thecivicholmfirth.org/events/mixed-ability-pilates-2/2028-12-20/
LOCATION:Lesser Hall\, The Civic Holmfirth\, Holmfirth\, HD9 3AS
CATEGORIES:Clubs & Classes
ATTACH;FMTTYPE=image/jpeg:https://thecivicholmfirth.org/wp-content/uploads/2021/04/Tak-Active-Modern-Pilates.jpg
ORGANIZER;CN="Karen Flynn":MAILTO:physiokaren76@gmail.com
GEO:53.572496509564;-1.7860824573628
X-APPLE-STRUCTURED-LOCATION;VALUE=URI;X-ADDRESS=Lesser Hall The Civic Holmfirth Holmfirth HD9 3AS;X-APPLE-RADIUS=500;X-TITLE=The Civic Holmfirth:geo:-1.7860824573628,53.572496509564
END:VEVENT
BEGIN:VEVENT
DTSTART;TZID=Europe/London:20281220T123000
DTEND;TZID=Europe/London:20281220T153000
DTSTAMP:20260424T161727
CREATED:20250603T105651Z
LAST-MODIFIED:20260306T142938Z
UID:10009178-1860928200-1860939000@thecivicholmfirth.org
SUMMARY:U3A Pickleball
DESCRIPTION:
URL:https://thecivicholmfirth.org/events/u3a-pickleball-2-2/2028-12-20/
LOCATION:The Civic Holmfirth\, Huddersfield Road\, Holmfirth\, HD9 3AS
CATEGORIES:Clubs & Classes
ATTACH;FMTTYPE=image/jpeg:https://thecivicholmfirth.org/wp-content/uploads/2024/01/Picture1.jpg
GEO:53.572496509564;-1.7860824573628
X-APPLE-STRUCTURED-LOCATION;VALUE=URI;X-ADDRESS=The Civic Holmfirth Huddersfield Road Holmfirth HD9 3AS;X-APPLE-RADIUS=500;X-TITLE=Huddersfield Road:geo:-1.7860824573628,53.572496509564
END:VEVENT
BEGIN:VEVENT
DTSTART;TZID=Europe/London:20281220T190000
DTEND;TZID=Europe/London:20281220T210000
DTSTAMP:20260424T161727
CREATED:20260306T110827Z
LAST-MODIFIED:20260306T114832Z
UID:10012110-1860951600-1860958800@thecivicholmfirth.org
SUMMARY:Huddersfield Samba
DESCRIPTION:
URL:https://thecivicholmfirth.org/events/huddersfield-samba/2028-12-20/
LOCATION:Reception Room
CATEGORIES:Clubs & Classes
ATTACH;FMTTYPE=image/jpeg:https://thecivicholmfirth.org/wp-content/uploads/2026/03/image.jpg
ORGANIZER;CN="Huddersfield Samba":MAILTO:hello@huddersfieldsamba.co.uk
END:VEVENT
BEGIN:VEVENT
DTSTART;TZID=Europe/London:20281220T193000
DTEND;TZID=Europe/London:20281220T220000
DTSTAMP:20260424T161727
CREATED:20260330T135950Z
LAST-MODIFIED:20260330T140139Z
UID:10010147-1860953400-1860962400@thecivicholmfirth.org
SUMMARY:Holmfirth Jive Dance Club
DESCRIPTION:
URL:https://thecivicholmfirth.org/events/vibejive-dance-club-2-2/2028-12-20/
LOCATION:Large Hall\, The Civic Holmfirth\, Holmfirth\, HD9 3AS\, United Kingdom
CATEGORIES:Clubs & Classes
ATTACH;FMTTYPE=image/jpeg:https://thecivicholmfirth.org/wp-content/uploads/2025/02/holmfirth-jive.jpg
GEO:53.572496509564;-1.7860824573628
X-APPLE-STRUCTURED-LOCATION;VALUE=URI;X-ADDRESS=Large Hall The Civic Holmfirth Holmfirth HD9 3AS United Kingdom;X-APPLE-RADIUS=500;X-TITLE=The Civic Holmfirth:geo:-1.7860824573628,53.572496509564
END:VEVENT
BEGIN:VEVENT
DTSTART;TZID=Europe/London:20281221T193000
DTEND;TZID=Europe/London:20281221T210000
DTSTAMP:20260424T161727
CREATED:20260306T121731Z
LAST-MODIFIED:20260306T121731Z
UID:10012264-1861039800-1861045200@thecivicholmfirth.org
SUMMARY:Holme Valley Civic Society
DESCRIPTION:
URL:https://thecivicholmfirth.org/events/holme-valley-civic-society/2028-12-21/
LOCATION:Lesser Hall\, The Civic Holmfirth\, Holmfirth\, HD9 3AS
CATEGORIES:Clubs & Classes
ATTACH;FMTTYPE=image/jpeg:https://thecivicholmfirth.org/wp-content/uploads/2026/03/March-2026.jpg
GEO:53.572496509564;-1.7860824573628
X-APPLE-STRUCTURED-LOCATION;VALUE=URI;X-ADDRESS=Lesser Hall The Civic Holmfirth Holmfirth HD9 3AS;X-APPLE-RADIUS=500;X-TITLE=The Civic Holmfirth:geo:-1.7860824573628,53.572496509564
END:VEVENT
BEGIN:VEVENT
DTSTART;TZID=Europe/London:20281222T093000
DTEND;TZID=Europe/London:20281222T113000
DTSTAMP:20260424T161727
CREATED:20210407T104909Z
LAST-MODIFIED:20260306T104302Z
UID:10006686-1861090200-1861097400@thecivicholmfirth.org
SUMMARY:Ladies Badminton
DESCRIPTION:
URL:https://thecivicholmfirth.org/events/ladies-badminton/2028-12-22/
LOCATION:Large Hall\, The Civic Holmfirth\, Holmfirth\, HD9 3AS\, United Kingdom
CATEGORIES:Clubs & Classes
ATTACH;FMTTYPE=image/jpeg:https://thecivicholmfirth.org/wp-content/uploads/2021/04/Ladies-Badminton.jpg
GEO:53.572496509564;-1.7860824573628
X-APPLE-STRUCTURED-LOCATION;VALUE=URI;X-ADDRESS=Large Hall The Civic Holmfirth Holmfirth HD9 3AS United Kingdom;X-APPLE-RADIUS=500;X-TITLE=The Civic Holmfirth:geo:-1.7860824573628,53.572496509564
END:VEVENT
BEGIN:VEVENT
DTSTART;TZID=Europe/London:20281225T100000
DTEND;TZID=Europe/London:20281225T110000
DTSTAMP:20260424T161727
CREATED:20240716T111208Z
LAST-MODIFIED:20260205T134807Z
UID:10011789-1861351200-1861354800@thecivicholmfirth.org
SUMMARY:Monday Movers Low Impact Dancercise
DESCRIPTION:
URL:https://thecivicholmfirth.org/events/monday-movers/2028-12-25/
LOCATION:Large Hall\, The Civic Holmfirth\, Holmfirth\, HD9 3AS\, United Kingdom
CATEGORIES:Clubs & Classes
ATTACH;FMTTYPE=image/png:https://thecivicholmfirth.org/wp-content/uploads/2024/07/image-3.png
GEO:53.572496509564;-1.7860824573628
X-APPLE-STRUCTURED-LOCATION;VALUE=URI;X-ADDRESS=Large Hall The Civic Holmfirth Holmfirth HD9 3AS United Kingdom;X-APPLE-RADIUS=500;X-TITLE=The Civic Holmfirth:geo:-1.7860824573628,53.572496509564
END:VEVENT
BEGIN:VEVENT
DTSTART;TZID=Europe/London:20281225T111500
DTEND;TZID=Europe/London:20281225T121500
DTSTAMP:20260424T161727
CREATED:20240719T092024Z
LAST-MODIFIED:20240719T092024Z
UID:10008210-1861355700-1861359300@thecivicholmfirth.org
SUMMARY:Holistic Fusion Class
DESCRIPTION:
URL:https://thecivicholmfirth.org/events/holistic-fusion-class/2028-12-25/
LOCATION:The Civic Holmfirth\, Huddersfield Road\, Holmfirth\, HD9 3AS
CATEGORIES:Clubs & Classes
ATTACH;FMTTYPE=image/jpeg:https://thecivicholmfirth.org/wp-content/uploads/2024/07/Holistic-Fusion-photo.jpg
GEO:53.572496509564;-1.7860824573628
X-APPLE-STRUCTURED-LOCATION;VALUE=URI;X-ADDRESS=The Civic Holmfirth Huddersfield Road Holmfirth HD9 3AS;X-APPLE-RADIUS=500;X-TITLE=Huddersfield Road:geo:-1.7860824573628,53.572496509564
END:VEVENT
BEGIN:VEVENT
DTSTART;TZID=Europe/London:20281225T113000
DTEND;TZID=Europe/London:20281225T130000
DTSTAMP:20260424T161727
CREATED:20251008T161259Z
LAST-MODIFIED:20251008T161259Z
UID:10011293-1861356600-1861362000@thecivicholmfirth.org
SUMMARY:Holmfirth Community Lunch Club
DESCRIPTION:
URL:https://thecivicholmfirth.org/events/holmfirth-community-lunch-club/2028-12-25/
LOCATION:Reception Room
CATEGORIES:Clubs & Classes
ATTACH;FMTTYPE=image/jpeg:https://thecivicholmfirth.org/wp-content/uploads/2025/10/HV-Logo.jpg
ORGANIZER;CN="Royal Voluntary Service - Holme Valley":MAILTO:holmfirthlunchclub@royalvoluntaryservice.org.uk
END:VEVENT
BEGIN:VEVENT
DTSTART;TZID=Europe/London:20281225T183000
DTEND;TZID=Europe/London:20281225T193000
DTSTAMP:20260424T161727
CREATED:20250507T111548Z
LAST-MODIFIED:20250507T111551Z
UID:10006688-1861381800-1861385400@thecivicholmfirth.org
SUMMARY:Pilates -  Beginners & Mixed Ability
DESCRIPTION:
URL:https://thecivicholmfirth.org/events/beginners-pilates-talkactive-2-2/2028-12-25/
LOCATION:Lesser Hall\, The Civic Holmfirth\, Holmfirth\, HD9 3AS
CATEGORIES:Clubs & Classes
ATTACH;FMTTYPE=image/jpeg:https://thecivicholmfirth.org/wp-content/uploads/2021/04/Tak-Active-Modern-Pilates.jpg
ORGANIZER;CN="Julie Edwards":MAILTO:julieedwardsmail@gmail.com
GEO:53.572496509564;-1.7860824573628
X-APPLE-STRUCTURED-LOCATION;VALUE=URI;X-ADDRESS=Lesser Hall The Civic Holmfirth Holmfirth HD9 3AS;X-APPLE-RADIUS=500;X-TITLE=The Civic Holmfirth:geo:-1.7860824573628,53.572496509564
END:VEVENT
BEGIN:VEVENT
DTSTART;TZID=Europe/London:20281225T183000
DTEND;TZID=Europe/London:20281225T203000
DTSTAMP:20260424T161727
CREATED:20230104T144220Z
LAST-MODIFIED:20230105T113141Z
UID:10006689-1861381800-1861389000@thecivicholmfirth.org
SUMMARY:Netherthong Badminton
DESCRIPTION:
URL:https://thecivicholmfirth.org/events/netherthong-badminton/2028-12-25/
LOCATION:Large Hall\, The Civic Holmfirth\, Holmfirth\, HD9 3AS\, United Kingdom
CATEGORIES:Clubs & Classes
ATTACH;FMTTYPE=image/jpeg:https://thecivicholmfirth.org/wp-content/uploads/2021/04/Ladies-Badminton.jpg
GEO:53.572496509564;-1.7860824573628
X-APPLE-STRUCTURED-LOCATION;VALUE=URI;X-ADDRESS=Large Hall The Civic Holmfirth Holmfirth HD9 3AS United Kingdom;X-APPLE-RADIUS=500;X-TITLE=The Civic Holmfirth:geo:-1.7860824573628,53.572496509564
END:VEVENT
BEGIN:VEVENT
DTSTART;TZID=Europe/London:20281225T193000
DTEND;TZID=Europe/London:20281225T203000
DTSTAMP:20260424T161727
CREATED:20250507T111420Z
LAST-MODIFIED:20250507T111423Z
UID:10006690-1861385400-1861389000@thecivicholmfirth.org
SUMMARY:Pilates – Improvers
DESCRIPTION:
URL:https://thecivicholmfirth.org/events/pilates-improvers-2-2/2028-12-25/
LOCATION:Lesser Hall\, The Civic Holmfirth\, Holmfirth\, HD9 3AS
CATEGORIES:Clubs & Classes
ATTACH;FMTTYPE=image/jpeg:https://thecivicholmfirth.org/wp-content/uploads/2021/04/Improvers-Pilates.jpg
ORGANIZER;CN="Julie Edwards":MAILTO:julieedwardsmail@gmail.com
GEO:53.572496509564;-1.7860824573628
X-APPLE-STRUCTURED-LOCATION;VALUE=URI;X-ADDRESS=Lesser Hall The Civic Holmfirth Holmfirth HD9 3AS;X-APPLE-RADIUS=500;X-TITLE=The Civic Holmfirth:geo:-1.7860824573628,53.572496509564
END:VEVENT
BEGIN:VEVENT
DTSTART;TZID=Europe/London:20281226T200000
DTEND;TZID=Europe/London:20281226T213000
DTSTAMP:20260424T161727
CREATED:20210407T103151Z
LAST-MODIFIED:20230712T102236Z
UID:10006692-1861473600-1861479000@thecivicholmfirth.org
SUMMARY:Holmfirth Badminton Club
DESCRIPTION:
URL:https://thecivicholmfirth.org/events/holmfirth-badminton-club/2028-12-26/
LOCATION:Large Hall\, The Civic Holmfirth\, Holmfirth\, HD9 3AS\, United Kingdom
CATEGORIES:Clubs & Classes
ATTACH;FMTTYPE=image/jpeg:https://thecivicholmfirth.org/wp-content/uploads/2021/04/Badminton-Netherthong-BC.jpg
GEO:53.572496509564;-1.7860824573628
X-APPLE-STRUCTURED-LOCATION;VALUE=URI;X-ADDRESS=Large Hall The Civic Holmfirth Holmfirth HD9 3AS United Kingdom;X-APPLE-RADIUS=500;X-TITLE=The Civic Holmfirth:geo:-1.7860824573628,53.572496509564
END:VEVENT
BEGIN:VEVENT
DTSTART;TZID=Europe/London:20281227T100000
DTEND;TZID=Europe/London:20281227T110000
DTSTAMP:20260424T161727
CREATED:20250725T105111Z
LAST-MODIFIED:20250725T105112Z
UID:10011010-1861524000-1861527600@thecivicholmfirth.org
SUMMARY:Zumba Gold
DESCRIPTION:
URL:https://thecivicholmfirth.org/events/zumba-gold-2/2028-12-27/
LOCATION:The Civic Holmfirth\, Huddersfield Road\, Holmfirth\, HD9 3AS
CATEGORIES:Clubs & Classes
ATTACH;FMTTYPE=image/jpeg:https://thecivicholmfirth.org/wp-content/uploads/2025/06/zumba_gold_logo_color.jpg
GEO:53.572496509564;-1.7860824573628
X-APPLE-STRUCTURED-LOCATION;VALUE=URI;X-ADDRESS=The Civic Holmfirth Huddersfield Road Holmfirth HD9 3AS;X-APPLE-RADIUS=500;X-TITLE=Huddersfield Road:geo:-1.7860824573628,53.572496509564
END:VEVENT
BEGIN:VEVENT
DTSTART;TZID=Europe/London:20281227T111500
DTEND;TZID=Europe/London:20281227T121500
DTSTAMP:20260424T161727
CREATED:20240206T112405Z
LAST-MODIFIED:20250807T110805Z
UID:10006693-1861528500-1861532100@thecivicholmfirth.org
SUMMARY:Mixed Ability Pilates
DESCRIPTION:
URL:https://thecivicholmfirth.org/events/mixed-ability-pilates-2/2028-12-27/
LOCATION:Lesser Hall\, The Civic Holmfirth\, Holmfirth\, HD9 3AS
CATEGORIES:Clubs & Classes
ATTACH;FMTTYPE=image/jpeg:https://thecivicholmfirth.org/wp-content/uploads/2021/04/Tak-Active-Modern-Pilates.jpg
ORGANIZER;CN="Karen Flynn":MAILTO:physiokaren76@gmail.com
GEO:53.572496509564;-1.7860824573628
X-APPLE-STRUCTURED-LOCATION;VALUE=URI;X-ADDRESS=Lesser Hall The Civic Holmfirth Holmfirth HD9 3AS;X-APPLE-RADIUS=500;X-TITLE=The Civic Holmfirth:geo:-1.7860824573628,53.572496509564
END:VEVENT
BEGIN:VEVENT
DTSTART;TZID=Europe/London:20281227T123000
DTEND;TZID=Europe/London:20281227T153000
DTSTAMP:20260424T161727
CREATED:20250603T105651Z
LAST-MODIFIED:20260306T142938Z
UID:10009179-1861533000-1861543800@thecivicholmfirth.org
SUMMARY:U3A Pickleball
DESCRIPTION:
URL:https://thecivicholmfirth.org/events/u3a-pickleball-2-2/2028-12-27/
LOCATION:The Civic Holmfirth\, Huddersfield Road\, Holmfirth\, HD9 3AS
CATEGORIES:Clubs & Classes
ATTACH;FMTTYPE=image/jpeg:https://thecivicholmfirth.org/wp-content/uploads/2024/01/Picture1.jpg
GEO:53.572496509564;-1.7860824573628
X-APPLE-STRUCTURED-LOCATION;VALUE=URI;X-ADDRESS=The Civic Holmfirth Huddersfield Road Holmfirth HD9 3AS;X-APPLE-RADIUS=500;X-TITLE=Huddersfield Road:geo:-1.7860824573628,53.572496509564
END:VEVENT
BEGIN:VEVENT
DTSTART;TZID=Europe/London:20281227T190000
DTEND;TZID=Europe/London:20281227T210000
DTSTAMP:20260424T161727
CREATED:20260306T110827Z
LAST-MODIFIED:20260306T114832Z
UID:10012111-1861556400-1861563600@thecivicholmfirth.org
SUMMARY:Huddersfield Samba
DESCRIPTION:
URL:https://thecivicholmfirth.org/events/huddersfield-samba/2028-12-27/
LOCATION:Reception Room
CATEGORIES:Clubs & Classes
ATTACH;FMTTYPE=image/jpeg:https://thecivicholmfirth.org/wp-content/uploads/2026/03/image.jpg
ORGANIZER;CN="Huddersfield Samba":MAILTO:hello@huddersfieldsamba.co.uk
END:VEVENT
BEGIN:VEVENT
DTSTART;TZID=Europe/London:20281227T193000
DTEND;TZID=Europe/London:20281227T220000
DTSTAMP:20260424T161727
CREATED:20260330T135950Z
LAST-MODIFIED:20260330T140139Z
UID:10010148-1861558200-1861567200@thecivicholmfirth.org
SUMMARY:Holmfirth Jive Dance Club
DESCRIPTION:
URL:https://thecivicholmfirth.org/events/vibejive-dance-club-2-2/2028-12-27/
LOCATION:Large Hall\, The Civic Holmfirth\, Holmfirth\, HD9 3AS\, United Kingdom
CATEGORIES:Clubs & Classes
ATTACH;FMTTYPE=image/jpeg:https://thecivicholmfirth.org/wp-content/uploads/2025/02/holmfirth-jive.jpg
GEO:53.572496509564;-1.7860824573628
X-APPLE-STRUCTURED-LOCATION;VALUE=URI;X-ADDRESS=Large Hall The Civic Holmfirth Holmfirth HD9 3AS United Kingdom;X-APPLE-RADIUS=500;X-TITLE=The Civic Holmfirth:geo:-1.7860824573628,53.572496509564
END:VEVENT
BEGIN:VEVENT
DTSTART;TZID=Europe/London:20281229T093000
DTEND;TZID=Europe/London:20281229T113000
DTSTAMP:20260424T161727
CREATED:20210407T104909Z
LAST-MODIFIED:20260306T104302Z
UID:10006696-1861695000-1861702200@thecivicholmfirth.org
SUMMARY:Ladies Badminton
DESCRIPTION:
URL:https://thecivicholmfirth.org/events/ladies-badminton/2028-12-29/
LOCATION:Large Hall\, The Civic Holmfirth\, Holmfirth\, HD9 3AS\, United Kingdom
CATEGORIES:Clubs & Classes
ATTACH;FMTTYPE=image/jpeg:https://thecivicholmfirth.org/wp-content/uploads/2021/04/Ladies-Badminton.jpg
GEO:53.572496509564;-1.7860824573628
X-APPLE-STRUCTURED-LOCATION;VALUE=URI;X-ADDRESS=Large Hall The Civic Holmfirth Holmfirth HD9 3AS United Kingdom;X-APPLE-RADIUS=500;X-TITLE=The Civic Holmfirth:geo:-1.7860824573628,53.572496509564
END:VEVENT
BEGIN:VEVENT
DTSTART;TZID=Europe/London:20290101T100000
DTEND;TZID=Europe/London:20290101T110000
DTSTAMP:20260424T161727
CREATED:20240716T111208Z
LAST-MODIFIED:20260205T134807Z
UID:10011790-1861956000-1861959600@thecivicholmfirth.org
SUMMARY:Monday Movers Low Impact Dancercise
DESCRIPTION:
URL:https://thecivicholmfirth.org/events/monday-movers/2029-01-01/
LOCATION:Large Hall\, The Civic Holmfirth\, Holmfirth\, HD9 3AS\, United Kingdom
CATEGORIES:Clubs & Classes
ATTACH;FMTTYPE=image/png:https://thecivicholmfirth.org/wp-content/uploads/2024/07/image-3.png
GEO:53.572496509564;-1.7860824573628
X-APPLE-STRUCTURED-LOCATION;VALUE=URI;X-ADDRESS=Large Hall The Civic Holmfirth Holmfirth HD9 3AS United Kingdom;X-APPLE-RADIUS=500;X-TITLE=The Civic Holmfirth:geo:-1.7860824573628,53.572496509564
END:VEVENT
BEGIN:VEVENT
DTSTART;TZID=Europe/London:20290101T111500
DTEND;TZID=Europe/London:20290101T121500
DTSTAMP:20260424T161727
CREATED:20240719T092024Z
LAST-MODIFIED:20240719T092024Z
UID:10008211-1861960500-1861964100@thecivicholmfirth.org
SUMMARY:Holistic Fusion Class
DESCRIPTION:
URL:https://thecivicholmfirth.org/events/holistic-fusion-class/2029-01-01/
LOCATION:The Civic Holmfirth\, Huddersfield Road\, Holmfirth\, HD9 3AS
CATEGORIES:Clubs & Classes
ATTACH;FMTTYPE=image/jpeg:https://thecivicholmfirth.org/wp-content/uploads/2024/07/Holistic-Fusion-photo.jpg
GEO:53.572496509564;-1.7860824573628
X-APPLE-STRUCTURED-LOCATION;VALUE=URI;X-ADDRESS=The Civic Holmfirth Huddersfield Road Holmfirth HD9 3AS;X-APPLE-RADIUS=500;X-TITLE=Huddersfield Road:geo:-1.7860824573628,53.572496509564
END:VEVENT
BEGIN:VEVENT
DTSTART;TZID=Europe/London:20290101T113000
DTEND;TZID=Europe/London:20290101T130000
DTSTAMP:20260424T161727
CREATED:20251008T161259Z
LAST-MODIFIED:20251008T161259Z
UID:10011294-1861961400-1861966800@thecivicholmfirth.org
SUMMARY:Holmfirth Community Lunch Club
DESCRIPTION:
URL:https://thecivicholmfirth.org/events/holmfirth-community-lunch-club/2029-01-01/
LOCATION:Reception Room
CATEGORIES:Clubs & Classes
ATTACH;FMTTYPE=image/jpeg:https://thecivicholmfirth.org/wp-content/uploads/2025/10/HV-Logo.jpg
ORGANIZER;CN="Royal Voluntary Service - Holme Valley":MAILTO:holmfirthlunchclub@royalvoluntaryservice.org.uk
END:VEVENT
BEGIN:VEVENT
DTSTART;TZID=Europe/London:20290101T183000
DTEND;TZID=Europe/London:20290101T193000
DTSTAMP:20260424T161727
CREATED:20250507T111548Z
LAST-MODIFIED:20250507T111551Z
UID:10006699-1861986600-1861990200@thecivicholmfirth.org
SUMMARY:Pilates -  Beginners & Mixed Ability
DESCRIPTION:
URL:https://thecivicholmfirth.org/events/beginners-pilates-talkactive-2-2/2029-01-01/
LOCATION:Lesser Hall\, The Civic Holmfirth\, Holmfirth\, HD9 3AS
CATEGORIES:Clubs & Classes
ATTACH;FMTTYPE=image/jpeg:https://thecivicholmfirth.org/wp-content/uploads/2021/04/Tak-Active-Modern-Pilates.jpg
ORGANIZER;CN="Julie Edwards":MAILTO:julieedwardsmail@gmail.com
GEO:53.572496509564;-1.7860824573628
X-APPLE-STRUCTURED-LOCATION;VALUE=URI;X-ADDRESS=Lesser Hall The Civic Holmfirth Holmfirth HD9 3AS;X-APPLE-RADIUS=500;X-TITLE=The Civic Holmfirth:geo:-1.7860824573628,53.572496509564
END:VEVENT
BEGIN:VEVENT
DTSTART;TZID=Europe/London:20290101T183000
DTEND;TZID=Europe/London:20290101T203000
DTSTAMP:20260424T161727
CREATED:20230104T144220Z
LAST-MODIFIED:20230105T113141Z
UID:10006700-1861986600-1861993800@thecivicholmfirth.org
SUMMARY:Netherthong Badminton
DESCRIPTION:
URL:https://thecivicholmfirth.org/events/netherthong-badminton/2029-01-01/
LOCATION:Large Hall\, The Civic Holmfirth\, Holmfirth\, HD9 3AS\, United Kingdom
CATEGORIES:Clubs & Classes
ATTACH;FMTTYPE=image/jpeg:https://thecivicholmfirth.org/wp-content/uploads/2021/04/Ladies-Badminton.jpg
GEO:53.572496509564;-1.7860824573628
X-APPLE-STRUCTURED-LOCATION;VALUE=URI;X-ADDRESS=Large Hall The Civic Holmfirth Holmfirth HD9 3AS United Kingdom;X-APPLE-RADIUS=500;X-TITLE=The Civic Holmfirth:geo:-1.7860824573628,53.572496509564
END:VEVENT
BEGIN:VEVENT
DTSTART;TZID=Europe/London:20290101T193000
DTEND;TZID=Europe/London:20290101T203000
DTSTAMP:20260424T161727
CREATED:20250507T111420Z
LAST-MODIFIED:20250507T111423Z
UID:10006701-1861990200-1861993800@thecivicholmfirth.org
SUMMARY:Pilates – Improvers
DESCRIPTION:
URL:https://thecivicholmfirth.org/events/pilates-improvers-2-2/2029-01-01/
LOCATION:Lesser Hall\, The Civic Holmfirth\, Holmfirth\, HD9 3AS
CATEGORIES:Clubs & Classes
ATTACH;FMTTYPE=image/jpeg:https://thecivicholmfirth.org/wp-content/uploads/2021/04/Improvers-Pilates.jpg
ORGANIZER;CN="Julie Edwards":MAILTO:julieedwardsmail@gmail.com
GEO:53.572496509564;-1.7860824573628
X-APPLE-STRUCTURED-LOCATION;VALUE=URI;X-ADDRESS=Lesser Hall The Civic Holmfirth Holmfirth HD9 3AS;X-APPLE-RADIUS=500;X-TITLE=The Civic Holmfirth:geo:-1.7860824573628,53.572496509564
END:VEVENT
BEGIN:VEVENT
DTSTART;TZID=Europe/London:20290102T200000
DTEND;TZID=Europe/London:20290102T213000
DTSTAMP:20260424T161727
CREATED:20210407T103151Z
LAST-MODIFIED:20230712T102236Z
UID:10006703-1862078400-1862083800@thecivicholmfirth.org
SUMMARY:Holmfirth Badminton Club
DESCRIPTION:
URL:https://thecivicholmfirth.org/events/holmfirth-badminton-club/2029-01-02/
LOCATION:Large Hall\, The Civic Holmfirth\, Holmfirth\, HD9 3AS\, United Kingdom
CATEGORIES:Clubs & Classes
ATTACH;FMTTYPE=image/jpeg:https://thecivicholmfirth.org/wp-content/uploads/2021/04/Badminton-Netherthong-BC.jpg
GEO:53.572496509564;-1.7860824573628
X-APPLE-STRUCTURED-LOCATION;VALUE=URI;X-ADDRESS=Large Hall The Civic Holmfirth Holmfirth HD9 3AS United Kingdom;X-APPLE-RADIUS=500;X-TITLE=The Civic Holmfirth:geo:-1.7860824573628,53.572496509564
END:VEVENT
BEGIN:VEVENT
DTSTART;TZID=Europe/London:20290103T100000
DTEND;TZID=Europe/London:20290103T110000
DTSTAMP:20260424T161727
CREATED:20250725T105111Z
LAST-MODIFIED:20250725T105112Z
UID:10011011-1862128800-1862132400@thecivicholmfirth.org
SUMMARY:Zumba Gold
DESCRIPTION:
URL:https://thecivicholmfirth.org/events/zumba-gold-2/2029-01-03/
LOCATION:The Civic Holmfirth\, Huddersfield Road\, Holmfirth\, HD9 3AS
CATEGORIES:Clubs & Classes
ATTACH;FMTTYPE=image/jpeg:https://thecivicholmfirth.org/wp-content/uploads/2025/06/zumba_gold_logo_color.jpg
GEO:53.572496509564;-1.7860824573628
X-APPLE-STRUCTURED-LOCATION;VALUE=URI;X-ADDRESS=The Civic Holmfirth Huddersfield Road Holmfirth HD9 3AS;X-APPLE-RADIUS=500;X-TITLE=Huddersfield Road:geo:-1.7860824573628,53.572496509564
END:VEVENT
BEGIN:VEVENT
DTSTART;TZID=Europe/London:20290103T111500
DTEND;TZID=Europe/London:20290103T121500
DTSTAMP:20260424T161727
CREATED:20240206T112405Z
LAST-MODIFIED:20250807T110805Z
UID:10006704-1862133300-1862136900@thecivicholmfirth.org
SUMMARY:Mixed Ability Pilates
DESCRIPTION:
URL:https://thecivicholmfirth.org/events/mixed-ability-pilates-2/2029-01-03/
LOCATION:Lesser Hall\, The Civic Holmfirth\, Holmfirth\, HD9 3AS
CATEGORIES:Clubs & Classes
ATTACH;FMTTYPE=image/jpeg:https://thecivicholmfirth.org/wp-content/uploads/2021/04/Tak-Active-Modern-Pilates.jpg
ORGANIZER;CN="Karen Flynn":MAILTO:physiokaren76@gmail.com
GEO:53.572496509564;-1.7860824573628
X-APPLE-STRUCTURED-LOCATION;VALUE=URI;X-ADDRESS=Lesser Hall The Civic Holmfirth Holmfirth HD9 3AS;X-APPLE-RADIUS=500;X-TITLE=The Civic Holmfirth:geo:-1.7860824573628,53.572496509564
END:VEVENT
END:VCALENDAR