BEGIN:VCALENDAR
VERSION:2.0
PRODID:-//The Civic, Holmfirth - ECPv6.15.20//NONSGML v1.0//EN
CALSCALE:GREGORIAN
METHOD:PUBLISH
X-WR-CALNAME:The Civic, Holmfirth
X-ORIGINAL-URL:https://thecivicholmfirth.org
X-WR-CALDESC:Events for The Civic, Holmfirth
REFRESH-INTERVAL;VALUE=DURATION:PT1H
X-Robots-Tag:noindex
X-PUBLISHED-TTL:PT1H
BEGIN:VTIMEZONE
TZID:Europe/London
BEGIN:DAYLIGHT
TZOFFSETFROM:+0000
TZOFFSETTO:+0100
TZNAME:BST
DTSTART:20270328T010000
END:DAYLIGHT
BEGIN:STANDARD
TZOFFSETFROM:+0100
TZOFFSETTO:+0000
TZNAME:GMT
DTSTART:20271031T010000
END:STANDARD
BEGIN:DAYLIGHT
TZOFFSETFROM:+0000
TZOFFSETTO:+0100
TZNAME:BST
DTSTART:20280326T010000
END:DAYLIGHT
BEGIN:STANDARD
TZOFFSETFROM:+0100
TZOFFSETTO:+0000
TZNAME:GMT
DTSTART:20281029T010000
END:STANDARD
BEGIN:DAYLIGHT
TZOFFSETFROM:+0000
TZOFFSETTO:+0100
TZNAME:BST
DTSTART:20290325T010000
END:DAYLIGHT
BEGIN:STANDARD
TZOFFSETFROM:+0100
TZOFFSETTO:+0000
TZNAME:GMT
DTSTART:20291028T010000
END:STANDARD
END:VTIMEZONE
BEGIN:VEVENT
DTSTART;TZID=Europe/London:20281011T100000
DTEND;TZID=Europe/London:20281011T110000
DTSTAMP:20260424T014008
CREATED:20250725T105111Z
LAST-MODIFIED:20250725T105112Z
UID:10010999-1854871200-1854874800@thecivicholmfirth.org
SUMMARY:Zumba Gold
DESCRIPTION:
URL:https://thecivicholmfirth.org/events/zumba-gold-2/2028-10-11/
LOCATION:The Civic Holmfirth\, Huddersfield Road\, Holmfirth\, HD9 3AS
CATEGORIES:Clubs & Classes
ATTACH;FMTTYPE=image/jpeg:https://thecivicholmfirth.org/wp-content/uploads/2025/06/zumba_gold_logo_color.jpg
GEO:53.572496509564;-1.7860824573628
X-APPLE-STRUCTURED-LOCATION;VALUE=URI;X-ADDRESS=The Civic Holmfirth Huddersfield Road Holmfirth HD9 3AS;X-APPLE-RADIUS=500;X-TITLE=Huddersfield Road:geo:-1.7860824573628,53.572496509564
END:VEVENT
BEGIN:VEVENT
DTSTART;TZID=Europe/London:20281011T111500
DTEND;TZID=Europe/London:20281011T121500
DTSTAMP:20260424T014008
CREATED:20240206T112405Z
LAST-MODIFIED:20250807T110805Z
UID:10006257-1854875700-1854879300@thecivicholmfirth.org
SUMMARY:Mixed Ability Pilates
DESCRIPTION:
URL:https://thecivicholmfirth.org/events/mixed-ability-pilates-2/2028-10-11/
LOCATION:Lesser Hall\, The Civic Holmfirth\, Holmfirth\, HD9 3AS
CATEGORIES:Clubs & Classes
ATTACH;FMTTYPE=image/jpeg:https://thecivicholmfirth.org/wp-content/uploads/2021/04/Tak-Active-Modern-Pilates.jpg
ORGANIZER;CN="Karen Flynn":MAILTO:physiokaren76@gmail.com
GEO:53.572496509564;-1.7860824573628
X-APPLE-STRUCTURED-LOCATION;VALUE=URI;X-ADDRESS=Lesser Hall The Civic Holmfirth Holmfirth HD9 3AS;X-APPLE-RADIUS=500;X-TITLE=The Civic Holmfirth:geo:-1.7860824573628,53.572496509564
END:VEVENT
BEGIN:VEVENT
DTSTART;TZID=Europe/London:20281011T123000
DTEND;TZID=Europe/London:20281011T153000
DTSTAMP:20260424T014008
CREATED:20250603T105651Z
LAST-MODIFIED:20260306T142938Z
UID:10009168-1854880200-1854891000@thecivicholmfirth.org
SUMMARY:U3A Pickleball
DESCRIPTION:
URL:https://thecivicholmfirth.org/events/u3a-pickleball-2-2/2028-10-11/
LOCATION:The Civic Holmfirth\, Huddersfield Road\, Holmfirth\, HD9 3AS
CATEGORIES:Clubs & Classes
ATTACH;FMTTYPE=image/jpeg:https://thecivicholmfirth.org/wp-content/uploads/2024/01/Picture1.jpg
GEO:53.572496509564;-1.7860824573628
X-APPLE-STRUCTURED-LOCATION;VALUE=URI;X-ADDRESS=The Civic Holmfirth Huddersfield Road Holmfirth HD9 3AS;X-APPLE-RADIUS=500;X-TITLE=Huddersfield Road:geo:-1.7860824573628,53.572496509564
END:VEVENT
BEGIN:VEVENT
DTSTART;TZID=Europe/London:20281011T190000
DTEND;TZID=Europe/London:20281011T210000
DTSTAMP:20260424T014008
CREATED:20260306T110827Z
LAST-MODIFIED:20260306T114832Z
UID:10012100-1854903600-1854910800@thecivicholmfirth.org
SUMMARY:Huddersfield Samba
DESCRIPTION:
URL:https://thecivicholmfirth.org/events/huddersfield-samba/2028-10-11/
LOCATION:Reception Room
CATEGORIES:Clubs & Classes
ATTACH;FMTTYPE=image/jpeg:https://thecivicholmfirth.org/wp-content/uploads/2026/03/image.jpg
ORGANIZER;CN="Huddersfield Samba":MAILTO:hello@huddersfieldsamba.co.uk
END:VEVENT
BEGIN:VEVENT
DTSTART;TZID=Europe/London:20281011T193000
DTEND;TZID=Europe/London:20281011T220000
DTSTAMP:20260424T014008
CREATED:20260330T135950Z
LAST-MODIFIED:20260330T140139Z
UID:10010137-1854905400-1854914400@thecivicholmfirth.org
SUMMARY:Holmfirth Jive Dance Club
DESCRIPTION:
URL:https://thecivicholmfirth.org/events/vibejive-dance-club-2-2/2028-10-11/
LOCATION:Large Hall\, The Civic Holmfirth\, Holmfirth\, HD9 3AS\, United Kingdom
CATEGORIES:Clubs & Classes
ATTACH;FMTTYPE=image/jpeg:https://thecivicholmfirth.org/wp-content/uploads/2025/02/holmfirth-jive.jpg
GEO:53.572496509564;-1.7860824573628
X-APPLE-STRUCTURED-LOCATION;VALUE=URI;X-ADDRESS=Large Hall The Civic Holmfirth Holmfirth HD9 3AS United Kingdom;X-APPLE-RADIUS=500;X-TITLE=The Civic Holmfirth:geo:-1.7860824573628,53.572496509564
END:VEVENT
BEGIN:VEVENT
DTSTART;TZID=Europe/London:20281012T193000
DTEND;TZID=Europe/London:20281012T210000
DTSTAMP:20260424T014008
CREATED:20260306T123249Z
LAST-MODIFIED:20260306T123249Z
UID:10012322-1854991800-1854997200@thecivicholmfirth.org
SUMMARY:Holmfirth Local History Group
DESCRIPTION:
URL:https://thecivicholmfirth.org/events/holmfirth-local-history-group/2028-10-12/
LOCATION:Exhibition Room
CATEGORIES:Clubs & Classes
ATTACH;FMTTYPE=image/png:https://thecivicholmfirth.org/wp-content/uploads/2026/03/cropped-HolmfirthArms-1-300x300-1.png
END:VEVENT
BEGIN:VEVENT
DTSTART;TZID=Europe/London:20281013T093000
DTEND;TZID=Europe/London:20281013T113000
DTSTAMP:20260424T014008
CREATED:20210407T104909Z
LAST-MODIFIED:20260306T104302Z
UID:10006261-1855042200-1855049400@thecivicholmfirth.org
SUMMARY:Ladies Badminton
DESCRIPTION:
URL:https://thecivicholmfirth.org/events/ladies-badminton/2028-10-13/
LOCATION:Large Hall\, The Civic Holmfirth\, Holmfirth\, HD9 3AS\, United Kingdom
CATEGORIES:Clubs & Classes
ATTACH;FMTTYPE=image/jpeg:https://thecivicholmfirth.org/wp-content/uploads/2021/04/Ladies-Badminton.jpg
GEO:53.572496509564;-1.7860824573628
X-APPLE-STRUCTURED-LOCATION;VALUE=URI;X-ADDRESS=Large Hall The Civic Holmfirth Holmfirth HD9 3AS United Kingdom;X-APPLE-RADIUS=500;X-TITLE=The Civic Holmfirth:geo:-1.7860824573628,53.572496509564
END:VEVENT
BEGIN:VEVENT
DTSTART;TZID=Europe/London:20281016T100000
DTEND;TZID=Europe/London:20281016T110000
DTSTAMP:20260424T014008
CREATED:20240716T111208Z
LAST-MODIFIED:20260205T134807Z
UID:10011779-1855303200-1855306800@thecivicholmfirth.org
SUMMARY:Monday Movers Low Impact Dancercise
DESCRIPTION:
URL:https://thecivicholmfirth.org/events/monday-movers/2028-10-16/
LOCATION:Large Hall\, The Civic Holmfirth\, Holmfirth\, HD9 3AS\, United Kingdom
CATEGORIES:Clubs & Classes
ATTACH;FMTTYPE=image/png:https://thecivicholmfirth.org/wp-content/uploads/2024/07/image-3.png
GEO:53.572496509564;-1.7860824573628
X-APPLE-STRUCTURED-LOCATION;VALUE=URI;X-ADDRESS=Large Hall The Civic Holmfirth Holmfirth HD9 3AS United Kingdom;X-APPLE-RADIUS=500;X-TITLE=The Civic Holmfirth:geo:-1.7860824573628,53.572496509564
END:VEVENT
BEGIN:VEVENT
DTSTART;TZID=Europe/London:20281016T111500
DTEND;TZID=Europe/London:20281016T121500
DTSTAMP:20260424T014008
CREATED:20240719T092024Z
LAST-MODIFIED:20240719T092024Z
UID:10008200-1855307700-1855311300@thecivicholmfirth.org
SUMMARY:Holistic Fusion Class
DESCRIPTION:
URL:https://thecivicholmfirth.org/events/holistic-fusion-class/2028-10-16/
LOCATION:The Civic Holmfirth\, Huddersfield Road\, Holmfirth\, HD9 3AS
CATEGORIES:Clubs & Classes
ATTACH;FMTTYPE=image/jpeg:https://thecivicholmfirth.org/wp-content/uploads/2024/07/Holistic-Fusion-photo.jpg
GEO:53.572496509564;-1.7860824573628
X-APPLE-STRUCTURED-LOCATION;VALUE=URI;X-ADDRESS=The Civic Holmfirth Huddersfield Road Holmfirth HD9 3AS;X-APPLE-RADIUS=500;X-TITLE=Huddersfield Road:geo:-1.7860824573628,53.572496509564
END:VEVENT
BEGIN:VEVENT
DTSTART;TZID=Europe/London:20281016T113000
DTEND;TZID=Europe/London:20281016T130000
DTSTAMP:20260424T014008
CREATED:20251008T161259Z
LAST-MODIFIED:20251008T161259Z
UID:10011283-1855308600-1855314000@thecivicholmfirth.org
SUMMARY:Holmfirth Community Lunch Club
DESCRIPTION:
URL:https://thecivicholmfirth.org/events/holmfirth-community-lunch-club/2028-10-16/
LOCATION:Reception Room
CATEGORIES:Clubs & Classes
ATTACH;FMTTYPE=image/jpeg:https://thecivicholmfirth.org/wp-content/uploads/2025/10/HV-Logo.jpg
ORGANIZER;CN="Royal Voluntary Service - Holme Valley":MAILTO:holmfirthlunchclub@royalvoluntaryservice.org.uk
END:VEVENT
BEGIN:VEVENT
DTSTART;TZID=Europe/London:20281016T183000
DTEND;TZID=Europe/London:20281016T193000
DTSTAMP:20260424T014008
CREATED:20250507T111548Z
LAST-MODIFIED:20250507T111551Z
UID:10006263-1855333800-1855337400@thecivicholmfirth.org
SUMMARY:Pilates -  Beginners & Mixed Ability
DESCRIPTION:
URL:https://thecivicholmfirth.org/events/beginners-pilates-talkactive-2-2/2028-10-16/
LOCATION:Lesser Hall\, The Civic Holmfirth\, Holmfirth\, HD9 3AS
CATEGORIES:Clubs & Classes
ATTACH;FMTTYPE=image/jpeg:https://thecivicholmfirth.org/wp-content/uploads/2021/04/Tak-Active-Modern-Pilates.jpg
ORGANIZER;CN="Julie Edwards":MAILTO:julieedwardsmail@gmail.com
GEO:53.572496509564;-1.7860824573628
X-APPLE-STRUCTURED-LOCATION;VALUE=URI;X-ADDRESS=Lesser Hall The Civic Holmfirth Holmfirth HD9 3AS;X-APPLE-RADIUS=500;X-TITLE=The Civic Holmfirth:geo:-1.7860824573628,53.572496509564
END:VEVENT
BEGIN:VEVENT
DTSTART;TZID=Europe/London:20281016T183000
DTEND;TZID=Europe/London:20281016T203000
DTSTAMP:20260424T014008
CREATED:20230104T144220Z
LAST-MODIFIED:20230105T113141Z
UID:10006617-1855333800-1855341000@thecivicholmfirth.org
SUMMARY:Netherthong Badminton
DESCRIPTION:
URL:https://thecivicholmfirth.org/events/netherthong-badminton/2028-10-16/
LOCATION:Large Hall\, The Civic Holmfirth\, Holmfirth\, HD9 3AS\, United Kingdom
CATEGORIES:Clubs & Classes
ATTACH;FMTTYPE=image/jpeg:https://thecivicholmfirth.org/wp-content/uploads/2021/04/Ladies-Badminton.jpg
GEO:53.572496509564;-1.7860824573628
X-APPLE-STRUCTURED-LOCATION;VALUE=URI;X-ADDRESS=Large Hall The Civic Holmfirth Holmfirth HD9 3AS United Kingdom;X-APPLE-RADIUS=500;X-TITLE=The Civic Holmfirth:geo:-1.7860824573628,53.572496509564
END:VEVENT
BEGIN:VEVENT
DTSTART;TZID=Europe/London:20281016T193000
DTEND;TZID=Europe/London:20281016T203000
DTSTAMP:20260424T014008
CREATED:20250507T111420Z
LAST-MODIFIED:20250507T111423Z
UID:10006264-1855337400-1855341000@thecivicholmfirth.org
SUMMARY:Pilates – Improvers
DESCRIPTION:
URL:https://thecivicholmfirth.org/events/pilates-improvers-2-2/2028-10-16/
LOCATION:Lesser Hall\, The Civic Holmfirth\, Holmfirth\, HD9 3AS
CATEGORIES:Clubs & Classes
ATTACH;FMTTYPE=image/jpeg:https://thecivicholmfirth.org/wp-content/uploads/2021/04/Improvers-Pilates.jpg
ORGANIZER;CN="Julie Edwards":MAILTO:julieedwardsmail@gmail.com
GEO:53.572496509564;-1.7860824573628
X-APPLE-STRUCTURED-LOCATION;VALUE=URI;X-ADDRESS=Lesser Hall The Civic Holmfirth Holmfirth HD9 3AS;X-APPLE-RADIUS=500;X-TITLE=The Civic Holmfirth:geo:-1.7860824573628,53.572496509564
END:VEVENT
BEGIN:VEVENT
DTSTART;TZID=Europe/London:20281017T200000
DTEND;TZID=Europe/London:20281017T213000
DTSTAMP:20260424T014008
CREATED:20210407T103151Z
LAST-MODIFIED:20230712T102236Z
UID:10006268-1855425600-1855431000@thecivicholmfirth.org
SUMMARY:Holmfirth Badminton Club
DESCRIPTION:
URL:https://thecivicholmfirth.org/events/holmfirth-badminton-club/2028-10-17/
LOCATION:Large Hall\, The Civic Holmfirth\, Holmfirth\, HD9 3AS\, United Kingdom
CATEGORIES:Clubs & Classes
ATTACH;FMTTYPE=image/jpeg:https://thecivicholmfirth.org/wp-content/uploads/2021/04/Badminton-Netherthong-BC.jpg
GEO:53.572496509564;-1.7860824573628
X-APPLE-STRUCTURED-LOCATION;VALUE=URI;X-ADDRESS=Large Hall The Civic Holmfirth Holmfirth HD9 3AS United Kingdom;X-APPLE-RADIUS=500;X-TITLE=The Civic Holmfirth:geo:-1.7860824573628,53.572496509564
END:VEVENT
BEGIN:VEVENT
DTSTART;TZID=Europe/London:20281018T100000
DTEND;TZID=Europe/London:20281018T110000
DTSTAMP:20260424T014008
CREATED:20250725T105111Z
LAST-MODIFIED:20250725T105112Z
UID:10011000-1855476000-1855479600@thecivicholmfirth.org
SUMMARY:Zumba Gold
DESCRIPTION:
URL:https://thecivicholmfirth.org/events/zumba-gold-2/2028-10-18/
LOCATION:The Civic Holmfirth\, Huddersfield Road\, Holmfirth\, HD9 3AS
CATEGORIES:Clubs & Classes
ATTACH;FMTTYPE=image/jpeg:https://thecivicholmfirth.org/wp-content/uploads/2025/06/zumba_gold_logo_color.jpg
GEO:53.572496509564;-1.7860824573628
X-APPLE-STRUCTURED-LOCATION;VALUE=URI;X-ADDRESS=The Civic Holmfirth Huddersfield Road Holmfirth HD9 3AS;X-APPLE-RADIUS=500;X-TITLE=Huddersfield Road:geo:-1.7860824573628,53.572496509564
END:VEVENT
BEGIN:VEVENT
DTSTART;TZID=Europe/London:20281018T111500
DTEND;TZID=Europe/London:20281018T121500
DTSTAMP:20260424T014008
CREATED:20240206T112405Z
LAST-MODIFIED:20250807T110805Z
UID:10006270-1855480500-1855484100@thecivicholmfirth.org
SUMMARY:Mixed Ability Pilates
DESCRIPTION:
URL:https://thecivicholmfirth.org/events/mixed-ability-pilates-2/2028-10-18/
LOCATION:Lesser Hall\, The Civic Holmfirth\, Holmfirth\, HD9 3AS
CATEGORIES:Clubs & Classes
ATTACH;FMTTYPE=image/jpeg:https://thecivicholmfirth.org/wp-content/uploads/2021/04/Tak-Active-Modern-Pilates.jpg
ORGANIZER;CN="Karen Flynn":MAILTO:physiokaren76@gmail.com
GEO:53.572496509564;-1.7860824573628
X-APPLE-STRUCTURED-LOCATION;VALUE=URI;X-ADDRESS=Lesser Hall The Civic Holmfirth Holmfirth HD9 3AS;X-APPLE-RADIUS=500;X-TITLE=The Civic Holmfirth:geo:-1.7860824573628,53.572496509564
END:VEVENT
BEGIN:VEVENT
DTSTART;TZID=Europe/London:20281018T123000
DTEND;TZID=Europe/London:20281018T153000
DTSTAMP:20260424T014008
CREATED:20250603T105651Z
LAST-MODIFIED:20260306T142938Z
UID:10009169-1855485000-1855495800@thecivicholmfirth.org
SUMMARY:U3A Pickleball
DESCRIPTION:
URL:https://thecivicholmfirth.org/events/u3a-pickleball-2-2/2028-10-18/
LOCATION:The Civic Holmfirth\, Huddersfield Road\, Holmfirth\, HD9 3AS
CATEGORIES:Clubs & Classes
ATTACH;FMTTYPE=image/jpeg:https://thecivicholmfirth.org/wp-content/uploads/2024/01/Picture1.jpg
GEO:53.572496509564;-1.7860824573628
X-APPLE-STRUCTURED-LOCATION;VALUE=URI;X-ADDRESS=The Civic Holmfirth Huddersfield Road Holmfirth HD9 3AS;X-APPLE-RADIUS=500;X-TITLE=Huddersfield Road:geo:-1.7860824573628,53.572496509564
END:VEVENT
BEGIN:VEVENT
DTSTART;TZID=Europe/London:20281018T190000
DTEND;TZID=Europe/London:20281018T210000
DTSTAMP:20260424T014008
CREATED:20260306T110827Z
LAST-MODIFIED:20260306T114832Z
UID:10012101-1855508400-1855515600@thecivicholmfirth.org
SUMMARY:Huddersfield Samba
DESCRIPTION:
URL:https://thecivicholmfirth.org/events/huddersfield-samba/2028-10-18/
LOCATION:Reception Room
CATEGORIES:Clubs & Classes
ATTACH;FMTTYPE=image/jpeg:https://thecivicholmfirth.org/wp-content/uploads/2026/03/image.jpg
ORGANIZER;CN="Huddersfield Samba":MAILTO:hello@huddersfieldsamba.co.uk
END:VEVENT
BEGIN:VEVENT
DTSTART;TZID=Europe/London:20281018T193000
DTEND;TZID=Europe/London:20281018T220000
DTSTAMP:20260424T014008
CREATED:20260330T135950Z
LAST-MODIFIED:20260330T140139Z
UID:10010138-1855510200-1855519200@thecivicholmfirth.org
SUMMARY:Holmfirth Jive Dance Club
DESCRIPTION:
URL:https://thecivicholmfirth.org/events/vibejive-dance-club-2-2/2028-10-18/
LOCATION:Large Hall\, The Civic Holmfirth\, Holmfirth\, HD9 3AS\, United Kingdom
CATEGORIES:Clubs & Classes
ATTACH;FMTTYPE=image/jpeg:https://thecivicholmfirth.org/wp-content/uploads/2025/02/holmfirth-jive.jpg
GEO:53.572496509564;-1.7860824573628
X-APPLE-STRUCTURED-LOCATION;VALUE=URI;X-ADDRESS=Large Hall The Civic Holmfirth Holmfirth HD9 3AS United Kingdom;X-APPLE-RADIUS=500;X-TITLE=The Civic Holmfirth:geo:-1.7860824573628,53.572496509564
END:VEVENT
BEGIN:VEVENT
DTSTART;TZID=Europe/London:20281019T193000
DTEND;TZID=Europe/London:20281019T210000
DTSTAMP:20260424T014008
CREATED:20260306T121731Z
LAST-MODIFIED:20260306T121731Z
UID:10012262-1855596600-1855602000@thecivicholmfirth.org
SUMMARY:Holme Valley Civic Society
DESCRIPTION:
URL:https://thecivicholmfirth.org/events/holme-valley-civic-society/2028-10-19/
LOCATION:Lesser Hall\, The Civic Holmfirth\, Holmfirth\, HD9 3AS
CATEGORIES:Clubs & Classes
ATTACH;FMTTYPE=image/jpeg:https://thecivicholmfirth.org/wp-content/uploads/2026/03/March-2026.jpg
GEO:53.572496509564;-1.7860824573628
X-APPLE-STRUCTURED-LOCATION;VALUE=URI;X-ADDRESS=Lesser Hall The Civic Holmfirth Holmfirth HD9 3AS;X-APPLE-RADIUS=500;X-TITLE=The Civic Holmfirth:geo:-1.7860824573628,53.572496509564
END:VEVENT
BEGIN:VEVENT
DTSTART;TZID=Europe/London:20281020T093000
DTEND;TZID=Europe/London:20281020T113000
DTSTAMP:20260424T014008
CREATED:20210407T104909Z
LAST-MODIFIED:20260306T104302Z
UID:10006271-1855647000-1855654200@thecivicholmfirth.org
SUMMARY:Ladies Badminton
DESCRIPTION:
URL:https://thecivicholmfirth.org/events/ladies-badminton/2028-10-20/
LOCATION:Large Hall\, The Civic Holmfirth\, Holmfirth\, HD9 3AS\, United Kingdom
CATEGORIES:Clubs & Classes
ATTACH;FMTTYPE=image/jpeg:https://thecivicholmfirth.org/wp-content/uploads/2021/04/Ladies-Badminton.jpg
GEO:53.572496509564;-1.7860824573628
X-APPLE-STRUCTURED-LOCATION;VALUE=URI;X-ADDRESS=Large Hall The Civic Holmfirth Holmfirth HD9 3AS United Kingdom;X-APPLE-RADIUS=500;X-TITLE=The Civic Holmfirth:geo:-1.7860824573628,53.572496509564
END:VEVENT
BEGIN:VEVENT
DTSTART;TZID=Europe/London:20281023T100000
DTEND;TZID=Europe/London:20281023T110000
DTSTAMP:20260424T014008
CREATED:20240716T111208Z
LAST-MODIFIED:20260205T134807Z
UID:10011780-1855908000-1855911600@thecivicholmfirth.org
SUMMARY:Monday Movers Low Impact Dancercise
DESCRIPTION:
URL:https://thecivicholmfirth.org/events/monday-movers/2028-10-23/
LOCATION:Large Hall\, The Civic Holmfirth\, Holmfirth\, HD9 3AS\, United Kingdom
CATEGORIES:Clubs & Classes
ATTACH;FMTTYPE=image/png:https://thecivicholmfirth.org/wp-content/uploads/2024/07/image-3.png
GEO:53.572496509564;-1.7860824573628
X-APPLE-STRUCTURED-LOCATION;VALUE=URI;X-ADDRESS=Large Hall The Civic Holmfirth Holmfirth HD9 3AS United Kingdom;X-APPLE-RADIUS=500;X-TITLE=The Civic Holmfirth:geo:-1.7860824573628,53.572496509564
END:VEVENT
BEGIN:VEVENT
DTSTART;TZID=Europe/London:20281023T111500
DTEND;TZID=Europe/London:20281023T121500
DTSTAMP:20260424T014008
CREATED:20240719T092024Z
LAST-MODIFIED:20240719T092024Z
UID:10008201-1855912500-1855916100@thecivicholmfirth.org
SUMMARY:Holistic Fusion Class
DESCRIPTION:
URL:https://thecivicholmfirth.org/events/holistic-fusion-class/2028-10-23/
LOCATION:The Civic Holmfirth\, Huddersfield Road\, Holmfirth\, HD9 3AS
CATEGORIES:Clubs & Classes
ATTACH;FMTTYPE=image/jpeg:https://thecivicholmfirth.org/wp-content/uploads/2024/07/Holistic-Fusion-photo.jpg
GEO:53.572496509564;-1.7860824573628
X-APPLE-STRUCTURED-LOCATION;VALUE=URI;X-ADDRESS=The Civic Holmfirth Huddersfield Road Holmfirth HD9 3AS;X-APPLE-RADIUS=500;X-TITLE=Huddersfield Road:geo:-1.7860824573628,53.572496509564
END:VEVENT
BEGIN:VEVENT
DTSTART;TZID=Europe/London:20281023T113000
DTEND;TZID=Europe/London:20281023T130000
DTSTAMP:20260424T014008
CREATED:20251008T161259Z
LAST-MODIFIED:20251008T161259Z
UID:10011284-1855913400-1855918800@thecivicholmfirth.org
SUMMARY:Holmfirth Community Lunch Club
DESCRIPTION:
URL:https://thecivicholmfirth.org/events/holmfirth-community-lunch-club/2028-10-23/
LOCATION:Reception Room
CATEGORIES:Clubs & Classes
ATTACH;FMTTYPE=image/jpeg:https://thecivicholmfirth.org/wp-content/uploads/2025/10/HV-Logo.jpg
ORGANIZER;CN="Royal Voluntary Service - Holme Valley":MAILTO:holmfirthlunchclub@royalvoluntaryservice.org.uk
END:VEVENT
BEGIN:VEVENT
DTSTART;TZID=Europe/London:20281023T183000
DTEND;TZID=Europe/London:20281023T193000
DTSTAMP:20260424T014009
CREATED:20250507T111548Z
LAST-MODIFIED:20250507T111551Z
UID:10006273-1855938600-1855942200@thecivicholmfirth.org
SUMMARY:Pilates -  Beginners & Mixed Ability
DESCRIPTION:
URL:https://thecivicholmfirth.org/events/beginners-pilates-talkactive-2-2/2028-10-23/
LOCATION:Lesser Hall\, The Civic Holmfirth\, Holmfirth\, HD9 3AS
CATEGORIES:Clubs & Classes
ATTACH;FMTTYPE=image/jpeg:https://thecivicholmfirth.org/wp-content/uploads/2021/04/Tak-Active-Modern-Pilates.jpg
ORGANIZER;CN="Julie Edwards":MAILTO:julieedwardsmail@gmail.com
GEO:53.572496509564;-1.7860824573628
X-APPLE-STRUCTURED-LOCATION;VALUE=URI;X-ADDRESS=Lesser Hall The Civic Holmfirth Holmfirth HD9 3AS;X-APPLE-RADIUS=500;X-TITLE=The Civic Holmfirth:geo:-1.7860824573628,53.572496509564
END:VEVENT
BEGIN:VEVENT
DTSTART;TZID=Europe/London:20281023T183000
DTEND;TZID=Europe/London:20281023T203000
DTSTAMP:20260424T014009
CREATED:20230104T144220Z
LAST-MODIFIED:20230105T113141Z
UID:10006618-1855938600-1855945800@thecivicholmfirth.org
SUMMARY:Netherthong Badminton
DESCRIPTION:
URL:https://thecivicholmfirth.org/events/netherthong-badminton/2028-10-23/
LOCATION:Large Hall\, The Civic Holmfirth\, Holmfirth\, HD9 3AS\, United Kingdom
CATEGORIES:Clubs & Classes
ATTACH;FMTTYPE=image/jpeg:https://thecivicholmfirth.org/wp-content/uploads/2021/04/Ladies-Badminton.jpg
GEO:53.572496509564;-1.7860824573628
X-APPLE-STRUCTURED-LOCATION;VALUE=URI;X-ADDRESS=Large Hall The Civic Holmfirth Holmfirth HD9 3AS United Kingdom;X-APPLE-RADIUS=500;X-TITLE=The Civic Holmfirth:geo:-1.7860824573628,53.572496509564
END:VEVENT
BEGIN:VEVENT
DTSTART;TZID=Europe/London:20281023T193000
DTEND;TZID=Europe/London:20281023T203000
DTSTAMP:20260424T014009
CREATED:20250507T111420Z
LAST-MODIFIED:20250507T111423Z
UID:10006274-1855942200-1855945800@thecivicholmfirth.org
SUMMARY:Pilates – Improvers
DESCRIPTION:
URL:https://thecivicholmfirth.org/events/pilates-improvers-2-2/2028-10-23/
LOCATION:Lesser Hall\, The Civic Holmfirth\, Holmfirth\, HD9 3AS
CATEGORIES:Clubs & Classes
ATTACH;FMTTYPE=image/jpeg:https://thecivicholmfirth.org/wp-content/uploads/2021/04/Improvers-Pilates.jpg
ORGANIZER;CN="Julie Edwards":MAILTO:julieedwardsmail@gmail.com
GEO:53.572496509564;-1.7860824573628
X-APPLE-STRUCTURED-LOCATION;VALUE=URI;X-ADDRESS=Lesser Hall The Civic Holmfirth Holmfirth HD9 3AS;X-APPLE-RADIUS=500;X-TITLE=The Civic Holmfirth:geo:-1.7860824573628,53.572496509564
END:VEVENT
BEGIN:VEVENT
DTSTART;TZID=Europe/London:20281024T200000
DTEND;TZID=Europe/London:20281024T213000
DTSTAMP:20260424T014009
CREATED:20210407T103151Z
LAST-MODIFIED:20230712T102236Z
UID:10006276-1856030400-1856035800@thecivicholmfirth.org
SUMMARY:Holmfirth Badminton Club
DESCRIPTION:
URL:https://thecivicholmfirth.org/events/holmfirth-badminton-club/2028-10-24/
LOCATION:Large Hall\, The Civic Holmfirth\, Holmfirth\, HD9 3AS\, United Kingdom
CATEGORIES:Clubs & Classes
ATTACH;FMTTYPE=image/jpeg:https://thecivicholmfirth.org/wp-content/uploads/2021/04/Badminton-Netherthong-BC.jpg
GEO:53.572496509564;-1.7860824573628
X-APPLE-STRUCTURED-LOCATION;VALUE=URI;X-ADDRESS=Large Hall The Civic Holmfirth Holmfirth HD9 3AS United Kingdom;X-APPLE-RADIUS=500;X-TITLE=The Civic Holmfirth:geo:-1.7860824573628,53.572496509564
END:VEVENT
BEGIN:VEVENT
DTSTART;TZID=Europe/London:20281025T100000
DTEND;TZID=Europe/London:20281025T110000
DTSTAMP:20260424T014009
CREATED:20250725T105111Z
LAST-MODIFIED:20250725T105112Z
UID:10011001-1856080800-1856084400@thecivicholmfirth.org
SUMMARY:Zumba Gold
DESCRIPTION:
URL:https://thecivicholmfirth.org/events/zumba-gold-2/2028-10-25/
LOCATION:The Civic Holmfirth\, Huddersfield Road\, Holmfirth\, HD9 3AS
CATEGORIES:Clubs & Classes
ATTACH;FMTTYPE=image/jpeg:https://thecivicholmfirth.org/wp-content/uploads/2025/06/zumba_gold_logo_color.jpg
GEO:53.572496509564;-1.7860824573628
X-APPLE-STRUCTURED-LOCATION;VALUE=URI;X-ADDRESS=The Civic Holmfirth Huddersfield Road Holmfirth HD9 3AS;X-APPLE-RADIUS=500;X-TITLE=Huddersfield Road:geo:-1.7860824573628,53.572496509564
END:VEVENT
BEGIN:VEVENT
DTSTART;TZID=Europe/London:20281025T111500
DTEND;TZID=Europe/London:20281025T121500
DTSTAMP:20260424T014009
CREATED:20240206T112405Z
LAST-MODIFIED:20250807T110805Z
UID:10006279-1856085300-1856088900@thecivicholmfirth.org
SUMMARY:Mixed Ability Pilates
DESCRIPTION:
URL:https://thecivicholmfirth.org/events/mixed-ability-pilates-2/2028-10-25/
LOCATION:Lesser Hall\, The Civic Holmfirth\, Holmfirth\, HD9 3AS
CATEGORIES:Clubs & Classes
ATTACH;FMTTYPE=image/jpeg:https://thecivicholmfirth.org/wp-content/uploads/2021/04/Tak-Active-Modern-Pilates.jpg
ORGANIZER;CN="Karen Flynn":MAILTO:physiokaren76@gmail.com
GEO:53.572496509564;-1.7860824573628
X-APPLE-STRUCTURED-LOCATION;VALUE=URI;X-ADDRESS=Lesser Hall The Civic Holmfirth Holmfirth HD9 3AS;X-APPLE-RADIUS=500;X-TITLE=The Civic Holmfirth:geo:-1.7860824573628,53.572496509564
END:VEVENT
END:VCALENDAR