BEGIN:VCALENDAR
VERSION:2.0
PRODID:-//The Civic, Holmfirth - ECPv6.15.20//NONSGML v1.0//EN
CALSCALE:GREGORIAN
METHOD:PUBLISH
X-WR-CALNAME:The Civic, Holmfirth
X-ORIGINAL-URL:https://thecivicholmfirth.org
X-WR-CALDESC:Events for The Civic, Holmfirth
REFRESH-INTERVAL;VALUE=DURATION:PT1H
X-Robots-Tag:noindex
X-PUBLISHED-TTL:PT1H
BEGIN:VTIMEZONE
TZID:Europe/London
BEGIN:DAYLIGHT
TZOFFSETFROM:+0000
TZOFFSETTO:+0100
TZNAME:BST
DTSTART:20270328T010000
END:DAYLIGHT
BEGIN:STANDARD
TZOFFSETFROM:+0100
TZOFFSETTO:+0000
TZNAME:GMT
DTSTART:20271031T010000
END:STANDARD
BEGIN:DAYLIGHT
TZOFFSETFROM:+0000
TZOFFSETTO:+0100
TZNAME:BST
DTSTART:20280326T010000
END:DAYLIGHT
BEGIN:STANDARD
TZOFFSETFROM:+0100
TZOFFSETTO:+0000
TZNAME:GMT
DTSTART:20281029T010000
END:STANDARD
BEGIN:DAYLIGHT
TZOFFSETFROM:+0000
TZOFFSETTO:+0100
TZNAME:BST
DTSTART:20290325T010000
END:DAYLIGHT
BEGIN:STANDARD
TZOFFSETFROM:+0100
TZOFFSETTO:+0000
TZNAME:GMT
DTSTART:20291028T010000
END:STANDARD
END:VTIMEZONE
BEGIN:VEVENT
DTSTART;TZID=Europe/London:20280911T111500
DTEND;TZID=Europe/London:20280911T121500
DTSTAMP:20260422T094539
CREATED:20240719T092024Z
LAST-MODIFIED:20240719T092024Z
UID:10008195-1852283700-1852287300@thecivicholmfirth.org
SUMMARY:Holistic Fusion Class
DESCRIPTION:
URL:https://thecivicholmfirth.org/events/holistic-fusion-class/2028-09-11/
LOCATION:The Civic Holmfirth\, Huddersfield Road\, Holmfirth\, HD9 3AS
CATEGORIES:Clubs & Classes
ATTACH;FMTTYPE=image/jpeg:https://thecivicholmfirth.org/wp-content/uploads/2024/07/Holistic-Fusion-photo.jpg
GEO:53.572496509564;-1.7860824573628
X-APPLE-STRUCTURED-LOCATION;VALUE=URI;X-ADDRESS=The Civic Holmfirth Huddersfield Road Holmfirth HD9 3AS;X-APPLE-RADIUS=500;X-TITLE=Huddersfield Road:geo:-1.7860824573628,53.572496509564
END:VEVENT
BEGIN:VEVENT
DTSTART;TZID=Europe/London:20280911T113000
DTEND;TZID=Europe/London:20280911T130000
DTSTAMP:20260422T094539
CREATED:20251008T161259Z
LAST-MODIFIED:20251008T161259Z
UID:10011278-1852284600-1852290000@thecivicholmfirth.org
SUMMARY:Holmfirth Community Lunch Club
DESCRIPTION:
URL:https://thecivicholmfirth.org/events/holmfirth-community-lunch-club/2028-09-11/
LOCATION:Reception Room
CATEGORIES:Clubs & Classes
ATTACH;FMTTYPE=image/jpeg:https://thecivicholmfirth.org/wp-content/uploads/2025/10/HV-Logo.jpg
ORGANIZER;CN="Royal Voluntary Service - Holme Valley":MAILTO:holmfirthlunchclub@royalvoluntaryservice.org.uk
END:VEVENT
BEGIN:VEVENT
DTSTART;TZID=Europe/London:20280911T183000
DTEND;TZID=Europe/London:20280911T193000
DTSTAMP:20260422T094539
CREATED:20250507T111548Z
LAST-MODIFIED:20250507T111551Z
UID:10005112-1852309800-1852313400@thecivicholmfirth.org
SUMMARY:Pilates -  Beginners & Mixed Ability
DESCRIPTION:
URL:https://thecivicholmfirth.org/events/beginners-pilates-talkactive-2-2/2028-09-11/
LOCATION:Lesser Hall\, The Civic Holmfirth\, Holmfirth\, HD9 3AS
CATEGORIES:Clubs & Classes
ATTACH;FMTTYPE=image/jpeg:https://thecivicholmfirth.org/wp-content/uploads/2021/04/Tak-Active-Modern-Pilates.jpg
ORGANIZER;CN="Julie Edwards":MAILTO:julieedwardsmail@gmail.com
GEO:53.572496509564;-1.7860824573628
X-APPLE-STRUCTURED-LOCATION;VALUE=URI;X-ADDRESS=Lesser Hall The Civic Holmfirth Holmfirth HD9 3AS;X-APPLE-RADIUS=500;X-TITLE=The Civic Holmfirth:geo:-1.7860824573628,53.572496509564
END:VEVENT
BEGIN:VEVENT
DTSTART;TZID=Europe/London:20280911T183000
DTEND;TZID=Europe/London:20280911T203000
DTSTAMP:20260422T094539
CREATED:20230104T144220Z
LAST-MODIFIED:20230105T113141Z
UID:10006612-1852309800-1852317000@thecivicholmfirth.org
SUMMARY:Netherthong Badminton
DESCRIPTION:
URL:https://thecivicholmfirth.org/events/netherthong-badminton/2028-09-11/
LOCATION:Large Hall\, The Civic Holmfirth\, Holmfirth\, HD9 3AS\, United Kingdom
CATEGORIES:Clubs & Classes
ATTACH;FMTTYPE=image/jpeg:https://thecivicholmfirth.org/wp-content/uploads/2021/04/Ladies-Badminton.jpg
GEO:53.572496509564;-1.7860824573628
X-APPLE-STRUCTURED-LOCATION;VALUE=URI;X-ADDRESS=Large Hall The Civic Holmfirth Holmfirth HD9 3AS United Kingdom;X-APPLE-RADIUS=500;X-TITLE=The Civic Holmfirth:geo:-1.7860824573628,53.572496509564
END:VEVENT
BEGIN:VEVENT
DTSTART;TZID=Europe/London:20280911T193000
DTEND;TZID=Europe/London:20280911T203000
DTSTAMP:20260422T094539
CREATED:20250507T111420Z
LAST-MODIFIED:20250507T111423Z
UID:10005269-1852313400-1852317000@thecivicholmfirth.org
SUMMARY:Pilates – Improvers
DESCRIPTION:
URL:https://thecivicholmfirth.org/events/pilates-improvers-2-2/2028-09-11/
LOCATION:Lesser Hall\, The Civic Holmfirth\, Holmfirth\, HD9 3AS
CATEGORIES:Clubs & Classes
ATTACH;FMTTYPE=image/jpeg:https://thecivicholmfirth.org/wp-content/uploads/2021/04/Improvers-Pilates.jpg
ORGANIZER;CN="Julie Edwards":MAILTO:julieedwardsmail@gmail.com
GEO:53.572496509564;-1.7860824573628
X-APPLE-STRUCTURED-LOCATION;VALUE=URI;X-ADDRESS=Lesser Hall The Civic Holmfirth Holmfirth HD9 3AS;X-APPLE-RADIUS=500;X-TITLE=The Civic Holmfirth:geo:-1.7860824573628,53.572496509564
END:VEVENT
BEGIN:VEVENT
DTSTART;TZID=Europe/London:20280912T200000
DTEND;TZID=Europe/London:20280912T213000
DTSTAMP:20260422T094539
CREATED:20210407T103151Z
LAST-MODIFIED:20230712T102236Z
UID:10005426-1852401600-1852407000@thecivicholmfirth.org
SUMMARY:Holmfirth Badminton Club
DESCRIPTION:
URL:https://thecivicholmfirth.org/events/holmfirth-badminton-club/2028-09-12/
LOCATION:Large Hall\, The Civic Holmfirth\, Holmfirth\, HD9 3AS\, United Kingdom
CATEGORIES:Clubs & Classes
ATTACH;FMTTYPE=image/jpeg:https://thecivicholmfirth.org/wp-content/uploads/2021/04/Badminton-Netherthong-BC.jpg
GEO:53.572496509564;-1.7860824573628
X-APPLE-STRUCTURED-LOCATION;VALUE=URI;X-ADDRESS=Large Hall The Civic Holmfirth Holmfirth HD9 3AS United Kingdom;X-APPLE-RADIUS=500;X-TITLE=The Civic Holmfirth:geo:-1.7860824573628,53.572496509564
END:VEVENT
BEGIN:VEVENT
DTSTART;TZID=Europe/London:20280913T100000
DTEND;TZID=Europe/London:20280913T110000
DTSTAMP:20260422T094539
CREATED:20250725T105111Z
LAST-MODIFIED:20250725T105112Z
UID:10010995-1852452000-1852455600@thecivicholmfirth.org
SUMMARY:Zumba Gold
DESCRIPTION:
URL:https://thecivicholmfirth.org/events/zumba-gold-2/2028-09-13/
LOCATION:The Civic Holmfirth\, Huddersfield Road\, Holmfirth\, HD9 3AS
CATEGORIES:Clubs & Classes
ATTACH;FMTTYPE=image/jpeg:https://thecivicholmfirth.org/wp-content/uploads/2025/06/zumba_gold_logo_color.jpg
GEO:53.572496509564;-1.7860824573628
X-APPLE-STRUCTURED-LOCATION;VALUE=URI;X-ADDRESS=The Civic Holmfirth Huddersfield Road Holmfirth HD9 3AS;X-APPLE-RADIUS=500;X-TITLE=Huddersfield Road:geo:-1.7860824573628,53.572496509564
END:VEVENT
BEGIN:VEVENT
DTSTART;TZID=Europe/London:20280913T111500
DTEND;TZID=Europe/London:20280913T121500
DTSTAMP:20260422T094539
CREATED:20240206T112405Z
LAST-MODIFIED:20250807T110805Z
UID:10005740-1852456500-1852460100@thecivicholmfirth.org
SUMMARY:Mixed Ability Pilates
DESCRIPTION:
URL:https://thecivicholmfirth.org/events/mixed-ability-pilates-2/2028-09-13/
LOCATION:Lesser Hall\, The Civic Holmfirth\, Holmfirth\, HD9 3AS
CATEGORIES:Clubs & Classes
ATTACH;FMTTYPE=image/jpeg:https://thecivicholmfirth.org/wp-content/uploads/2021/04/Tak-Active-Modern-Pilates.jpg
ORGANIZER;CN="Karen Flynn":MAILTO:physiokaren76@gmail.com
GEO:53.572496509564;-1.7860824573628
X-APPLE-STRUCTURED-LOCATION;VALUE=URI;X-ADDRESS=Lesser Hall The Civic Holmfirth Holmfirth HD9 3AS;X-APPLE-RADIUS=500;X-TITLE=The Civic Holmfirth:geo:-1.7860824573628,53.572496509564
END:VEVENT
BEGIN:VEVENT
DTSTART;TZID=Europe/London:20280913T123000
DTEND;TZID=Europe/London:20280913T153000
DTSTAMP:20260422T094539
CREATED:20250603T105651Z
LAST-MODIFIED:20260306T142938Z
UID:10009164-1852461000-1852471800@thecivicholmfirth.org
SUMMARY:U3A Pickleball
DESCRIPTION:
URL:https://thecivicholmfirth.org/events/u3a-pickleball-2-2/2028-09-13/
LOCATION:The Civic Holmfirth\, Huddersfield Road\, Holmfirth\, HD9 3AS
CATEGORIES:Clubs & Classes
ATTACH;FMTTYPE=image/jpeg:https://thecivicholmfirth.org/wp-content/uploads/2024/01/Picture1.jpg
GEO:53.572496509564;-1.7860824573628
X-APPLE-STRUCTURED-LOCATION;VALUE=URI;X-ADDRESS=The Civic Holmfirth Huddersfield Road Holmfirth HD9 3AS;X-APPLE-RADIUS=500;X-TITLE=Huddersfield Road:geo:-1.7860824573628,53.572496509564
END:VEVENT
BEGIN:VEVENT
DTSTART;TZID=Europe/London:20280913T190000
DTEND;TZID=Europe/London:20280913T210000
DTSTAMP:20260422T094539
CREATED:20260306T110827Z
LAST-MODIFIED:20260306T114832Z
UID:10012096-1852484400-1852491600@thecivicholmfirth.org
SUMMARY:Huddersfield Samba
DESCRIPTION:
URL:https://thecivicholmfirth.org/events/huddersfield-samba/2028-09-13/
LOCATION:Reception Room
CATEGORIES:Clubs & Classes
ATTACH;FMTTYPE=image/jpeg:https://thecivicholmfirth.org/wp-content/uploads/2026/03/image.jpg
ORGANIZER;CN="Huddersfield Samba":MAILTO:hello@huddersfieldsamba.co.uk
END:VEVENT
BEGIN:VEVENT
DTSTART;TZID=Europe/London:20280913T193000
DTEND;TZID=Europe/London:20280913T220000
DTSTAMP:20260422T094539
CREATED:20260330T135950Z
LAST-MODIFIED:20260330T140139Z
UID:10010133-1852486200-1852495200@thecivicholmfirth.org
SUMMARY:Holmfirth Jive Dance Club
DESCRIPTION:
URL:https://thecivicholmfirth.org/events/vibejive-dance-club-2-2/2028-09-13/
LOCATION:Large Hall\, The Civic Holmfirth\, Holmfirth\, HD9 3AS\, United Kingdom
CATEGORIES:Clubs & Classes
ATTACH;FMTTYPE=image/jpeg:https://thecivicholmfirth.org/wp-content/uploads/2025/02/holmfirth-jive.jpg
GEO:53.572496509564;-1.7860824573628
X-APPLE-STRUCTURED-LOCATION;VALUE=URI;X-ADDRESS=Large Hall The Civic Holmfirth Holmfirth HD9 3AS United Kingdom;X-APPLE-RADIUS=500;X-TITLE=The Civic Holmfirth:geo:-1.7860824573628,53.572496509564
END:VEVENT
BEGIN:VEVENT
DTSTART;TZID=Europe/London:20280914T193000
DTEND;TZID=Europe/London:20280914T210000
DTSTAMP:20260422T094539
CREATED:20260306T123249Z
LAST-MODIFIED:20260306T123249Z
UID:10012321-1852572600-1852578000@thecivicholmfirth.org
SUMMARY:Holmfirth Local History Group
DESCRIPTION:
URL:https://thecivicholmfirth.org/events/holmfirth-local-history-group/2028-09-14/
LOCATION:Exhibition Room
CATEGORIES:Clubs & Classes
ATTACH;FMTTYPE=image/png:https://thecivicholmfirth.org/wp-content/uploads/2026/03/cropped-HolmfirthArms-1-300x300-1.png
END:VEVENT
BEGIN:VEVENT
DTSTART;TZID=Europe/London:20280915T093000
DTEND;TZID=Europe/London:20280915T113000
DTSTAMP:20260422T094539
CREATED:20210407T104909Z
LAST-MODIFIED:20260306T104302Z
UID:10005583-1852623000-1852630200@thecivicholmfirth.org
SUMMARY:Ladies Badminton
DESCRIPTION:
URL:https://thecivicholmfirth.org/events/ladies-badminton/2028-09-15/
LOCATION:Large Hall\, The Civic Holmfirth\, Holmfirth\, HD9 3AS\, United Kingdom
CATEGORIES:Clubs & Classes
ATTACH;FMTTYPE=image/jpeg:https://thecivicholmfirth.org/wp-content/uploads/2021/04/Ladies-Badminton.jpg
GEO:53.572496509564;-1.7860824573628
X-APPLE-STRUCTURED-LOCATION;VALUE=URI;X-ADDRESS=Large Hall The Civic Holmfirth Holmfirth HD9 3AS United Kingdom;X-APPLE-RADIUS=500;X-TITLE=The Civic Holmfirth:geo:-1.7860824573628,53.572496509564
END:VEVENT
BEGIN:VEVENT
DTSTART;TZID=Europe/London:20280918T100000
DTEND;TZID=Europe/London:20280918T110000
DTSTAMP:20260422T094539
CREATED:20240716T111208Z
LAST-MODIFIED:20260205T134807Z
UID:10011775-1852884000-1852887600@thecivicholmfirth.org
SUMMARY:Monday Movers Low Impact Dancercise
DESCRIPTION:
URL:https://thecivicholmfirth.org/events/monday-movers/2028-09-18/
LOCATION:Large Hall\, The Civic Holmfirth\, Holmfirth\, HD9 3AS\, United Kingdom
CATEGORIES:Clubs & Classes
ATTACH;FMTTYPE=image/png:https://thecivicholmfirth.org/wp-content/uploads/2024/07/image-3.png
GEO:53.572496509564;-1.7860824573628
X-APPLE-STRUCTURED-LOCATION;VALUE=URI;X-ADDRESS=Large Hall The Civic Holmfirth Holmfirth HD9 3AS United Kingdom;X-APPLE-RADIUS=500;X-TITLE=The Civic Holmfirth:geo:-1.7860824573628,53.572496509564
END:VEVENT
BEGIN:VEVENT
DTSTART;TZID=Europe/London:20280918T111500
DTEND;TZID=Europe/London:20280918T121500
DTSTAMP:20260422T094539
CREATED:20240719T092024Z
LAST-MODIFIED:20240719T092024Z
UID:10008196-1852888500-1852892100@thecivicholmfirth.org
SUMMARY:Holistic Fusion Class
DESCRIPTION:
URL:https://thecivicholmfirth.org/events/holistic-fusion-class/2028-09-18/
LOCATION:The Civic Holmfirth\, Huddersfield Road\, Holmfirth\, HD9 3AS
CATEGORIES:Clubs & Classes
ATTACH;FMTTYPE=image/jpeg:https://thecivicholmfirth.org/wp-content/uploads/2024/07/Holistic-Fusion-photo.jpg
GEO:53.572496509564;-1.7860824573628
X-APPLE-STRUCTURED-LOCATION;VALUE=URI;X-ADDRESS=The Civic Holmfirth Huddersfield Road Holmfirth HD9 3AS;X-APPLE-RADIUS=500;X-TITLE=Huddersfield Road:geo:-1.7860824573628,53.572496509564
END:VEVENT
BEGIN:VEVENT
DTSTART;TZID=Europe/London:20280918T113000
DTEND;TZID=Europe/London:20280918T130000
DTSTAMP:20260422T094539
CREATED:20251008T161259Z
LAST-MODIFIED:20251008T161259Z
UID:10011279-1852889400-1852894800@thecivicholmfirth.org
SUMMARY:Holmfirth Community Lunch Club
DESCRIPTION:
URL:https://thecivicholmfirth.org/events/holmfirth-community-lunch-club/2028-09-18/
LOCATION:Reception Room
CATEGORIES:Clubs & Classes
ATTACH;FMTTYPE=image/jpeg:https://thecivicholmfirth.org/wp-content/uploads/2025/10/HV-Logo.jpg
ORGANIZER;CN="Royal Voluntary Service - Holme Valley":MAILTO:holmfirthlunchclub@royalvoluntaryservice.org.uk
END:VEVENT
BEGIN:VEVENT
DTSTART;TZID=Europe/London:20280918T183000
DTEND;TZID=Europe/London:20280918T193000
DTSTAMP:20260422T094539
CREATED:20250507T111548Z
LAST-MODIFIED:20250507T111551Z
UID:10005113-1852914600-1852918200@thecivicholmfirth.org
SUMMARY:Pilates -  Beginners & Mixed Ability
DESCRIPTION:
URL:https://thecivicholmfirth.org/events/beginners-pilates-talkactive-2-2/2028-09-18/
LOCATION:Lesser Hall\, The Civic Holmfirth\, Holmfirth\, HD9 3AS
CATEGORIES:Clubs & Classes
ATTACH;FMTTYPE=image/jpeg:https://thecivicholmfirth.org/wp-content/uploads/2021/04/Tak-Active-Modern-Pilates.jpg
ORGANIZER;CN="Julie Edwards":MAILTO:julieedwardsmail@gmail.com
GEO:53.572496509564;-1.7860824573628
X-APPLE-STRUCTURED-LOCATION;VALUE=URI;X-ADDRESS=Lesser Hall The Civic Holmfirth Holmfirth HD9 3AS;X-APPLE-RADIUS=500;X-TITLE=The Civic Holmfirth:geo:-1.7860824573628,53.572496509564
END:VEVENT
BEGIN:VEVENT
DTSTART;TZID=Europe/London:20280918T183000
DTEND;TZID=Europe/London:20280918T203000
DTSTAMP:20260422T094539
CREATED:20230104T144220Z
LAST-MODIFIED:20230105T113141Z
UID:10006613-1852914600-1852921800@thecivicholmfirth.org
SUMMARY:Netherthong Badminton
DESCRIPTION:
URL:https://thecivicholmfirth.org/events/netherthong-badminton/2028-09-18/
LOCATION:Large Hall\, The Civic Holmfirth\, Holmfirth\, HD9 3AS\, United Kingdom
CATEGORIES:Clubs & Classes
ATTACH;FMTTYPE=image/jpeg:https://thecivicholmfirth.org/wp-content/uploads/2021/04/Ladies-Badminton.jpg
GEO:53.572496509564;-1.7860824573628
X-APPLE-STRUCTURED-LOCATION;VALUE=URI;X-ADDRESS=Large Hall The Civic Holmfirth Holmfirth HD9 3AS United Kingdom;X-APPLE-RADIUS=500;X-TITLE=The Civic Holmfirth:geo:-1.7860824573628,53.572496509564
END:VEVENT
BEGIN:VEVENT
DTSTART;TZID=Europe/London:20280918T193000
DTEND;TZID=Europe/London:20280918T203000
DTSTAMP:20260422T094539
CREATED:20250507T111420Z
LAST-MODIFIED:20250507T111423Z
UID:10005270-1852918200-1852921800@thecivicholmfirth.org
SUMMARY:Pilates – Improvers
DESCRIPTION:
URL:https://thecivicholmfirth.org/events/pilates-improvers-2-2/2028-09-18/
LOCATION:Lesser Hall\, The Civic Holmfirth\, Holmfirth\, HD9 3AS
CATEGORIES:Clubs & Classes
ATTACH;FMTTYPE=image/jpeg:https://thecivicholmfirth.org/wp-content/uploads/2021/04/Improvers-Pilates.jpg
ORGANIZER;CN="Julie Edwards":MAILTO:julieedwardsmail@gmail.com
GEO:53.572496509564;-1.7860824573628
X-APPLE-STRUCTURED-LOCATION;VALUE=URI;X-ADDRESS=Lesser Hall The Civic Holmfirth Holmfirth HD9 3AS;X-APPLE-RADIUS=500;X-TITLE=The Civic Holmfirth:geo:-1.7860824573628,53.572496509564
END:VEVENT
BEGIN:VEVENT
DTSTART;TZID=Europe/London:20280919T200000
DTEND;TZID=Europe/London:20280919T213000
DTSTAMP:20260422T094539
CREATED:20210407T103151Z
LAST-MODIFIED:20230712T102236Z
UID:10005427-1853006400-1853011800@thecivicholmfirth.org
SUMMARY:Holmfirth Badminton Club
DESCRIPTION:
URL:https://thecivicholmfirth.org/events/holmfirth-badminton-club/2028-09-19/
LOCATION:Large Hall\, The Civic Holmfirth\, Holmfirth\, HD9 3AS\, United Kingdom
CATEGORIES:Clubs & Classes
ATTACH;FMTTYPE=image/jpeg:https://thecivicholmfirth.org/wp-content/uploads/2021/04/Badminton-Netherthong-BC.jpg
GEO:53.572496509564;-1.7860824573628
X-APPLE-STRUCTURED-LOCATION;VALUE=URI;X-ADDRESS=Large Hall The Civic Holmfirth Holmfirth HD9 3AS United Kingdom;X-APPLE-RADIUS=500;X-TITLE=The Civic Holmfirth:geo:-1.7860824573628,53.572496509564
END:VEVENT
BEGIN:VEVENT
DTSTART;TZID=Europe/London:20280920T100000
DTEND;TZID=Europe/London:20280920T110000
DTSTAMP:20260422T094539
CREATED:20250725T105111Z
LAST-MODIFIED:20250725T105112Z
UID:10010996-1853056800-1853060400@thecivicholmfirth.org
SUMMARY:Zumba Gold
DESCRIPTION:
URL:https://thecivicholmfirth.org/events/zumba-gold-2/2028-09-20/
LOCATION:The Civic Holmfirth\, Huddersfield Road\, Holmfirth\, HD9 3AS
CATEGORIES:Clubs & Classes
ATTACH;FMTTYPE=image/jpeg:https://thecivicholmfirth.org/wp-content/uploads/2025/06/zumba_gold_logo_color.jpg
GEO:53.572496509564;-1.7860824573628
X-APPLE-STRUCTURED-LOCATION;VALUE=URI;X-ADDRESS=The Civic Holmfirth Huddersfield Road Holmfirth HD9 3AS;X-APPLE-RADIUS=500;X-TITLE=Huddersfield Road:geo:-1.7860824573628,53.572496509564
END:VEVENT
BEGIN:VEVENT
DTSTART;TZID=Europe/London:20280920T111500
DTEND;TZID=Europe/London:20280920T121500
DTSTAMP:20260422T094539
CREATED:20240206T112405Z
LAST-MODIFIED:20250807T110805Z
UID:10005741-1853061300-1853064900@thecivicholmfirth.org
SUMMARY:Mixed Ability Pilates
DESCRIPTION:
URL:https://thecivicholmfirth.org/events/mixed-ability-pilates-2/2028-09-20/
LOCATION:Lesser Hall\, The Civic Holmfirth\, Holmfirth\, HD9 3AS
CATEGORIES:Clubs & Classes
ATTACH;FMTTYPE=image/jpeg:https://thecivicholmfirth.org/wp-content/uploads/2021/04/Tak-Active-Modern-Pilates.jpg
ORGANIZER;CN="Karen Flynn":MAILTO:physiokaren76@gmail.com
GEO:53.572496509564;-1.7860824573628
X-APPLE-STRUCTURED-LOCATION;VALUE=URI;X-ADDRESS=Lesser Hall The Civic Holmfirth Holmfirth HD9 3AS;X-APPLE-RADIUS=500;X-TITLE=The Civic Holmfirth:geo:-1.7860824573628,53.572496509564
END:VEVENT
BEGIN:VEVENT
DTSTART;TZID=Europe/London:20280920T123000
DTEND;TZID=Europe/London:20280920T153000
DTSTAMP:20260422T094539
CREATED:20250603T105651Z
LAST-MODIFIED:20260306T142938Z
UID:10009165-1853065800-1853076600@thecivicholmfirth.org
SUMMARY:U3A Pickleball
DESCRIPTION:
URL:https://thecivicholmfirth.org/events/u3a-pickleball-2-2/2028-09-20/
LOCATION:The Civic Holmfirth\, Huddersfield Road\, Holmfirth\, HD9 3AS
CATEGORIES:Clubs & Classes
ATTACH;FMTTYPE=image/jpeg:https://thecivicholmfirth.org/wp-content/uploads/2024/01/Picture1.jpg
GEO:53.572496509564;-1.7860824573628
X-APPLE-STRUCTURED-LOCATION;VALUE=URI;X-ADDRESS=The Civic Holmfirth Huddersfield Road Holmfirth HD9 3AS;X-APPLE-RADIUS=500;X-TITLE=Huddersfield Road:geo:-1.7860824573628,53.572496509564
END:VEVENT
BEGIN:VEVENT
DTSTART;TZID=Europe/London:20280920T190000
DTEND;TZID=Europe/London:20280920T210000
DTSTAMP:20260422T094539
CREATED:20260306T110827Z
LAST-MODIFIED:20260306T114832Z
UID:10012097-1853089200-1853096400@thecivicholmfirth.org
SUMMARY:Huddersfield Samba
DESCRIPTION:
URL:https://thecivicholmfirth.org/events/huddersfield-samba/2028-09-20/
LOCATION:Reception Room
CATEGORIES:Clubs & Classes
ATTACH;FMTTYPE=image/jpeg:https://thecivicholmfirth.org/wp-content/uploads/2026/03/image.jpg
ORGANIZER;CN="Huddersfield Samba":MAILTO:hello@huddersfieldsamba.co.uk
END:VEVENT
BEGIN:VEVENT
DTSTART;TZID=Europe/London:20280920T193000
DTEND;TZID=Europe/London:20280920T220000
DTSTAMP:20260422T094539
CREATED:20260330T135950Z
LAST-MODIFIED:20260330T140139Z
UID:10010134-1853091000-1853100000@thecivicholmfirth.org
SUMMARY:Holmfirth Jive Dance Club
DESCRIPTION:
URL:https://thecivicholmfirth.org/events/vibejive-dance-club-2-2/2028-09-20/
LOCATION:Large Hall\, The Civic Holmfirth\, Holmfirth\, HD9 3AS\, United Kingdom
CATEGORIES:Clubs & Classes
ATTACH;FMTTYPE=image/jpeg:https://thecivicholmfirth.org/wp-content/uploads/2025/02/holmfirth-jive.jpg
GEO:53.572496509564;-1.7860824573628
X-APPLE-STRUCTURED-LOCATION;VALUE=URI;X-ADDRESS=Large Hall The Civic Holmfirth Holmfirth HD9 3AS United Kingdom;X-APPLE-RADIUS=500;X-TITLE=The Civic Holmfirth:geo:-1.7860824573628,53.572496509564
END:VEVENT
BEGIN:VEVENT
DTSTART;TZID=Europe/London:20280921T193000
DTEND;TZID=Europe/London:20280921T210000
DTSTAMP:20260422T094539
CREATED:20260306T121731Z
LAST-MODIFIED:20260306T121731Z
UID:10012261-1853177400-1853182800@thecivicholmfirth.org
SUMMARY:Holme Valley Civic Society
DESCRIPTION:
URL:https://thecivicholmfirth.org/events/holme-valley-civic-society/2028-09-21/
LOCATION:Lesser Hall\, The Civic Holmfirth\, Holmfirth\, HD9 3AS
CATEGORIES:Clubs & Classes
ATTACH;FMTTYPE=image/jpeg:https://thecivicholmfirth.org/wp-content/uploads/2026/03/March-2026.jpg
GEO:53.572496509564;-1.7860824573628
X-APPLE-STRUCTURED-LOCATION;VALUE=URI;X-ADDRESS=Lesser Hall The Civic Holmfirth Holmfirth HD9 3AS;X-APPLE-RADIUS=500;X-TITLE=The Civic Holmfirth:geo:-1.7860824573628,53.572496509564
END:VEVENT
BEGIN:VEVENT
DTSTART;TZID=Europe/London:20280922T093000
DTEND;TZID=Europe/London:20280922T113000
DTSTAMP:20260422T094539
CREATED:20210407T104909Z
LAST-MODIFIED:20260306T104302Z
UID:10005584-1853227800-1853235000@thecivicholmfirth.org
SUMMARY:Ladies Badminton
DESCRIPTION:
URL:https://thecivicholmfirth.org/events/ladies-badminton/2028-09-22/
LOCATION:Large Hall\, The Civic Holmfirth\, Holmfirth\, HD9 3AS\, United Kingdom
CATEGORIES:Clubs & Classes
ATTACH;FMTTYPE=image/jpeg:https://thecivicholmfirth.org/wp-content/uploads/2021/04/Ladies-Badminton.jpg
GEO:53.572496509564;-1.7860824573628
X-APPLE-STRUCTURED-LOCATION;VALUE=URI;X-ADDRESS=Large Hall The Civic Holmfirth Holmfirth HD9 3AS United Kingdom;X-APPLE-RADIUS=500;X-TITLE=The Civic Holmfirth:geo:-1.7860824573628,53.572496509564
END:VEVENT
BEGIN:VEVENT
DTSTART;TZID=Europe/London:20280925T100000
DTEND;TZID=Europe/London:20280925T110000
DTSTAMP:20260422T094539
CREATED:20240716T111208Z
LAST-MODIFIED:20260205T134807Z
UID:10011776-1853488800-1853492400@thecivicholmfirth.org
SUMMARY:Monday Movers Low Impact Dancercise
DESCRIPTION:
URL:https://thecivicholmfirth.org/events/monday-movers/2028-09-25/
LOCATION:Large Hall\, The Civic Holmfirth\, Holmfirth\, HD9 3AS\, United Kingdom
CATEGORIES:Clubs & Classes
ATTACH;FMTTYPE=image/png:https://thecivicholmfirth.org/wp-content/uploads/2024/07/image-3.png
GEO:53.572496509564;-1.7860824573628
X-APPLE-STRUCTURED-LOCATION;VALUE=URI;X-ADDRESS=Large Hall The Civic Holmfirth Holmfirth HD9 3AS United Kingdom;X-APPLE-RADIUS=500;X-TITLE=The Civic Holmfirth:geo:-1.7860824573628,53.572496509564
END:VEVENT
BEGIN:VEVENT
DTSTART;TZID=Europe/London:20280925T111500
DTEND;TZID=Europe/London:20280925T121500
DTSTAMP:20260422T094539
CREATED:20240719T092024Z
LAST-MODIFIED:20240719T092024Z
UID:10008197-1853493300-1853496900@thecivicholmfirth.org
SUMMARY:Holistic Fusion Class
DESCRIPTION:
URL:https://thecivicholmfirth.org/events/holistic-fusion-class/2028-09-25/
LOCATION:The Civic Holmfirth\, Huddersfield Road\, Holmfirth\, HD9 3AS
CATEGORIES:Clubs & Classes
ATTACH;FMTTYPE=image/jpeg:https://thecivicholmfirth.org/wp-content/uploads/2024/07/Holistic-Fusion-photo.jpg
GEO:53.572496509564;-1.7860824573628
X-APPLE-STRUCTURED-LOCATION;VALUE=URI;X-ADDRESS=The Civic Holmfirth Huddersfield Road Holmfirth HD9 3AS;X-APPLE-RADIUS=500;X-TITLE=Huddersfield Road:geo:-1.7860824573628,53.572496509564
END:VEVENT
BEGIN:VEVENT
DTSTART;TZID=Europe/London:20280925T113000
DTEND;TZID=Europe/London:20280925T130000
DTSTAMP:20260422T094539
CREATED:20251008T161259Z
LAST-MODIFIED:20251008T161259Z
UID:10011280-1853494200-1853499600@thecivicholmfirth.org
SUMMARY:Holmfirth Community Lunch Club
DESCRIPTION:
URL:https://thecivicholmfirth.org/events/holmfirth-community-lunch-club/2028-09-25/
LOCATION:Reception Room
CATEGORIES:Clubs & Classes
ATTACH;FMTTYPE=image/jpeg:https://thecivicholmfirth.org/wp-content/uploads/2025/10/HV-Logo.jpg
ORGANIZER;CN="Royal Voluntary Service - Holme Valley":MAILTO:holmfirthlunchclub@royalvoluntaryservice.org.uk
END:VEVENT
END:VCALENDAR