BEGIN:VCALENDAR
VERSION:2.0
PRODID:-//The Civic, Holmfirth - ECPv6.15.20//NONSGML v1.0//EN
CALSCALE:GREGORIAN
METHOD:PUBLISH
X-WR-CALNAME:The Civic, Holmfirth
X-ORIGINAL-URL:https://thecivicholmfirth.org
X-WR-CALDESC:Events for The Civic, Holmfirth
REFRESH-INTERVAL;VALUE=DURATION:PT1H
X-Robots-Tag:noindex
X-PUBLISHED-TTL:PT1H
BEGIN:VTIMEZONE
TZID:Europe/London
BEGIN:DAYLIGHT
TZOFFSETFROM:+0000
TZOFFSETTO:+0100
TZNAME:BST
DTSTART:20270328T010000
END:DAYLIGHT
BEGIN:STANDARD
TZOFFSETFROM:+0100
TZOFFSETTO:+0000
TZNAME:GMT
DTSTART:20271031T010000
END:STANDARD
BEGIN:DAYLIGHT
TZOFFSETFROM:+0000
TZOFFSETTO:+0100
TZNAME:BST
DTSTART:20280326T010000
END:DAYLIGHT
BEGIN:STANDARD
TZOFFSETFROM:+0100
TZOFFSETTO:+0000
TZNAME:GMT
DTSTART:20281029T010000
END:STANDARD
BEGIN:DAYLIGHT
TZOFFSETFROM:+0000
TZOFFSETTO:+0100
TZNAME:BST
DTSTART:20290325T010000
END:DAYLIGHT
BEGIN:STANDARD
TZOFFSETFROM:+0100
TZOFFSETTO:+0000
TZNAME:GMT
DTSTART:20291028T010000
END:STANDARD
END:VTIMEZONE
BEGIN:VEVENT
DTSTART;TZID=Europe/London:20280705T190000
DTEND;TZID=Europe/London:20280705T210000
DTSTAMP:20260421T171824
CREATED:20260306T110827Z
LAST-MODIFIED:20260306T114832Z
UID:10012086-1846436400-1846443600@thecivicholmfirth.org
SUMMARY:Huddersfield Samba
DESCRIPTION:
URL:https://thecivicholmfirth.org/events/huddersfield-samba/2028-07-05/
LOCATION:Reception Room
CATEGORIES:Clubs & Classes
ATTACH;FMTTYPE=image/jpeg:https://thecivicholmfirth.org/wp-content/uploads/2026/03/image.jpg
ORGANIZER;CN="Huddersfield Samba":MAILTO:hello@huddersfieldsamba.co.uk
END:VEVENT
BEGIN:VEVENT
DTSTART;TZID=Europe/London:20280705T193000
DTEND;TZID=Europe/London:20280705T220000
DTSTAMP:20260421T171824
CREATED:20260330T135950Z
LAST-MODIFIED:20260330T140139Z
UID:10010123-1846438200-1846447200@thecivicholmfirth.org
SUMMARY:Holmfirth Jive Dance Club
DESCRIPTION:
URL:https://thecivicholmfirth.org/events/vibejive-dance-club-2-2/2028-07-05/
LOCATION:Large Hall\, The Civic Holmfirth\, Holmfirth\, HD9 3AS\, United Kingdom
CATEGORIES:Clubs & Classes
ATTACH;FMTTYPE=image/jpeg:https://thecivicholmfirth.org/wp-content/uploads/2025/02/holmfirth-jive.jpg
GEO:53.572496509564;-1.7860824573628
X-APPLE-STRUCTURED-LOCATION;VALUE=URI;X-ADDRESS=Large Hall The Civic Holmfirth Holmfirth HD9 3AS United Kingdom;X-APPLE-RADIUS=500;X-TITLE=The Civic Holmfirth:geo:-1.7860824573628,53.572496509564
END:VEVENT
BEGIN:VEVENT
DTSTART;TZID=Europe/London:20280707T093000
DTEND;TZID=Europe/London:20280707T113000
DTSTAMP:20260421T171824
CREATED:20210407T104909Z
LAST-MODIFIED:20260306T104302Z
UID:10005573-1846575000-1846582200@thecivicholmfirth.org
SUMMARY:Ladies Badminton
DESCRIPTION:
URL:https://thecivicholmfirth.org/events/ladies-badminton/2028-07-07/
LOCATION:Large Hall\, The Civic Holmfirth\, Holmfirth\, HD9 3AS\, United Kingdom
CATEGORIES:Clubs & Classes
ATTACH;FMTTYPE=image/jpeg:https://thecivicholmfirth.org/wp-content/uploads/2021/04/Ladies-Badminton.jpg
GEO:53.572496509564;-1.7860824573628
X-APPLE-STRUCTURED-LOCATION;VALUE=URI;X-ADDRESS=Large Hall The Civic Holmfirth Holmfirth HD9 3AS United Kingdom;X-APPLE-RADIUS=500;X-TITLE=The Civic Holmfirth:geo:-1.7860824573628,53.572496509564
END:VEVENT
BEGIN:VEVENT
DTSTART;TZID=Europe/London:20280710T100000
DTEND;TZID=Europe/London:20280710T110000
DTSTAMP:20260421T171824
CREATED:20240716T111208Z
LAST-MODIFIED:20260205T134807Z
UID:10011765-1846836000-1846839600@thecivicholmfirth.org
SUMMARY:Monday Movers Low Impact Dancercise
DESCRIPTION:
URL:https://thecivicholmfirth.org/events/monday-movers/2028-07-10/
LOCATION:Large Hall\, The Civic Holmfirth\, Holmfirth\, HD9 3AS\, United Kingdom
CATEGORIES:Clubs & Classes
ATTACH;FMTTYPE=image/png:https://thecivicholmfirth.org/wp-content/uploads/2024/07/image-3.png
GEO:53.572496509564;-1.7860824573628
X-APPLE-STRUCTURED-LOCATION;VALUE=URI;X-ADDRESS=Large Hall The Civic Holmfirth Holmfirth HD9 3AS United Kingdom;X-APPLE-RADIUS=500;X-TITLE=The Civic Holmfirth:geo:-1.7860824573628,53.572496509564
END:VEVENT
BEGIN:VEVENT
DTSTART;TZID=Europe/London:20280710T111500
DTEND;TZID=Europe/London:20280710T121500
DTSTAMP:20260421T171824
CREATED:20240719T092024Z
LAST-MODIFIED:20240719T092024Z
UID:10008186-1846840500-1846844100@thecivicholmfirth.org
SUMMARY:Holistic Fusion Class
DESCRIPTION:
URL:https://thecivicholmfirth.org/events/holistic-fusion-class/2028-07-10/
LOCATION:The Civic Holmfirth\, Huddersfield Road\, Holmfirth\, HD9 3AS
CATEGORIES:Clubs & Classes
ATTACH;FMTTYPE=image/jpeg:https://thecivicholmfirth.org/wp-content/uploads/2024/07/Holistic-Fusion-photo.jpg
GEO:53.572496509564;-1.7860824573628
X-APPLE-STRUCTURED-LOCATION;VALUE=URI;X-ADDRESS=The Civic Holmfirth Huddersfield Road Holmfirth HD9 3AS;X-APPLE-RADIUS=500;X-TITLE=Huddersfield Road:geo:-1.7860824573628,53.572496509564
END:VEVENT
BEGIN:VEVENT
DTSTART;TZID=Europe/London:20280710T113000
DTEND;TZID=Europe/London:20280710T130000
DTSTAMP:20260421T171824
CREATED:20251008T161259Z
LAST-MODIFIED:20251008T161259Z
UID:10011269-1846841400-1846846800@thecivicholmfirth.org
SUMMARY:Holmfirth Community Lunch Club
DESCRIPTION:
URL:https://thecivicholmfirth.org/events/holmfirth-community-lunch-club/2028-07-10/
LOCATION:Reception Room
CATEGORIES:Clubs & Classes
ATTACH;FMTTYPE=image/jpeg:https://thecivicholmfirth.org/wp-content/uploads/2025/10/HV-Logo.jpg
ORGANIZER;CN="Royal Voluntary Service - Holme Valley":MAILTO:holmfirthlunchclub@royalvoluntaryservice.org.uk
END:VEVENT
BEGIN:VEVENT
DTSTART;TZID=Europe/London:20280710T183000
DTEND;TZID=Europe/London:20280710T193000
DTSTAMP:20260421T171824
CREATED:20250507T111548Z
LAST-MODIFIED:20250507T111551Z
UID:10005103-1846866600-1846870200@thecivicholmfirth.org
SUMMARY:Pilates -  Beginners & Mixed Ability
DESCRIPTION:
URL:https://thecivicholmfirth.org/events/beginners-pilates-talkactive-2-2/2028-07-10/
LOCATION:Lesser Hall\, The Civic Holmfirth\, Holmfirth\, HD9 3AS
CATEGORIES:Clubs & Classes
ATTACH;FMTTYPE=image/jpeg:https://thecivicholmfirth.org/wp-content/uploads/2021/04/Tak-Active-Modern-Pilates.jpg
ORGANIZER;CN="Julie Edwards":MAILTO:julieedwardsmail@gmail.com
GEO:53.572496509564;-1.7860824573628
X-APPLE-STRUCTURED-LOCATION;VALUE=URI;X-ADDRESS=Lesser Hall The Civic Holmfirth Holmfirth HD9 3AS;X-APPLE-RADIUS=500;X-TITLE=The Civic Holmfirth:geo:-1.7860824573628,53.572496509564
END:VEVENT
BEGIN:VEVENT
DTSTART;TZID=Europe/London:20280710T183000
DTEND;TZID=Europe/London:20280710T203000
DTSTAMP:20260421T171824
CREATED:20230104T144220Z
LAST-MODIFIED:20230105T113141Z
UID:10006603-1846866600-1846873800@thecivicholmfirth.org
SUMMARY:Netherthong Badminton
DESCRIPTION:
URL:https://thecivicholmfirth.org/events/netherthong-badminton/2028-07-10/
LOCATION:Large Hall\, The Civic Holmfirth\, Holmfirth\, HD9 3AS\, United Kingdom
CATEGORIES:Clubs & Classes
ATTACH;FMTTYPE=image/jpeg:https://thecivicholmfirth.org/wp-content/uploads/2021/04/Ladies-Badminton.jpg
GEO:53.572496509564;-1.7860824573628
X-APPLE-STRUCTURED-LOCATION;VALUE=URI;X-ADDRESS=Large Hall The Civic Holmfirth Holmfirth HD9 3AS United Kingdom;X-APPLE-RADIUS=500;X-TITLE=The Civic Holmfirth:geo:-1.7860824573628,53.572496509564
END:VEVENT
BEGIN:VEVENT
DTSTART;TZID=Europe/London:20280710T193000
DTEND;TZID=Europe/London:20280710T203000
DTSTAMP:20260421T171824
CREATED:20250507T111420Z
LAST-MODIFIED:20250507T111423Z
UID:10005260-1846870200-1846873800@thecivicholmfirth.org
SUMMARY:Pilates – Improvers
DESCRIPTION:
URL:https://thecivicholmfirth.org/events/pilates-improvers-2-2/2028-07-10/
LOCATION:Lesser Hall\, The Civic Holmfirth\, Holmfirth\, HD9 3AS
CATEGORIES:Clubs & Classes
ATTACH;FMTTYPE=image/jpeg:https://thecivicholmfirth.org/wp-content/uploads/2021/04/Improvers-Pilates.jpg
ORGANIZER;CN="Julie Edwards":MAILTO:julieedwardsmail@gmail.com
GEO:53.572496509564;-1.7860824573628
X-APPLE-STRUCTURED-LOCATION;VALUE=URI;X-ADDRESS=Lesser Hall The Civic Holmfirth Holmfirth HD9 3AS;X-APPLE-RADIUS=500;X-TITLE=The Civic Holmfirth:geo:-1.7860824573628,53.572496509564
END:VEVENT
BEGIN:VEVENT
DTSTART;TZID=Europe/London:20280711T200000
DTEND;TZID=Europe/London:20280711T213000
DTSTAMP:20260421T171824
CREATED:20210407T103151Z
LAST-MODIFIED:20230712T102236Z
UID:10005417-1846958400-1846963800@thecivicholmfirth.org
SUMMARY:Holmfirth Badminton Club
DESCRIPTION:
URL:https://thecivicholmfirth.org/events/holmfirth-badminton-club/2028-07-11/
LOCATION:Large Hall\, The Civic Holmfirth\, Holmfirth\, HD9 3AS\, United Kingdom
CATEGORIES:Clubs & Classes
ATTACH;FMTTYPE=image/jpeg:https://thecivicholmfirth.org/wp-content/uploads/2021/04/Badminton-Netherthong-BC.jpg
GEO:53.572496509564;-1.7860824573628
X-APPLE-STRUCTURED-LOCATION;VALUE=URI;X-ADDRESS=Large Hall The Civic Holmfirth Holmfirth HD9 3AS United Kingdom;X-APPLE-RADIUS=500;X-TITLE=The Civic Holmfirth:geo:-1.7860824573628,53.572496509564
END:VEVENT
BEGIN:VEVENT
DTSTART;TZID=Europe/London:20280712T100000
DTEND;TZID=Europe/London:20280712T110000
DTSTAMP:20260421T171824
CREATED:20250725T105111Z
LAST-MODIFIED:20250725T105112Z
UID:10010986-1847008800-1847012400@thecivicholmfirth.org
SUMMARY:Zumba Gold
DESCRIPTION:
URL:https://thecivicholmfirth.org/events/zumba-gold-2/2028-07-12/
LOCATION:The Civic Holmfirth\, Huddersfield Road\, Holmfirth\, HD9 3AS
CATEGORIES:Clubs & Classes
ATTACH;FMTTYPE=image/jpeg:https://thecivicholmfirth.org/wp-content/uploads/2025/06/zumba_gold_logo_color.jpg
GEO:53.572496509564;-1.7860824573628
X-APPLE-STRUCTURED-LOCATION;VALUE=URI;X-ADDRESS=The Civic Holmfirth Huddersfield Road Holmfirth HD9 3AS;X-APPLE-RADIUS=500;X-TITLE=Huddersfield Road:geo:-1.7860824573628,53.572496509564
END:VEVENT
BEGIN:VEVENT
DTSTART;TZID=Europe/London:20280712T111500
DTEND;TZID=Europe/London:20280712T121500
DTSTAMP:20260421T171824
CREATED:20240206T112405Z
LAST-MODIFIED:20250807T110805Z
UID:10005731-1847013300-1847016900@thecivicholmfirth.org
SUMMARY:Mixed Ability Pilates
DESCRIPTION:
URL:https://thecivicholmfirth.org/events/mixed-ability-pilates-2/2028-07-12/
LOCATION:Lesser Hall\, The Civic Holmfirth\, Holmfirth\, HD9 3AS
CATEGORIES:Clubs & Classes
ATTACH;FMTTYPE=image/jpeg:https://thecivicholmfirth.org/wp-content/uploads/2021/04/Tak-Active-Modern-Pilates.jpg
ORGANIZER;CN="Karen Flynn":MAILTO:physiokaren76@gmail.com
GEO:53.572496509564;-1.7860824573628
X-APPLE-STRUCTURED-LOCATION;VALUE=URI;X-ADDRESS=Lesser Hall The Civic Holmfirth Holmfirth HD9 3AS;X-APPLE-RADIUS=500;X-TITLE=The Civic Holmfirth:geo:-1.7860824573628,53.572496509564
END:VEVENT
BEGIN:VEVENT
DTSTART;TZID=Europe/London:20280712T123000
DTEND;TZID=Europe/London:20280712T153000
DTSTAMP:20260421T171824
CREATED:20250603T105651Z
LAST-MODIFIED:20260306T142938Z
UID:10009155-1847017800-1847028600@thecivicholmfirth.org
SUMMARY:U3A Pickleball
DESCRIPTION:
URL:https://thecivicholmfirth.org/events/u3a-pickleball-2-2/2028-07-12/
LOCATION:The Civic Holmfirth\, Huddersfield Road\, Holmfirth\, HD9 3AS
CATEGORIES:Clubs & Classes
ATTACH;FMTTYPE=image/jpeg:https://thecivicholmfirth.org/wp-content/uploads/2024/01/Picture1.jpg
GEO:53.572496509564;-1.7860824573628
X-APPLE-STRUCTURED-LOCATION;VALUE=URI;X-ADDRESS=The Civic Holmfirth Huddersfield Road Holmfirth HD9 3AS;X-APPLE-RADIUS=500;X-TITLE=Huddersfield Road:geo:-1.7860824573628,53.572496509564
END:VEVENT
BEGIN:VEVENT
DTSTART;TZID=Europe/London:20280712T190000
DTEND;TZID=Europe/London:20280712T210000
DTSTAMP:20260421T171824
CREATED:20260306T110827Z
LAST-MODIFIED:20260306T114832Z
UID:10012087-1847041200-1847048400@thecivicholmfirth.org
SUMMARY:Huddersfield Samba
DESCRIPTION:
URL:https://thecivicholmfirth.org/events/huddersfield-samba/2028-07-12/
LOCATION:Reception Room
CATEGORIES:Clubs & Classes
ATTACH;FMTTYPE=image/jpeg:https://thecivicholmfirth.org/wp-content/uploads/2026/03/image.jpg
ORGANIZER;CN="Huddersfield Samba":MAILTO:hello@huddersfieldsamba.co.uk
END:VEVENT
BEGIN:VEVENT
DTSTART;TZID=Europe/London:20280712T193000
DTEND;TZID=Europe/London:20280712T220000
DTSTAMP:20260421T171824
CREATED:20260330T135950Z
LAST-MODIFIED:20260330T140139Z
UID:10010124-1847043000-1847052000@thecivicholmfirth.org
SUMMARY:Holmfirth Jive Dance Club
DESCRIPTION:
URL:https://thecivicholmfirth.org/events/vibejive-dance-club-2-2/2028-07-12/
LOCATION:Large Hall\, The Civic Holmfirth\, Holmfirth\, HD9 3AS\, United Kingdom
CATEGORIES:Clubs & Classes
ATTACH;FMTTYPE=image/jpeg:https://thecivicholmfirth.org/wp-content/uploads/2025/02/holmfirth-jive.jpg
GEO:53.572496509564;-1.7860824573628
X-APPLE-STRUCTURED-LOCATION;VALUE=URI;X-ADDRESS=Large Hall The Civic Holmfirth Holmfirth HD9 3AS United Kingdom;X-APPLE-RADIUS=500;X-TITLE=The Civic Holmfirth:geo:-1.7860824573628,53.572496509564
END:VEVENT
BEGIN:VEVENT
DTSTART;TZID=Europe/London:20280713T193000
DTEND;TZID=Europe/London:20280713T210000
DTSTAMP:20260421T171824
CREATED:20260306T123249Z
LAST-MODIFIED:20260306T123249Z
UID:10012319-1847129400-1847134800@thecivicholmfirth.org
SUMMARY:Holmfirth Local History Group
DESCRIPTION:
URL:https://thecivicholmfirth.org/events/holmfirth-local-history-group/2028-07-13/
LOCATION:Exhibition Room
CATEGORIES:Clubs & Classes
ATTACH;FMTTYPE=image/png:https://thecivicholmfirth.org/wp-content/uploads/2026/03/cropped-HolmfirthArms-1-300x300-1.png
END:VEVENT
BEGIN:VEVENT
DTSTART;TZID=Europe/London:20280714T093000
DTEND;TZID=Europe/London:20280714T113000
DTSTAMP:20260421T171824
CREATED:20210407T104909Z
LAST-MODIFIED:20260306T104302Z
UID:10005574-1847179800-1847187000@thecivicholmfirth.org
SUMMARY:Ladies Badminton
DESCRIPTION:
URL:https://thecivicholmfirth.org/events/ladies-badminton/2028-07-14/
LOCATION:Large Hall\, The Civic Holmfirth\, Holmfirth\, HD9 3AS\, United Kingdom
CATEGORIES:Clubs & Classes
ATTACH;FMTTYPE=image/jpeg:https://thecivicholmfirth.org/wp-content/uploads/2021/04/Ladies-Badminton.jpg
GEO:53.572496509564;-1.7860824573628
X-APPLE-STRUCTURED-LOCATION;VALUE=URI;X-ADDRESS=Large Hall The Civic Holmfirth Holmfirth HD9 3AS United Kingdom;X-APPLE-RADIUS=500;X-TITLE=The Civic Holmfirth:geo:-1.7860824573628,53.572496509564
END:VEVENT
BEGIN:VEVENT
DTSTART;TZID=Europe/London:20280717T100000
DTEND;TZID=Europe/London:20280717T110000
DTSTAMP:20260421T171824
CREATED:20240716T111208Z
LAST-MODIFIED:20260205T134807Z
UID:10011766-1847440800-1847444400@thecivicholmfirth.org
SUMMARY:Monday Movers Low Impact Dancercise
DESCRIPTION:
URL:https://thecivicholmfirth.org/events/monday-movers/2028-07-17/
LOCATION:Large Hall\, The Civic Holmfirth\, Holmfirth\, HD9 3AS\, United Kingdom
CATEGORIES:Clubs & Classes
ATTACH;FMTTYPE=image/png:https://thecivicholmfirth.org/wp-content/uploads/2024/07/image-3.png
GEO:53.572496509564;-1.7860824573628
X-APPLE-STRUCTURED-LOCATION;VALUE=URI;X-ADDRESS=Large Hall The Civic Holmfirth Holmfirth HD9 3AS United Kingdom;X-APPLE-RADIUS=500;X-TITLE=The Civic Holmfirth:geo:-1.7860824573628,53.572496509564
END:VEVENT
BEGIN:VEVENT
DTSTART;TZID=Europe/London:20280717T111500
DTEND;TZID=Europe/London:20280717T121500
DTSTAMP:20260421T171824
CREATED:20240719T092024Z
LAST-MODIFIED:20240719T092024Z
UID:10008187-1847445300-1847448900@thecivicholmfirth.org
SUMMARY:Holistic Fusion Class
DESCRIPTION:
URL:https://thecivicholmfirth.org/events/holistic-fusion-class/2028-07-17/
LOCATION:The Civic Holmfirth\, Huddersfield Road\, Holmfirth\, HD9 3AS
CATEGORIES:Clubs & Classes
ATTACH;FMTTYPE=image/jpeg:https://thecivicholmfirth.org/wp-content/uploads/2024/07/Holistic-Fusion-photo.jpg
GEO:53.572496509564;-1.7860824573628
X-APPLE-STRUCTURED-LOCATION;VALUE=URI;X-ADDRESS=The Civic Holmfirth Huddersfield Road Holmfirth HD9 3AS;X-APPLE-RADIUS=500;X-TITLE=Huddersfield Road:geo:-1.7860824573628,53.572496509564
END:VEVENT
BEGIN:VEVENT
DTSTART;TZID=Europe/London:20280717T113000
DTEND;TZID=Europe/London:20280717T130000
DTSTAMP:20260421T171824
CREATED:20251008T161259Z
LAST-MODIFIED:20251008T161259Z
UID:10011270-1847446200-1847451600@thecivicholmfirth.org
SUMMARY:Holmfirth Community Lunch Club
DESCRIPTION:
URL:https://thecivicholmfirth.org/events/holmfirth-community-lunch-club/2028-07-17/
LOCATION:Reception Room
CATEGORIES:Clubs & Classes
ATTACH;FMTTYPE=image/jpeg:https://thecivicholmfirth.org/wp-content/uploads/2025/10/HV-Logo.jpg
ORGANIZER;CN="Royal Voluntary Service - Holme Valley":MAILTO:holmfirthlunchclub@royalvoluntaryservice.org.uk
END:VEVENT
BEGIN:VEVENT
DTSTART;TZID=Europe/London:20280717T183000
DTEND;TZID=Europe/London:20280717T193000
DTSTAMP:20260421T171824
CREATED:20250507T111548Z
LAST-MODIFIED:20250507T111551Z
UID:10005104-1847471400-1847475000@thecivicholmfirth.org
SUMMARY:Pilates -  Beginners & Mixed Ability
DESCRIPTION:
URL:https://thecivicholmfirth.org/events/beginners-pilates-talkactive-2-2/2028-07-17/
LOCATION:Lesser Hall\, The Civic Holmfirth\, Holmfirth\, HD9 3AS
CATEGORIES:Clubs & Classes
ATTACH;FMTTYPE=image/jpeg:https://thecivicholmfirth.org/wp-content/uploads/2021/04/Tak-Active-Modern-Pilates.jpg
ORGANIZER;CN="Julie Edwards":MAILTO:julieedwardsmail@gmail.com
GEO:53.572496509564;-1.7860824573628
X-APPLE-STRUCTURED-LOCATION;VALUE=URI;X-ADDRESS=Lesser Hall The Civic Holmfirth Holmfirth HD9 3AS;X-APPLE-RADIUS=500;X-TITLE=The Civic Holmfirth:geo:-1.7860824573628,53.572496509564
END:VEVENT
BEGIN:VEVENT
DTSTART;TZID=Europe/London:20280717T183000
DTEND;TZID=Europe/London:20280717T203000
DTSTAMP:20260421T171824
CREATED:20230104T144220Z
LAST-MODIFIED:20230105T113141Z
UID:10006604-1847471400-1847478600@thecivicholmfirth.org
SUMMARY:Netherthong Badminton
DESCRIPTION:
URL:https://thecivicholmfirth.org/events/netherthong-badminton/2028-07-17/
LOCATION:Large Hall\, The Civic Holmfirth\, Holmfirth\, HD9 3AS\, United Kingdom
CATEGORIES:Clubs & Classes
ATTACH;FMTTYPE=image/jpeg:https://thecivicholmfirth.org/wp-content/uploads/2021/04/Ladies-Badminton.jpg
GEO:53.572496509564;-1.7860824573628
X-APPLE-STRUCTURED-LOCATION;VALUE=URI;X-ADDRESS=Large Hall The Civic Holmfirth Holmfirth HD9 3AS United Kingdom;X-APPLE-RADIUS=500;X-TITLE=The Civic Holmfirth:geo:-1.7860824573628,53.572496509564
END:VEVENT
BEGIN:VEVENT
DTSTART;TZID=Europe/London:20280717T193000
DTEND;TZID=Europe/London:20280717T203000
DTSTAMP:20260421T171824
CREATED:20250507T111420Z
LAST-MODIFIED:20250507T111423Z
UID:10005261-1847475000-1847478600@thecivicholmfirth.org
SUMMARY:Pilates – Improvers
DESCRIPTION:
URL:https://thecivicholmfirth.org/events/pilates-improvers-2-2/2028-07-17/
LOCATION:Lesser Hall\, The Civic Holmfirth\, Holmfirth\, HD9 3AS
CATEGORIES:Clubs & Classes
ATTACH;FMTTYPE=image/jpeg:https://thecivicholmfirth.org/wp-content/uploads/2021/04/Improvers-Pilates.jpg
ORGANIZER;CN="Julie Edwards":MAILTO:julieedwardsmail@gmail.com
GEO:53.572496509564;-1.7860824573628
X-APPLE-STRUCTURED-LOCATION;VALUE=URI;X-ADDRESS=Lesser Hall The Civic Holmfirth Holmfirth HD9 3AS;X-APPLE-RADIUS=500;X-TITLE=The Civic Holmfirth:geo:-1.7860824573628,53.572496509564
END:VEVENT
BEGIN:VEVENT
DTSTART;TZID=Europe/London:20280718T200000
DTEND;TZID=Europe/London:20280718T213000
DTSTAMP:20260421T171824
CREATED:20210407T103151Z
LAST-MODIFIED:20230712T102236Z
UID:10005418-1847563200-1847568600@thecivicholmfirth.org
SUMMARY:Holmfirth Badminton Club
DESCRIPTION:
URL:https://thecivicholmfirth.org/events/holmfirth-badminton-club/2028-07-18/
LOCATION:Large Hall\, The Civic Holmfirth\, Holmfirth\, HD9 3AS\, United Kingdom
CATEGORIES:Clubs & Classes
ATTACH;FMTTYPE=image/jpeg:https://thecivicholmfirth.org/wp-content/uploads/2021/04/Badminton-Netherthong-BC.jpg
GEO:53.572496509564;-1.7860824573628
X-APPLE-STRUCTURED-LOCATION;VALUE=URI;X-ADDRESS=Large Hall The Civic Holmfirth Holmfirth HD9 3AS United Kingdom;X-APPLE-RADIUS=500;X-TITLE=The Civic Holmfirth:geo:-1.7860824573628,53.572496509564
END:VEVENT
BEGIN:VEVENT
DTSTART;TZID=Europe/London:20280719T100000
DTEND;TZID=Europe/London:20280719T110000
DTSTAMP:20260421T171824
CREATED:20250725T105111Z
LAST-MODIFIED:20250725T105112Z
UID:10010987-1847613600-1847617200@thecivicholmfirth.org
SUMMARY:Zumba Gold
DESCRIPTION:
URL:https://thecivicholmfirth.org/events/zumba-gold-2/2028-07-19/
LOCATION:The Civic Holmfirth\, Huddersfield Road\, Holmfirth\, HD9 3AS
CATEGORIES:Clubs & Classes
ATTACH;FMTTYPE=image/jpeg:https://thecivicholmfirth.org/wp-content/uploads/2025/06/zumba_gold_logo_color.jpg
GEO:53.572496509564;-1.7860824573628
X-APPLE-STRUCTURED-LOCATION;VALUE=URI;X-ADDRESS=The Civic Holmfirth Huddersfield Road Holmfirth HD9 3AS;X-APPLE-RADIUS=500;X-TITLE=Huddersfield Road:geo:-1.7860824573628,53.572496509564
END:VEVENT
BEGIN:VEVENT
DTSTART;TZID=Europe/London:20280719T111500
DTEND;TZID=Europe/London:20280719T121500
DTSTAMP:20260421T171824
CREATED:20240206T112405Z
LAST-MODIFIED:20250807T110805Z
UID:10005732-1847618100-1847621700@thecivicholmfirth.org
SUMMARY:Mixed Ability Pilates
DESCRIPTION:
URL:https://thecivicholmfirth.org/events/mixed-ability-pilates-2/2028-07-19/
LOCATION:Lesser Hall\, The Civic Holmfirth\, Holmfirth\, HD9 3AS
CATEGORIES:Clubs & Classes
ATTACH;FMTTYPE=image/jpeg:https://thecivicholmfirth.org/wp-content/uploads/2021/04/Tak-Active-Modern-Pilates.jpg
ORGANIZER;CN="Karen Flynn":MAILTO:physiokaren76@gmail.com
GEO:53.572496509564;-1.7860824573628
X-APPLE-STRUCTURED-LOCATION;VALUE=URI;X-ADDRESS=Lesser Hall The Civic Holmfirth Holmfirth HD9 3AS;X-APPLE-RADIUS=500;X-TITLE=The Civic Holmfirth:geo:-1.7860824573628,53.572496509564
END:VEVENT
BEGIN:VEVENT
DTSTART;TZID=Europe/London:20280719T123000
DTEND;TZID=Europe/London:20280719T153000
DTSTAMP:20260421T171824
CREATED:20250603T105651Z
LAST-MODIFIED:20260306T142938Z
UID:10009156-1847622600-1847633400@thecivicholmfirth.org
SUMMARY:U3A Pickleball
DESCRIPTION:
URL:https://thecivicholmfirth.org/events/u3a-pickleball-2-2/2028-07-19/
LOCATION:The Civic Holmfirth\, Huddersfield Road\, Holmfirth\, HD9 3AS
CATEGORIES:Clubs & Classes
ATTACH;FMTTYPE=image/jpeg:https://thecivicholmfirth.org/wp-content/uploads/2024/01/Picture1.jpg
GEO:53.572496509564;-1.7860824573628
X-APPLE-STRUCTURED-LOCATION;VALUE=URI;X-ADDRESS=The Civic Holmfirth Huddersfield Road Holmfirth HD9 3AS;X-APPLE-RADIUS=500;X-TITLE=Huddersfield Road:geo:-1.7860824573628,53.572496509564
END:VEVENT
BEGIN:VEVENT
DTSTART;TZID=Europe/London:20280719T190000
DTEND;TZID=Europe/London:20280719T210000
DTSTAMP:20260421T171824
CREATED:20260306T110827Z
LAST-MODIFIED:20260306T114832Z
UID:10012088-1847646000-1847653200@thecivicholmfirth.org
SUMMARY:Huddersfield Samba
DESCRIPTION:
URL:https://thecivicholmfirth.org/events/huddersfield-samba/2028-07-19/
LOCATION:Reception Room
CATEGORIES:Clubs & Classes
ATTACH;FMTTYPE=image/jpeg:https://thecivicholmfirth.org/wp-content/uploads/2026/03/image.jpg
ORGANIZER;CN="Huddersfield Samba":MAILTO:hello@huddersfieldsamba.co.uk
END:VEVENT
BEGIN:VEVENT
DTSTART;TZID=Europe/London:20280719T193000
DTEND;TZID=Europe/London:20280719T220000
DTSTAMP:20260421T171824
CREATED:20260330T135950Z
LAST-MODIFIED:20260330T140139Z
UID:10010125-1847647800-1847656800@thecivicholmfirth.org
SUMMARY:Holmfirth Jive Dance Club
DESCRIPTION:
URL:https://thecivicholmfirth.org/events/vibejive-dance-club-2-2/2028-07-19/
LOCATION:Large Hall\, The Civic Holmfirth\, Holmfirth\, HD9 3AS\, United Kingdom
CATEGORIES:Clubs & Classes
ATTACH;FMTTYPE=image/jpeg:https://thecivicholmfirth.org/wp-content/uploads/2025/02/holmfirth-jive.jpg
GEO:53.572496509564;-1.7860824573628
X-APPLE-STRUCTURED-LOCATION;VALUE=URI;X-ADDRESS=Large Hall The Civic Holmfirth Holmfirth HD9 3AS United Kingdom;X-APPLE-RADIUS=500;X-TITLE=The Civic Holmfirth:geo:-1.7860824573628,53.572496509564
END:VEVENT
BEGIN:VEVENT
DTSTART;TZID=Europe/London:20280720T193000
DTEND;TZID=Europe/London:20280720T210000
DTSTAMP:20260421T171824
CREATED:20260306T121731Z
LAST-MODIFIED:20260306T121731Z
UID:10012259-1847734200-1847739600@thecivicholmfirth.org
SUMMARY:Holme Valley Civic Society
DESCRIPTION:
URL:https://thecivicholmfirth.org/events/holme-valley-civic-society/2028-07-20/
LOCATION:Lesser Hall\, The Civic Holmfirth\, Holmfirth\, HD9 3AS
CATEGORIES:Clubs & Classes
ATTACH;FMTTYPE=image/jpeg:https://thecivicholmfirth.org/wp-content/uploads/2026/03/March-2026.jpg
GEO:53.572496509564;-1.7860824573628
X-APPLE-STRUCTURED-LOCATION;VALUE=URI;X-ADDRESS=Lesser Hall The Civic Holmfirth Holmfirth HD9 3AS;X-APPLE-RADIUS=500;X-TITLE=The Civic Holmfirth:geo:-1.7860824573628,53.572496509564
END:VEVENT
END:VCALENDAR