BEGIN:VCALENDAR
VERSION:2.0
PRODID:-//The Civic, Holmfirth - ECPv6.15.20//NONSGML v1.0//EN
CALSCALE:GREGORIAN
METHOD:PUBLISH
X-WR-CALNAME:The Civic, Holmfirth
X-ORIGINAL-URL:https://thecivicholmfirth.org
X-WR-CALDESC:Events for The Civic, Holmfirth
REFRESH-INTERVAL;VALUE=DURATION:PT1H
X-Robots-Tag:noindex
X-PUBLISHED-TTL:PT1H
BEGIN:VTIMEZONE
TZID:Europe/London
BEGIN:DAYLIGHT
TZOFFSETFROM:+0000
TZOFFSETTO:+0100
TZNAME:BST
DTSTART:20250330T010000
END:DAYLIGHT
BEGIN:STANDARD
TZOFFSETFROM:+0100
TZOFFSETTO:+0000
TZNAME:GMT
DTSTART:20251026T010000
END:STANDARD
BEGIN:DAYLIGHT
TZOFFSETFROM:+0000
TZOFFSETTO:+0100
TZNAME:BST
DTSTART:20260329T010000
END:DAYLIGHT
BEGIN:STANDARD
TZOFFSETFROM:+0100
TZOFFSETTO:+0000
TZNAME:GMT
DTSTART:20261025T010000
END:STANDARD
BEGIN:DAYLIGHT
TZOFFSETFROM:+0000
TZOFFSETTO:+0100
TZNAME:BST
DTSTART:20270328T010000
END:DAYLIGHT
BEGIN:STANDARD
TZOFFSETFROM:+0100
TZOFFSETTO:+0000
TZNAME:GMT
DTSTART:20271031T010000
END:STANDARD
BEGIN:DAYLIGHT
TZOFFSETFROM:+0000
TZOFFSETTO:+0100
TZNAME:BST
DTSTART:20280326T010000
END:DAYLIGHT
BEGIN:STANDARD
TZOFFSETFROM:+0100
TZOFFSETTO:+0000
TZNAME:GMT
DTSTART:20281029T010000
END:STANDARD
BEGIN:DAYLIGHT
TZOFFSETFROM:+0000
TZOFFSETTO:+0100
TZNAME:BST
DTSTART:20290325T010000
END:DAYLIGHT
BEGIN:STANDARD
TZOFFSETFROM:+0100
TZOFFSETTO:+0000
TZNAME:GMT
DTSTART:20291028T010000
END:STANDARD
END:VTIMEZONE
BEGIN:VEVENT
DTSTART;TZID=Europe/London:20260514T193000
DTEND;TZID=Europe/London:20260514T210000
DTSTAMP:20260423T161208
CREATED:20260306T123249Z
LAST-MODIFIED:20260306T123249Z
UID:10012293-1778787000-1778792400@thecivicholmfirth.org
SUMMARY:Holmfirth Local History Group
DESCRIPTION:
URL:https://thecivicholmfirth.org/events/holmfirth-local-history-group/2026-05-14/
LOCATION:Exhibition Room
CATEGORIES:Clubs & Classes
ATTACH;FMTTYPE=image/png:https://thecivicholmfirth.org/wp-content/uploads/2026/03/cropped-HolmfirthArms-1-300x300-1.png
END:VEVENT
BEGIN:VEVENT
DTSTART;TZID=Europe/London:20260611T193000
DTEND;TZID=Europe/London:20260611T210000
DTSTAMP:20260423T161208
CREATED:20260306T123249Z
LAST-MODIFIED:20260306T123249Z
UID:10012294-1781206200-1781211600@thecivicholmfirth.org
SUMMARY:Holmfirth Local History Group
DESCRIPTION:
URL:https://thecivicholmfirth.org/events/holmfirth-local-history-group/2026-06-11/
LOCATION:Exhibition Room
CATEGORIES:Clubs & Classes
ATTACH;FMTTYPE=image/png:https://thecivicholmfirth.org/wp-content/uploads/2026/03/cropped-HolmfirthArms-1-300x300-1.png
END:VEVENT
BEGIN:VEVENT
DTSTART;TZID=Europe/London:20260709T193000
DTEND;TZID=Europe/London:20260709T210000
DTSTAMP:20260423T161208
CREATED:20260306T123249Z
LAST-MODIFIED:20260306T123249Z
UID:10012295-1783625400-1783630800@thecivicholmfirth.org
SUMMARY:Holmfirth Local History Group
DESCRIPTION:
URL:https://thecivicholmfirth.org/events/holmfirth-local-history-group/2026-07-09/
LOCATION:Exhibition Room
CATEGORIES:Clubs & Classes
ATTACH;FMTTYPE=image/png:https://thecivicholmfirth.org/wp-content/uploads/2026/03/cropped-HolmfirthArms-1-300x300-1.png
END:VEVENT
BEGIN:VEVENT
DTSTART;TZID=Europe/London:20260813T193000
DTEND;TZID=Europe/London:20260813T210000
DTSTAMP:20260423T161208
CREATED:20260306T123249Z
LAST-MODIFIED:20260306T123249Z
UID:10012296-1786649400-1786654800@thecivicholmfirth.org
SUMMARY:Holmfirth Local History Group
DESCRIPTION:
URL:https://thecivicholmfirth.org/events/holmfirth-local-history-group/2026-08-13/
LOCATION:Exhibition Room
CATEGORIES:Clubs & Classes
ATTACH;FMTTYPE=image/png:https://thecivicholmfirth.org/wp-content/uploads/2026/03/cropped-HolmfirthArms-1-300x300-1.png
END:VEVENT
BEGIN:VEVENT
DTSTART;TZID=Europe/London:20260910T193000
DTEND;TZID=Europe/London:20260910T210000
DTSTAMP:20260423T161208
CREATED:20260306T123249Z
LAST-MODIFIED:20260306T123249Z
UID:10012297-1789068600-1789074000@thecivicholmfirth.org
SUMMARY:Holmfirth Local History Group
DESCRIPTION:
URL:https://thecivicholmfirth.org/events/holmfirth-local-history-group/2026-09-10/
LOCATION:Exhibition Room
CATEGORIES:Clubs & Classes
ATTACH;FMTTYPE=image/png:https://thecivicholmfirth.org/wp-content/uploads/2026/03/cropped-HolmfirthArms-1-300x300-1.png
END:VEVENT
BEGIN:VEVENT
DTSTART;TZID=Europe/London:20261008T193000
DTEND;TZID=Europe/London:20261008T210000
DTSTAMP:20260423T161208
CREATED:20260306T123249Z
LAST-MODIFIED:20260306T123249Z
UID:10012298-1791487800-1791493200@thecivicholmfirth.org
SUMMARY:Holmfirth Local History Group
DESCRIPTION:
URL:https://thecivicholmfirth.org/events/holmfirth-local-history-group/2026-10-08/
LOCATION:Exhibition Room
CATEGORIES:Clubs & Classes
ATTACH;FMTTYPE=image/png:https://thecivicholmfirth.org/wp-content/uploads/2026/03/cropped-HolmfirthArms-1-300x300-1.png
END:VEVENT
BEGIN:VEVENT
DTSTART;TZID=Europe/London:20261112T193000
DTEND;TZID=Europe/London:20261112T210000
DTSTAMP:20260423T161208
CREATED:20260306T123249Z
LAST-MODIFIED:20260306T123249Z
UID:10012299-1794511800-1794517200@thecivicholmfirth.org
SUMMARY:Holmfirth Local History Group
DESCRIPTION:
URL:https://thecivicholmfirth.org/events/holmfirth-local-history-group/2026-11-12/
LOCATION:Exhibition Room
CATEGORIES:Clubs & Classes
ATTACH;FMTTYPE=image/png:https://thecivicholmfirth.org/wp-content/uploads/2026/03/cropped-HolmfirthArms-1-300x300-1.png
END:VEVENT
BEGIN:VEVENT
DTSTART;TZID=Europe/London:20261210T193000
DTEND;TZID=Europe/London:20261210T210000
DTSTAMP:20260423T161208
CREATED:20260306T123249Z
LAST-MODIFIED:20260306T123249Z
UID:10012300-1796931000-1796936400@thecivicholmfirth.org
SUMMARY:Holmfirth Local History Group
DESCRIPTION:
URL:https://thecivicholmfirth.org/events/holmfirth-local-history-group/2026-12-10/
LOCATION:Exhibition Room
CATEGORIES:Clubs & Classes
ATTACH;FMTTYPE=image/png:https://thecivicholmfirth.org/wp-content/uploads/2026/03/cropped-HolmfirthArms-1-300x300-1.png
END:VEVENT
BEGIN:VEVENT
DTSTART;TZID=Europe/London:20270114T193000
DTEND;TZID=Europe/London:20270114T210000
DTSTAMP:20260423T161208
CREATED:20260306T123249Z
LAST-MODIFIED:20260306T123249Z
UID:10012301-1799955000-1799960400@thecivicholmfirth.org
SUMMARY:Holmfirth Local History Group
DESCRIPTION:
URL:https://thecivicholmfirth.org/events/holmfirth-local-history-group/2027-01-14/
LOCATION:Exhibition Room
CATEGORIES:Clubs & Classes
ATTACH;FMTTYPE=image/png:https://thecivicholmfirth.org/wp-content/uploads/2026/03/cropped-HolmfirthArms-1-300x300-1.png
END:VEVENT
BEGIN:VEVENT
DTSTART;TZID=Europe/London:20270211T193000
DTEND;TZID=Europe/London:20270211T210000
DTSTAMP:20260423T161208
CREATED:20260306T123249Z
LAST-MODIFIED:20260306T123249Z
UID:10012302-1802374200-1802379600@thecivicholmfirth.org
SUMMARY:Holmfirth Local History Group
DESCRIPTION:
URL:https://thecivicholmfirth.org/events/holmfirth-local-history-group/2027-02-11/
LOCATION:Exhibition Room
CATEGORIES:Clubs & Classes
ATTACH;FMTTYPE=image/png:https://thecivicholmfirth.org/wp-content/uploads/2026/03/cropped-HolmfirthArms-1-300x300-1.png
END:VEVENT
BEGIN:VEVENT
DTSTART;TZID=Europe/London:20270311T193000
DTEND;TZID=Europe/London:20270311T210000
DTSTAMP:20260423T161208
CREATED:20260306T123249Z
LAST-MODIFIED:20260306T123249Z
UID:10012303-1804793400-1804798800@thecivicholmfirth.org
SUMMARY:Holmfirth Local History Group
DESCRIPTION:
URL:https://thecivicholmfirth.org/events/holmfirth-local-history-group/2027-03-11/
LOCATION:Exhibition Room
CATEGORIES:Clubs & Classes
ATTACH;FMTTYPE=image/png:https://thecivicholmfirth.org/wp-content/uploads/2026/03/cropped-HolmfirthArms-1-300x300-1.png
END:VEVENT
BEGIN:VEVENT
DTSTART;TZID=Europe/London:20270408T193000
DTEND;TZID=Europe/London:20270408T210000
DTSTAMP:20260423T161208
CREATED:20260306T123249Z
LAST-MODIFIED:20260306T123249Z
UID:10012304-1807212600-1807218000@thecivicholmfirth.org
SUMMARY:Holmfirth Local History Group
DESCRIPTION:
URL:https://thecivicholmfirth.org/events/holmfirth-local-history-group/2027-04-08/
LOCATION:Exhibition Room
CATEGORIES:Clubs & Classes
ATTACH;FMTTYPE=image/png:https://thecivicholmfirth.org/wp-content/uploads/2026/03/cropped-HolmfirthArms-1-300x300-1.png
END:VEVENT
BEGIN:VEVENT
DTSTART;TZID=Europe/London:20270513T193000
DTEND;TZID=Europe/London:20270513T210000
DTSTAMP:20260423T161208
CREATED:20260306T123249Z
LAST-MODIFIED:20260306T123249Z
UID:10012305-1810236600-1810242000@thecivicholmfirth.org
SUMMARY:Holmfirth Local History Group
DESCRIPTION:
URL:https://thecivicholmfirth.org/events/holmfirth-local-history-group/2027-05-13/
LOCATION:Exhibition Room
CATEGORIES:Clubs & Classes
ATTACH;FMTTYPE=image/png:https://thecivicholmfirth.org/wp-content/uploads/2026/03/cropped-HolmfirthArms-1-300x300-1.png
END:VEVENT
BEGIN:VEVENT
DTSTART;TZID=Europe/London:20270610T193000
DTEND;TZID=Europe/London:20270610T210000
DTSTAMP:20260423T161208
CREATED:20260306T123249Z
LAST-MODIFIED:20260306T123249Z
UID:10012306-1812655800-1812661200@thecivicholmfirth.org
SUMMARY:Holmfirth Local History Group
DESCRIPTION:
URL:https://thecivicholmfirth.org/events/holmfirth-local-history-group/2027-06-10/
LOCATION:Exhibition Room
CATEGORIES:Clubs & Classes
ATTACH;FMTTYPE=image/png:https://thecivicholmfirth.org/wp-content/uploads/2026/03/cropped-HolmfirthArms-1-300x300-1.png
END:VEVENT
BEGIN:VEVENT
DTSTART;TZID=Europe/London:20270708T193000
DTEND;TZID=Europe/London:20270708T210000
DTSTAMP:20260423T161208
CREATED:20260306T123249Z
LAST-MODIFIED:20260306T123249Z
UID:10012307-1815075000-1815080400@thecivicholmfirth.org
SUMMARY:Holmfirth Local History Group
DESCRIPTION:
URL:https://thecivicholmfirth.org/events/holmfirth-local-history-group/2027-07-08/
LOCATION:Exhibition Room
CATEGORIES:Clubs & Classes
ATTACH;FMTTYPE=image/png:https://thecivicholmfirth.org/wp-content/uploads/2026/03/cropped-HolmfirthArms-1-300x300-1.png
END:VEVENT
BEGIN:VEVENT
DTSTART;TZID=Europe/London:20270812T193000
DTEND;TZID=Europe/London:20270812T210000
DTSTAMP:20260423T161208
CREATED:20260306T123249Z
LAST-MODIFIED:20260306T123249Z
UID:10012308-1818099000-1818104400@thecivicholmfirth.org
SUMMARY:Holmfirth Local History Group
DESCRIPTION:
URL:https://thecivicholmfirth.org/events/holmfirth-local-history-group/2027-08-12/
LOCATION:Exhibition Room
CATEGORIES:Clubs & Classes
ATTACH;FMTTYPE=image/png:https://thecivicholmfirth.org/wp-content/uploads/2026/03/cropped-HolmfirthArms-1-300x300-1.png
END:VEVENT
BEGIN:VEVENT
DTSTART;TZID=Europe/London:20270909T193000
DTEND;TZID=Europe/London:20270909T210000
DTSTAMP:20260423T161208
CREATED:20260306T123249Z
LAST-MODIFIED:20260306T123249Z
UID:10012309-1820518200-1820523600@thecivicholmfirth.org
SUMMARY:Holmfirth Local History Group
DESCRIPTION:
URL:https://thecivicholmfirth.org/events/holmfirth-local-history-group/2027-09-09/
LOCATION:Exhibition Room
CATEGORIES:Clubs & Classes
ATTACH;FMTTYPE=image/png:https://thecivicholmfirth.org/wp-content/uploads/2026/03/cropped-HolmfirthArms-1-300x300-1.png
END:VEVENT
BEGIN:VEVENT
DTSTART;TZID=Europe/London:20271014T193000
DTEND;TZID=Europe/London:20271014T210000
DTSTAMP:20260423T161208
CREATED:20260306T123249Z
LAST-MODIFIED:20260306T123249Z
UID:10012310-1823542200-1823547600@thecivicholmfirth.org
SUMMARY:Holmfirth Local History Group
DESCRIPTION:
URL:https://thecivicholmfirth.org/events/holmfirth-local-history-group/2027-10-14/
LOCATION:Exhibition Room
CATEGORIES:Clubs & Classes
ATTACH;FMTTYPE=image/png:https://thecivicholmfirth.org/wp-content/uploads/2026/03/cropped-HolmfirthArms-1-300x300-1.png
END:VEVENT
BEGIN:VEVENT
DTSTART;TZID=Europe/London:20271111T193000
DTEND;TZID=Europe/London:20271111T210000
DTSTAMP:20260423T161208
CREATED:20260306T123249Z
LAST-MODIFIED:20260306T123249Z
UID:10012311-1825961400-1825966800@thecivicholmfirth.org
SUMMARY:Holmfirth Local History Group
DESCRIPTION:
URL:https://thecivicholmfirth.org/events/holmfirth-local-history-group/2027-11-11/
LOCATION:Exhibition Room
CATEGORIES:Clubs & Classes
ATTACH;FMTTYPE=image/png:https://thecivicholmfirth.org/wp-content/uploads/2026/03/cropped-HolmfirthArms-1-300x300-1.png
END:VEVENT
BEGIN:VEVENT
DTSTART;TZID=Europe/London:20271209T193000
DTEND;TZID=Europe/London:20271209T210000
DTSTAMP:20260423T161208
CREATED:20260306T123249Z
LAST-MODIFIED:20260306T123249Z
UID:10012312-1828380600-1828386000@thecivicholmfirth.org
SUMMARY:Holmfirth Local History Group
DESCRIPTION:
URL:https://thecivicholmfirth.org/events/holmfirth-local-history-group/2027-12-09/
LOCATION:Exhibition Room
CATEGORIES:Clubs & Classes
ATTACH;FMTTYPE=image/png:https://thecivicholmfirth.org/wp-content/uploads/2026/03/cropped-HolmfirthArms-1-300x300-1.png
END:VEVENT
BEGIN:VEVENT
DTSTART;TZID=Europe/London:20280113T193000
DTEND;TZID=Europe/London:20280113T210000
DTSTAMP:20260423T161208
CREATED:20260306T123249Z
LAST-MODIFIED:20260306T123249Z
UID:10012313-1831404600-1831410000@thecivicholmfirth.org
SUMMARY:Holmfirth Local History Group
DESCRIPTION:
URL:https://thecivicholmfirth.org/events/holmfirth-local-history-group/2028-01-13/
LOCATION:Exhibition Room
CATEGORIES:Clubs & Classes
ATTACH;FMTTYPE=image/png:https://thecivicholmfirth.org/wp-content/uploads/2026/03/cropped-HolmfirthArms-1-300x300-1.png
END:VEVENT
BEGIN:VEVENT
DTSTART;TZID=Europe/London:20280210T193000
DTEND;TZID=Europe/London:20280210T210000
DTSTAMP:20260423T161208
CREATED:20260306T123249Z
LAST-MODIFIED:20260306T123249Z
UID:10012314-1833823800-1833829200@thecivicholmfirth.org
SUMMARY:Holmfirth Local History Group
DESCRIPTION:
URL:https://thecivicholmfirth.org/events/holmfirth-local-history-group/2028-02-10/
LOCATION:Exhibition Room
CATEGORIES:Clubs & Classes
ATTACH;FMTTYPE=image/png:https://thecivicholmfirth.org/wp-content/uploads/2026/03/cropped-HolmfirthArms-1-300x300-1.png
END:VEVENT
BEGIN:VEVENT
DTSTART;TZID=Europe/London:20280309T193000
DTEND;TZID=Europe/London:20280309T210000
DTSTAMP:20260423T161208
CREATED:20260306T123249Z
LAST-MODIFIED:20260306T123249Z
UID:10012315-1836243000-1836248400@thecivicholmfirth.org
SUMMARY:Holmfirth Local History Group
DESCRIPTION:
URL:https://thecivicholmfirth.org/events/holmfirth-local-history-group/2028-03-09/
LOCATION:Exhibition Room
CATEGORIES:Clubs & Classes
ATTACH;FMTTYPE=image/png:https://thecivicholmfirth.org/wp-content/uploads/2026/03/cropped-HolmfirthArms-1-300x300-1.png
END:VEVENT
BEGIN:VEVENT
DTSTART;TZID=Europe/London:20280413T193000
DTEND;TZID=Europe/London:20280413T210000
DTSTAMP:20260423T161208
CREATED:20260306T123249Z
LAST-MODIFIED:20260306T123249Z
UID:10012316-1839267000-1839272400@thecivicholmfirth.org
SUMMARY:Holmfirth Local History Group
DESCRIPTION:
URL:https://thecivicholmfirth.org/events/holmfirth-local-history-group/2028-04-13/
LOCATION:Exhibition Room
CATEGORIES:Clubs & Classes
ATTACH;FMTTYPE=image/png:https://thecivicholmfirth.org/wp-content/uploads/2026/03/cropped-HolmfirthArms-1-300x300-1.png
END:VEVENT
BEGIN:VEVENT
DTSTART;TZID=Europe/London:20280511T193000
DTEND;TZID=Europe/London:20280511T210000
DTSTAMP:20260423T161208
CREATED:20260306T123249Z
LAST-MODIFIED:20260306T123249Z
UID:10012317-1841686200-1841691600@thecivicholmfirth.org
SUMMARY:Holmfirth Local History Group
DESCRIPTION:
URL:https://thecivicholmfirth.org/events/holmfirth-local-history-group/2028-05-11/
LOCATION:Exhibition Room
CATEGORIES:Clubs & Classes
ATTACH;FMTTYPE=image/png:https://thecivicholmfirth.org/wp-content/uploads/2026/03/cropped-HolmfirthArms-1-300x300-1.png
END:VEVENT
BEGIN:VEVENT
DTSTART;TZID=Europe/London:20280608T193000
DTEND;TZID=Europe/London:20280608T210000
DTSTAMP:20260423T161208
CREATED:20260306T123249Z
LAST-MODIFIED:20260306T123249Z
UID:10012318-1844105400-1844110800@thecivicholmfirth.org
SUMMARY:Holmfirth Local History Group
DESCRIPTION:
URL:https://thecivicholmfirth.org/events/holmfirth-local-history-group/2028-06-08/
LOCATION:Exhibition Room
CATEGORIES:Clubs & Classes
ATTACH;FMTTYPE=image/png:https://thecivicholmfirth.org/wp-content/uploads/2026/03/cropped-HolmfirthArms-1-300x300-1.png
END:VEVENT
BEGIN:VEVENT
DTSTART;TZID=Europe/London:20280713T193000
DTEND;TZID=Europe/London:20280713T210000
DTSTAMP:20260423T161208
CREATED:20260306T123249Z
LAST-MODIFIED:20260306T123249Z
UID:10012319-1847129400-1847134800@thecivicholmfirth.org
SUMMARY:Holmfirth Local History Group
DESCRIPTION:
URL:https://thecivicholmfirth.org/events/holmfirth-local-history-group/2028-07-13/
LOCATION:Exhibition Room
CATEGORIES:Clubs & Classes
ATTACH;FMTTYPE=image/png:https://thecivicholmfirth.org/wp-content/uploads/2026/03/cropped-HolmfirthArms-1-300x300-1.png
END:VEVENT
BEGIN:VEVENT
DTSTART;TZID=Europe/London:20280810T193000
DTEND;TZID=Europe/London:20280810T210000
DTSTAMP:20260423T161208
CREATED:20260306T123249Z
LAST-MODIFIED:20260306T123249Z
UID:10012320-1849548600-1849554000@thecivicholmfirth.org
SUMMARY:Holmfirth Local History Group
DESCRIPTION:
URL:https://thecivicholmfirth.org/events/holmfirth-local-history-group/2028-08-10/
LOCATION:Exhibition Room
CATEGORIES:Clubs & Classes
ATTACH;FMTTYPE=image/png:https://thecivicholmfirth.org/wp-content/uploads/2026/03/cropped-HolmfirthArms-1-300x300-1.png
END:VEVENT
BEGIN:VEVENT
DTSTART;TZID=Europe/London:20280914T193000
DTEND;TZID=Europe/London:20280914T210000
DTSTAMP:20260423T161208
CREATED:20260306T123249Z
LAST-MODIFIED:20260306T123249Z
UID:10012321-1852572600-1852578000@thecivicholmfirth.org
SUMMARY:Holmfirth Local History Group
DESCRIPTION:
URL:https://thecivicholmfirth.org/events/holmfirth-local-history-group/2028-09-14/
LOCATION:Exhibition Room
CATEGORIES:Clubs & Classes
ATTACH;FMTTYPE=image/png:https://thecivicholmfirth.org/wp-content/uploads/2026/03/cropped-HolmfirthArms-1-300x300-1.png
END:VEVENT
BEGIN:VEVENT
DTSTART;TZID=Europe/London:20281012T193000
DTEND;TZID=Europe/London:20281012T210000
DTSTAMP:20260423T161208
CREATED:20260306T123249Z
LAST-MODIFIED:20260306T123249Z
UID:10012322-1854991800-1854997200@thecivicholmfirth.org
SUMMARY:Holmfirth Local History Group
DESCRIPTION:
URL:https://thecivicholmfirth.org/events/holmfirth-local-history-group/2028-10-12/
LOCATION:Exhibition Room
CATEGORIES:Clubs & Classes
ATTACH;FMTTYPE=image/png:https://thecivicholmfirth.org/wp-content/uploads/2026/03/cropped-HolmfirthArms-1-300x300-1.png
END:VEVENT
END:VCALENDAR