BEGIN:VCALENDAR
VERSION:2.0
PRODID:-//The Civic, Holmfirth - ECPv6.15.20//NONSGML v1.0//EN
CALSCALE:GREGORIAN
METHOD:PUBLISH
X-WR-CALNAME:The Civic, Holmfirth
X-ORIGINAL-URL:https://thecivicholmfirth.org
X-WR-CALDESC:Events for The Civic, Holmfirth
REFRESH-INTERVAL;VALUE=DURATION:PT1H
X-Robots-Tag:noindex
X-PUBLISHED-TTL:PT1H
BEGIN:VTIMEZONE
TZID:Europe/London
BEGIN:DAYLIGHT
TZOFFSETFROM:+0000
TZOFFSETTO:+0100
TZNAME:BST
DTSTART:20250330T010000
END:DAYLIGHT
BEGIN:STANDARD
TZOFFSETFROM:+0100
TZOFFSETTO:+0000
TZNAME:GMT
DTSTART:20251026T010000
END:STANDARD
BEGIN:DAYLIGHT
TZOFFSETFROM:+0000
TZOFFSETTO:+0100
TZNAME:BST
DTSTART:20260329T010000
END:DAYLIGHT
BEGIN:STANDARD
TZOFFSETFROM:+0100
TZOFFSETTO:+0000
TZNAME:GMT
DTSTART:20261025T010000
END:STANDARD
BEGIN:DAYLIGHT
TZOFFSETFROM:+0000
TZOFFSETTO:+0100
TZNAME:BST
DTSTART:20270328T010000
END:DAYLIGHT
BEGIN:STANDARD
TZOFFSETFROM:+0100
TZOFFSETTO:+0000
TZNAME:GMT
DTSTART:20271031T010000
END:STANDARD
BEGIN:DAYLIGHT
TZOFFSETFROM:+0000
TZOFFSETTO:+0100
TZNAME:BST
DTSTART:20280326T010000
END:DAYLIGHT
BEGIN:STANDARD
TZOFFSETFROM:+0100
TZOFFSETTO:+0000
TZNAME:GMT
DTSTART:20281029T010000
END:STANDARD
BEGIN:DAYLIGHT
TZOFFSETFROM:+0000
TZOFFSETTO:+0100
TZNAME:BST
DTSTART:20290325T010000
END:DAYLIGHT
BEGIN:STANDARD
TZOFFSETFROM:+0100
TZOFFSETTO:+0000
TZNAME:GMT
DTSTART:20291028T010000
END:STANDARD
END:VTIMEZONE
BEGIN:VEVENT
DTSTART;TZID=Europe/London:20260521T193000
DTEND;TZID=Europe/London:20260521T210000
DTSTAMP:20260423T171235
CREATED:20260306T121731Z
LAST-MODIFIED:20260306T121731Z
UID:10012233-1779391800-1779397200@thecivicholmfirth.org
SUMMARY:Holme Valley Civic Society
DESCRIPTION:
URL:https://thecivicholmfirth.org/events/holme-valley-civic-society/2026-05-21/
LOCATION:Lesser Hall\, The Civic Holmfirth\, Holmfirth\, HD9 3AS
CATEGORIES:Clubs & Classes
ATTACH;FMTTYPE=image/jpeg:https://thecivicholmfirth.org/wp-content/uploads/2026/03/March-2026.jpg
GEO:53.572496509564;-1.7860824573628
X-APPLE-STRUCTURED-LOCATION;VALUE=URI;X-ADDRESS=Lesser Hall The Civic Holmfirth Holmfirth HD9 3AS;X-APPLE-RADIUS=500;X-TITLE=The Civic Holmfirth:geo:-1.7860824573628,53.572496509564
END:VEVENT
BEGIN:VEVENT
DTSTART;TZID=Europe/London:20260618T193000
DTEND;TZID=Europe/London:20260618T210000
DTSTAMP:20260423T171235
CREATED:20260306T121731Z
LAST-MODIFIED:20260306T121731Z
UID:10012234-1781811000-1781816400@thecivicholmfirth.org
SUMMARY:Holme Valley Civic Society
DESCRIPTION:
URL:https://thecivicholmfirth.org/events/holme-valley-civic-society/2026-06-18/
LOCATION:Lesser Hall\, The Civic Holmfirth\, Holmfirth\, HD9 3AS
CATEGORIES:Clubs & Classes
ATTACH;FMTTYPE=image/jpeg:https://thecivicholmfirth.org/wp-content/uploads/2026/03/March-2026.jpg
GEO:53.572496509564;-1.7860824573628
X-APPLE-STRUCTURED-LOCATION;VALUE=URI;X-ADDRESS=Lesser Hall The Civic Holmfirth Holmfirth HD9 3AS;X-APPLE-RADIUS=500;X-TITLE=The Civic Holmfirth:geo:-1.7860824573628,53.572496509564
END:VEVENT
BEGIN:VEVENT
DTSTART;TZID=Europe/London:20260716T193000
DTEND;TZID=Europe/London:20260716T210000
DTSTAMP:20260423T171235
CREATED:20260306T121731Z
LAST-MODIFIED:20260306T121731Z
UID:10012235-1784230200-1784235600@thecivicholmfirth.org
SUMMARY:Holme Valley Civic Society
DESCRIPTION:
URL:https://thecivicholmfirth.org/events/holme-valley-civic-society/2026-07-16/
LOCATION:Lesser Hall\, The Civic Holmfirth\, Holmfirth\, HD9 3AS
CATEGORIES:Clubs & Classes
ATTACH;FMTTYPE=image/jpeg:https://thecivicholmfirth.org/wp-content/uploads/2026/03/March-2026.jpg
GEO:53.572496509564;-1.7860824573628
X-APPLE-STRUCTURED-LOCATION;VALUE=URI;X-ADDRESS=Lesser Hall The Civic Holmfirth Holmfirth HD9 3AS;X-APPLE-RADIUS=500;X-TITLE=The Civic Holmfirth:geo:-1.7860824573628,53.572496509564
END:VEVENT
BEGIN:VEVENT
DTSTART;TZID=Europe/London:20260820T193000
DTEND;TZID=Europe/London:20260820T210000
DTSTAMP:20260423T171235
CREATED:20260306T121731Z
LAST-MODIFIED:20260306T121731Z
UID:10012236-1787254200-1787259600@thecivicholmfirth.org
SUMMARY:Holme Valley Civic Society
DESCRIPTION:
URL:https://thecivicholmfirth.org/events/holme-valley-civic-society/2026-08-20/
LOCATION:Lesser Hall\, The Civic Holmfirth\, Holmfirth\, HD9 3AS
CATEGORIES:Clubs & Classes
ATTACH;FMTTYPE=image/jpeg:https://thecivicholmfirth.org/wp-content/uploads/2026/03/March-2026.jpg
GEO:53.572496509564;-1.7860824573628
X-APPLE-STRUCTURED-LOCATION;VALUE=URI;X-ADDRESS=Lesser Hall The Civic Holmfirth Holmfirth HD9 3AS;X-APPLE-RADIUS=500;X-TITLE=The Civic Holmfirth:geo:-1.7860824573628,53.572496509564
END:VEVENT
BEGIN:VEVENT
DTSTART;TZID=Europe/London:20260917T193000
DTEND;TZID=Europe/London:20260917T210000
DTSTAMP:20260423T171235
CREATED:20260306T121731Z
LAST-MODIFIED:20260306T121731Z
UID:10012237-1789673400-1789678800@thecivicholmfirth.org
SUMMARY:Holme Valley Civic Society
DESCRIPTION:
URL:https://thecivicholmfirth.org/events/holme-valley-civic-society/2026-09-17/
LOCATION:Lesser Hall\, The Civic Holmfirth\, Holmfirth\, HD9 3AS
CATEGORIES:Clubs & Classes
ATTACH;FMTTYPE=image/jpeg:https://thecivicholmfirth.org/wp-content/uploads/2026/03/March-2026.jpg
GEO:53.572496509564;-1.7860824573628
X-APPLE-STRUCTURED-LOCATION;VALUE=URI;X-ADDRESS=Lesser Hall The Civic Holmfirth Holmfirth HD9 3AS;X-APPLE-RADIUS=500;X-TITLE=The Civic Holmfirth:geo:-1.7860824573628,53.572496509564
END:VEVENT
BEGIN:VEVENT
DTSTART;TZID=Europe/London:20261015T193000
DTEND;TZID=Europe/London:20261015T210000
DTSTAMP:20260423T171235
CREATED:20260306T121731Z
LAST-MODIFIED:20260306T121731Z
UID:10012238-1792092600-1792098000@thecivicholmfirth.org
SUMMARY:Holme Valley Civic Society
DESCRIPTION:
URL:https://thecivicholmfirth.org/events/holme-valley-civic-society/2026-10-15/
LOCATION:Lesser Hall\, The Civic Holmfirth\, Holmfirth\, HD9 3AS
CATEGORIES:Clubs & Classes
ATTACH;FMTTYPE=image/jpeg:https://thecivicholmfirth.org/wp-content/uploads/2026/03/March-2026.jpg
GEO:53.572496509564;-1.7860824573628
X-APPLE-STRUCTURED-LOCATION;VALUE=URI;X-ADDRESS=Lesser Hall The Civic Holmfirth Holmfirth HD9 3AS;X-APPLE-RADIUS=500;X-TITLE=The Civic Holmfirth:geo:-1.7860824573628,53.572496509564
END:VEVENT
BEGIN:VEVENT
DTSTART;TZID=Europe/London:20261119T193000
DTEND;TZID=Europe/London:20261119T210000
DTSTAMP:20260423T171235
CREATED:20260306T121731Z
LAST-MODIFIED:20260306T121731Z
UID:10012239-1795116600-1795122000@thecivicholmfirth.org
SUMMARY:Holme Valley Civic Society
DESCRIPTION:
URL:https://thecivicholmfirth.org/events/holme-valley-civic-society/2026-11-19/
LOCATION:Lesser Hall\, The Civic Holmfirth\, Holmfirth\, HD9 3AS
CATEGORIES:Clubs & Classes
ATTACH;FMTTYPE=image/jpeg:https://thecivicholmfirth.org/wp-content/uploads/2026/03/March-2026.jpg
GEO:53.572496509564;-1.7860824573628
X-APPLE-STRUCTURED-LOCATION;VALUE=URI;X-ADDRESS=Lesser Hall The Civic Holmfirth Holmfirth HD9 3AS;X-APPLE-RADIUS=500;X-TITLE=The Civic Holmfirth:geo:-1.7860824573628,53.572496509564
END:VEVENT
BEGIN:VEVENT
DTSTART;TZID=Europe/London:20261217T193000
DTEND;TZID=Europe/London:20261217T210000
DTSTAMP:20260423T171235
CREATED:20260306T121731Z
LAST-MODIFIED:20260306T121731Z
UID:10012240-1797535800-1797541200@thecivicholmfirth.org
SUMMARY:Holme Valley Civic Society
DESCRIPTION:
URL:https://thecivicholmfirth.org/events/holme-valley-civic-society/2026-12-17/
LOCATION:Lesser Hall\, The Civic Holmfirth\, Holmfirth\, HD9 3AS
CATEGORIES:Clubs & Classes
ATTACH;FMTTYPE=image/jpeg:https://thecivicholmfirth.org/wp-content/uploads/2026/03/March-2026.jpg
GEO:53.572496509564;-1.7860824573628
X-APPLE-STRUCTURED-LOCATION;VALUE=URI;X-ADDRESS=Lesser Hall The Civic Holmfirth Holmfirth HD9 3AS;X-APPLE-RADIUS=500;X-TITLE=The Civic Holmfirth:geo:-1.7860824573628,53.572496509564
END:VEVENT
BEGIN:VEVENT
DTSTART;TZID=Europe/London:20270121T193000
DTEND;TZID=Europe/London:20270121T210000
DTSTAMP:20260423T171235
CREATED:20260306T121731Z
LAST-MODIFIED:20260306T121731Z
UID:10012241-1800559800-1800565200@thecivicholmfirth.org
SUMMARY:Holme Valley Civic Society
DESCRIPTION:
URL:https://thecivicholmfirth.org/events/holme-valley-civic-society/2027-01-21/
LOCATION:Lesser Hall\, The Civic Holmfirth\, Holmfirth\, HD9 3AS
CATEGORIES:Clubs & Classes
ATTACH;FMTTYPE=image/jpeg:https://thecivicholmfirth.org/wp-content/uploads/2026/03/March-2026.jpg
GEO:53.572496509564;-1.7860824573628
X-APPLE-STRUCTURED-LOCATION;VALUE=URI;X-ADDRESS=Lesser Hall The Civic Holmfirth Holmfirth HD9 3AS;X-APPLE-RADIUS=500;X-TITLE=The Civic Holmfirth:geo:-1.7860824573628,53.572496509564
END:VEVENT
BEGIN:VEVENT
DTSTART;TZID=Europe/London:20270218T193000
DTEND;TZID=Europe/London:20270218T210000
DTSTAMP:20260423T171235
CREATED:20260306T121731Z
LAST-MODIFIED:20260306T121731Z
UID:10012242-1802979000-1802984400@thecivicholmfirth.org
SUMMARY:Holme Valley Civic Society
DESCRIPTION:
URL:https://thecivicholmfirth.org/events/holme-valley-civic-society/2027-02-18/
LOCATION:Lesser Hall\, The Civic Holmfirth\, Holmfirth\, HD9 3AS
CATEGORIES:Clubs & Classes
ATTACH;FMTTYPE=image/jpeg:https://thecivicholmfirth.org/wp-content/uploads/2026/03/March-2026.jpg
GEO:53.572496509564;-1.7860824573628
X-APPLE-STRUCTURED-LOCATION;VALUE=URI;X-ADDRESS=Lesser Hall The Civic Holmfirth Holmfirth HD9 3AS;X-APPLE-RADIUS=500;X-TITLE=The Civic Holmfirth:geo:-1.7860824573628,53.572496509564
END:VEVENT
BEGIN:VEVENT
DTSTART;TZID=Europe/London:20270318T193000
DTEND;TZID=Europe/London:20270318T210000
DTSTAMP:20260423T171235
CREATED:20260306T121731Z
LAST-MODIFIED:20260306T121731Z
UID:10012243-1805398200-1805403600@thecivicholmfirth.org
SUMMARY:Holme Valley Civic Society
DESCRIPTION:
URL:https://thecivicholmfirth.org/events/holme-valley-civic-society/2027-03-18/
LOCATION:Lesser Hall\, The Civic Holmfirth\, Holmfirth\, HD9 3AS
CATEGORIES:Clubs & Classes
ATTACH;FMTTYPE=image/jpeg:https://thecivicholmfirth.org/wp-content/uploads/2026/03/March-2026.jpg
GEO:53.572496509564;-1.7860824573628
X-APPLE-STRUCTURED-LOCATION;VALUE=URI;X-ADDRESS=Lesser Hall The Civic Holmfirth Holmfirth HD9 3AS;X-APPLE-RADIUS=500;X-TITLE=The Civic Holmfirth:geo:-1.7860824573628,53.572496509564
END:VEVENT
BEGIN:VEVENT
DTSTART;TZID=Europe/London:20270415T193000
DTEND;TZID=Europe/London:20270415T210000
DTSTAMP:20260423T171235
CREATED:20260306T121731Z
LAST-MODIFIED:20260306T121731Z
UID:10012244-1807817400-1807822800@thecivicholmfirth.org
SUMMARY:Holme Valley Civic Society
DESCRIPTION:
URL:https://thecivicholmfirth.org/events/holme-valley-civic-society/2027-04-15/
LOCATION:Lesser Hall\, The Civic Holmfirth\, Holmfirth\, HD9 3AS
CATEGORIES:Clubs & Classes
ATTACH;FMTTYPE=image/jpeg:https://thecivicholmfirth.org/wp-content/uploads/2026/03/March-2026.jpg
GEO:53.572496509564;-1.7860824573628
X-APPLE-STRUCTURED-LOCATION;VALUE=URI;X-ADDRESS=Lesser Hall The Civic Holmfirth Holmfirth HD9 3AS;X-APPLE-RADIUS=500;X-TITLE=The Civic Holmfirth:geo:-1.7860824573628,53.572496509564
END:VEVENT
BEGIN:VEVENT
DTSTART;TZID=Europe/London:20270520T193000
DTEND;TZID=Europe/London:20270520T210000
DTSTAMP:20260423T171235
CREATED:20260306T121731Z
LAST-MODIFIED:20260306T121731Z
UID:10012245-1810841400-1810846800@thecivicholmfirth.org
SUMMARY:Holme Valley Civic Society
DESCRIPTION:
URL:https://thecivicholmfirth.org/events/holme-valley-civic-society/2027-05-20/
LOCATION:Lesser Hall\, The Civic Holmfirth\, Holmfirth\, HD9 3AS
CATEGORIES:Clubs & Classes
ATTACH;FMTTYPE=image/jpeg:https://thecivicholmfirth.org/wp-content/uploads/2026/03/March-2026.jpg
GEO:53.572496509564;-1.7860824573628
X-APPLE-STRUCTURED-LOCATION;VALUE=URI;X-ADDRESS=Lesser Hall The Civic Holmfirth Holmfirth HD9 3AS;X-APPLE-RADIUS=500;X-TITLE=The Civic Holmfirth:geo:-1.7860824573628,53.572496509564
END:VEVENT
BEGIN:VEVENT
DTSTART;TZID=Europe/London:20270617T193000
DTEND;TZID=Europe/London:20270617T210000
DTSTAMP:20260423T171235
CREATED:20260306T121731Z
LAST-MODIFIED:20260306T121731Z
UID:10012246-1813260600-1813266000@thecivicholmfirth.org
SUMMARY:Holme Valley Civic Society
DESCRIPTION:
URL:https://thecivicholmfirth.org/events/holme-valley-civic-society/2027-06-17/
LOCATION:Lesser Hall\, The Civic Holmfirth\, Holmfirth\, HD9 3AS
CATEGORIES:Clubs & Classes
ATTACH;FMTTYPE=image/jpeg:https://thecivicholmfirth.org/wp-content/uploads/2026/03/March-2026.jpg
GEO:53.572496509564;-1.7860824573628
X-APPLE-STRUCTURED-LOCATION;VALUE=URI;X-ADDRESS=Lesser Hall The Civic Holmfirth Holmfirth HD9 3AS;X-APPLE-RADIUS=500;X-TITLE=The Civic Holmfirth:geo:-1.7860824573628,53.572496509564
END:VEVENT
BEGIN:VEVENT
DTSTART;TZID=Europe/London:20270715T193000
DTEND;TZID=Europe/London:20270715T210000
DTSTAMP:20260423T171235
CREATED:20260306T121731Z
LAST-MODIFIED:20260306T121731Z
UID:10012247-1815679800-1815685200@thecivicholmfirth.org
SUMMARY:Holme Valley Civic Society
DESCRIPTION:
URL:https://thecivicholmfirth.org/events/holme-valley-civic-society/2027-07-15/
LOCATION:Lesser Hall\, The Civic Holmfirth\, Holmfirth\, HD9 3AS
CATEGORIES:Clubs & Classes
ATTACH;FMTTYPE=image/jpeg:https://thecivicholmfirth.org/wp-content/uploads/2026/03/March-2026.jpg
GEO:53.572496509564;-1.7860824573628
X-APPLE-STRUCTURED-LOCATION;VALUE=URI;X-ADDRESS=Lesser Hall The Civic Holmfirth Holmfirth HD9 3AS;X-APPLE-RADIUS=500;X-TITLE=The Civic Holmfirth:geo:-1.7860824573628,53.572496509564
END:VEVENT
BEGIN:VEVENT
DTSTART;TZID=Europe/London:20270819T193000
DTEND;TZID=Europe/London:20270819T210000
DTSTAMP:20260423T171235
CREATED:20260306T121731Z
LAST-MODIFIED:20260306T121731Z
UID:10012248-1818703800-1818709200@thecivicholmfirth.org
SUMMARY:Holme Valley Civic Society
DESCRIPTION:
URL:https://thecivicholmfirth.org/events/holme-valley-civic-society/2027-08-19/
LOCATION:Lesser Hall\, The Civic Holmfirth\, Holmfirth\, HD9 3AS
CATEGORIES:Clubs & Classes
ATTACH;FMTTYPE=image/jpeg:https://thecivicholmfirth.org/wp-content/uploads/2026/03/March-2026.jpg
GEO:53.572496509564;-1.7860824573628
X-APPLE-STRUCTURED-LOCATION;VALUE=URI;X-ADDRESS=Lesser Hall The Civic Holmfirth Holmfirth HD9 3AS;X-APPLE-RADIUS=500;X-TITLE=The Civic Holmfirth:geo:-1.7860824573628,53.572496509564
END:VEVENT
BEGIN:VEVENT
DTSTART;TZID=Europe/London:20270916T193000
DTEND;TZID=Europe/London:20270916T210000
DTSTAMP:20260423T171235
CREATED:20260306T121731Z
LAST-MODIFIED:20260306T121731Z
UID:10012249-1821123000-1821128400@thecivicholmfirth.org
SUMMARY:Holme Valley Civic Society
DESCRIPTION:
URL:https://thecivicholmfirth.org/events/holme-valley-civic-society/2027-09-16/
LOCATION:Lesser Hall\, The Civic Holmfirth\, Holmfirth\, HD9 3AS
CATEGORIES:Clubs & Classes
ATTACH;FMTTYPE=image/jpeg:https://thecivicholmfirth.org/wp-content/uploads/2026/03/March-2026.jpg
GEO:53.572496509564;-1.7860824573628
X-APPLE-STRUCTURED-LOCATION;VALUE=URI;X-ADDRESS=Lesser Hall The Civic Holmfirth Holmfirth HD9 3AS;X-APPLE-RADIUS=500;X-TITLE=The Civic Holmfirth:geo:-1.7860824573628,53.572496509564
END:VEVENT
BEGIN:VEVENT
DTSTART;TZID=Europe/London:20271021T193000
DTEND;TZID=Europe/London:20271021T210000
DTSTAMP:20260423T171235
CREATED:20260306T121731Z
LAST-MODIFIED:20260306T121731Z
UID:10012250-1824147000-1824152400@thecivicholmfirth.org
SUMMARY:Holme Valley Civic Society
DESCRIPTION:
URL:https://thecivicholmfirth.org/events/holme-valley-civic-society/2027-10-21/
LOCATION:Lesser Hall\, The Civic Holmfirth\, Holmfirth\, HD9 3AS
CATEGORIES:Clubs & Classes
ATTACH;FMTTYPE=image/jpeg:https://thecivicholmfirth.org/wp-content/uploads/2026/03/March-2026.jpg
GEO:53.572496509564;-1.7860824573628
X-APPLE-STRUCTURED-LOCATION;VALUE=URI;X-ADDRESS=Lesser Hall The Civic Holmfirth Holmfirth HD9 3AS;X-APPLE-RADIUS=500;X-TITLE=The Civic Holmfirth:geo:-1.7860824573628,53.572496509564
END:VEVENT
BEGIN:VEVENT
DTSTART;TZID=Europe/London:20271118T193000
DTEND;TZID=Europe/London:20271118T210000
DTSTAMP:20260423T171235
CREATED:20260306T121731Z
LAST-MODIFIED:20260306T121731Z
UID:10012251-1826566200-1826571600@thecivicholmfirth.org
SUMMARY:Holme Valley Civic Society
DESCRIPTION:
URL:https://thecivicholmfirth.org/events/holme-valley-civic-society/2027-11-18/
LOCATION:Lesser Hall\, The Civic Holmfirth\, Holmfirth\, HD9 3AS
CATEGORIES:Clubs & Classes
ATTACH;FMTTYPE=image/jpeg:https://thecivicholmfirth.org/wp-content/uploads/2026/03/March-2026.jpg
GEO:53.572496509564;-1.7860824573628
X-APPLE-STRUCTURED-LOCATION;VALUE=URI;X-ADDRESS=Lesser Hall The Civic Holmfirth Holmfirth HD9 3AS;X-APPLE-RADIUS=500;X-TITLE=The Civic Holmfirth:geo:-1.7860824573628,53.572496509564
END:VEVENT
BEGIN:VEVENT
DTSTART;TZID=Europe/London:20271216T193000
DTEND;TZID=Europe/London:20271216T210000
DTSTAMP:20260423T171235
CREATED:20260306T121731Z
LAST-MODIFIED:20260306T121731Z
UID:10012252-1828985400-1828990800@thecivicholmfirth.org
SUMMARY:Holme Valley Civic Society
DESCRIPTION:
URL:https://thecivicholmfirth.org/events/holme-valley-civic-society/2027-12-16/
LOCATION:Lesser Hall\, The Civic Holmfirth\, Holmfirth\, HD9 3AS
CATEGORIES:Clubs & Classes
ATTACH;FMTTYPE=image/jpeg:https://thecivicholmfirth.org/wp-content/uploads/2026/03/March-2026.jpg
GEO:53.572496509564;-1.7860824573628
X-APPLE-STRUCTURED-LOCATION;VALUE=URI;X-ADDRESS=Lesser Hall The Civic Holmfirth Holmfirth HD9 3AS;X-APPLE-RADIUS=500;X-TITLE=The Civic Holmfirth:geo:-1.7860824573628,53.572496509564
END:VEVENT
BEGIN:VEVENT
DTSTART;TZID=Europe/London:20280120T193000
DTEND;TZID=Europe/London:20280120T210000
DTSTAMP:20260423T171235
CREATED:20260306T121731Z
LAST-MODIFIED:20260306T121731Z
UID:10012253-1832009400-1832014800@thecivicholmfirth.org
SUMMARY:Holme Valley Civic Society
DESCRIPTION:
URL:https://thecivicholmfirth.org/events/holme-valley-civic-society/2028-01-20/
LOCATION:Lesser Hall\, The Civic Holmfirth\, Holmfirth\, HD9 3AS
CATEGORIES:Clubs & Classes
ATTACH;FMTTYPE=image/jpeg:https://thecivicholmfirth.org/wp-content/uploads/2026/03/March-2026.jpg
GEO:53.572496509564;-1.7860824573628
X-APPLE-STRUCTURED-LOCATION;VALUE=URI;X-ADDRESS=Lesser Hall The Civic Holmfirth Holmfirth HD9 3AS;X-APPLE-RADIUS=500;X-TITLE=The Civic Holmfirth:geo:-1.7860824573628,53.572496509564
END:VEVENT
BEGIN:VEVENT
DTSTART;TZID=Europe/London:20280217T193000
DTEND;TZID=Europe/London:20280217T210000
DTSTAMP:20260423T171235
CREATED:20260306T121731Z
LAST-MODIFIED:20260306T121731Z
UID:10012254-1834428600-1834434000@thecivicholmfirth.org
SUMMARY:Holme Valley Civic Society
DESCRIPTION:
URL:https://thecivicholmfirth.org/events/holme-valley-civic-society/2028-02-17/
LOCATION:Lesser Hall\, The Civic Holmfirth\, Holmfirth\, HD9 3AS
CATEGORIES:Clubs & Classes
ATTACH;FMTTYPE=image/jpeg:https://thecivicholmfirth.org/wp-content/uploads/2026/03/March-2026.jpg
GEO:53.572496509564;-1.7860824573628
X-APPLE-STRUCTURED-LOCATION;VALUE=URI;X-ADDRESS=Lesser Hall The Civic Holmfirth Holmfirth HD9 3AS;X-APPLE-RADIUS=500;X-TITLE=The Civic Holmfirth:geo:-1.7860824573628,53.572496509564
END:VEVENT
BEGIN:VEVENT
DTSTART;TZID=Europe/London:20280316T193000
DTEND;TZID=Europe/London:20280316T210000
DTSTAMP:20260423T171235
CREATED:20260306T121731Z
LAST-MODIFIED:20260306T121731Z
UID:10012255-1836847800-1836853200@thecivicholmfirth.org
SUMMARY:Holme Valley Civic Society
DESCRIPTION:
URL:https://thecivicholmfirth.org/events/holme-valley-civic-society/2028-03-16/
LOCATION:Lesser Hall\, The Civic Holmfirth\, Holmfirth\, HD9 3AS
CATEGORIES:Clubs & Classes
ATTACH;FMTTYPE=image/jpeg:https://thecivicholmfirth.org/wp-content/uploads/2026/03/March-2026.jpg
GEO:53.572496509564;-1.7860824573628
X-APPLE-STRUCTURED-LOCATION;VALUE=URI;X-ADDRESS=Lesser Hall The Civic Holmfirth Holmfirth HD9 3AS;X-APPLE-RADIUS=500;X-TITLE=The Civic Holmfirth:geo:-1.7860824573628,53.572496509564
END:VEVENT
BEGIN:VEVENT
DTSTART;TZID=Europe/London:20280420T193000
DTEND;TZID=Europe/London:20280420T210000
DTSTAMP:20260423T171236
CREATED:20260306T121731Z
LAST-MODIFIED:20260306T121731Z
UID:10012256-1839871800-1839877200@thecivicholmfirth.org
SUMMARY:Holme Valley Civic Society
DESCRIPTION:
URL:https://thecivicholmfirth.org/events/holme-valley-civic-society/2028-04-20/
LOCATION:Lesser Hall\, The Civic Holmfirth\, Holmfirth\, HD9 3AS
CATEGORIES:Clubs & Classes
ATTACH;FMTTYPE=image/jpeg:https://thecivicholmfirth.org/wp-content/uploads/2026/03/March-2026.jpg
GEO:53.572496509564;-1.7860824573628
X-APPLE-STRUCTURED-LOCATION;VALUE=URI;X-ADDRESS=Lesser Hall The Civic Holmfirth Holmfirth HD9 3AS;X-APPLE-RADIUS=500;X-TITLE=The Civic Holmfirth:geo:-1.7860824573628,53.572496509564
END:VEVENT
BEGIN:VEVENT
DTSTART;TZID=Europe/London:20280518T193000
DTEND;TZID=Europe/London:20280518T210000
DTSTAMP:20260423T171236
CREATED:20260306T121731Z
LAST-MODIFIED:20260306T121731Z
UID:10012257-1842291000-1842296400@thecivicholmfirth.org
SUMMARY:Holme Valley Civic Society
DESCRIPTION:
URL:https://thecivicholmfirth.org/events/holme-valley-civic-society/2028-05-18/
LOCATION:Lesser Hall\, The Civic Holmfirth\, Holmfirth\, HD9 3AS
CATEGORIES:Clubs & Classes
ATTACH;FMTTYPE=image/jpeg:https://thecivicholmfirth.org/wp-content/uploads/2026/03/March-2026.jpg
GEO:53.572496509564;-1.7860824573628
X-APPLE-STRUCTURED-LOCATION;VALUE=URI;X-ADDRESS=Lesser Hall The Civic Holmfirth Holmfirth HD9 3AS;X-APPLE-RADIUS=500;X-TITLE=The Civic Holmfirth:geo:-1.7860824573628,53.572496509564
END:VEVENT
BEGIN:VEVENT
DTSTART;TZID=Europe/London:20280615T193000
DTEND;TZID=Europe/London:20280615T210000
DTSTAMP:20260423T171236
CREATED:20260306T121731Z
LAST-MODIFIED:20260306T121731Z
UID:10012258-1844710200-1844715600@thecivicholmfirth.org
SUMMARY:Holme Valley Civic Society
DESCRIPTION:
URL:https://thecivicholmfirth.org/events/holme-valley-civic-society/2028-06-15/
LOCATION:Lesser Hall\, The Civic Holmfirth\, Holmfirth\, HD9 3AS
CATEGORIES:Clubs & Classes
ATTACH;FMTTYPE=image/jpeg:https://thecivicholmfirth.org/wp-content/uploads/2026/03/March-2026.jpg
GEO:53.572496509564;-1.7860824573628
X-APPLE-STRUCTURED-LOCATION;VALUE=URI;X-ADDRESS=Lesser Hall The Civic Holmfirth Holmfirth HD9 3AS;X-APPLE-RADIUS=500;X-TITLE=The Civic Holmfirth:geo:-1.7860824573628,53.572496509564
END:VEVENT
BEGIN:VEVENT
DTSTART;TZID=Europe/London:20280720T193000
DTEND;TZID=Europe/London:20280720T210000
DTSTAMP:20260423T171236
CREATED:20260306T121731Z
LAST-MODIFIED:20260306T121731Z
UID:10012259-1847734200-1847739600@thecivicholmfirth.org
SUMMARY:Holme Valley Civic Society
DESCRIPTION:
URL:https://thecivicholmfirth.org/events/holme-valley-civic-society/2028-07-20/
LOCATION:Lesser Hall\, The Civic Holmfirth\, Holmfirth\, HD9 3AS
CATEGORIES:Clubs & Classes
ATTACH;FMTTYPE=image/jpeg:https://thecivicholmfirth.org/wp-content/uploads/2026/03/March-2026.jpg
GEO:53.572496509564;-1.7860824573628
X-APPLE-STRUCTURED-LOCATION;VALUE=URI;X-ADDRESS=Lesser Hall The Civic Holmfirth Holmfirth HD9 3AS;X-APPLE-RADIUS=500;X-TITLE=The Civic Holmfirth:geo:-1.7860824573628,53.572496509564
END:VEVENT
BEGIN:VEVENT
DTSTART;TZID=Europe/London:20280817T193000
DTEND;TZID=Europe/London:20280817T210000
DTSTAMP:20260423T171236
CREATED:20260306T121731Z
LAST-MODIFIED:20260306T121731Z
UID:10012260-1850153400-1850158800@thecivicholmfirth.org
SUMMARY:Holme Valley Civic Society
DESCRIPTION:
URL:https://thecivicholmfirth.org/events/holme-valley-civic-society/2028-08-17/
LOCATION:Lesser Hall\, The Civic Holmfirth\, Holmfirth\, HD9 3AS
CATEGORIES:Clubs & Classes
ATTACH;FMTTYPE=image/jpeg:https://thecivicholmfirth.org/wp-content/uploads/2026/03/March-2026.jpg
GEO:53.572496509564;-1.7860824573628
X-APPLE-STRUCTURED-LOCATION;VALUE=URI;X-ADDRESS=Lesser Hall The Civic Holmfirth Holmfirth HD9 3AS;X-APPLE-RADIUS=500;X-TITLE=The Civic Holmfirth:geo:-1.7860824573628,53.572496509564
END:VEVENT
BEGIN:VEVENT
DTSTART;TZID=Europe/London:20280921T193000
DTEND;TZID=Europe/London:20280921T210000
DTSTAMP:20260423T171236
CREATED:20260306T121731Z
LAST-MODIFIED:20260306T121731Z
UID:10012261-1853177400-1853182800@thecivicholmfirth.org
SUMMARY:Holme Valley Civic Society
DESCRIPTION:
URL:https://thecivicholmfirth.org/events/holme-valley-civic-society/2028-09-21/
LOCATION:Lesser Hall\, The Civic Holmfirth\, Holmfirth\, HD9 3AS
CATEGORIES:Clubs & Classes
ATTACH;FMTTYPE=image/jpeg:https://thecivicholmfirth.org/wp-content/uploads/2026/03/March-2026.jpg
GEO:53.572496509564;-1.7860824573628
X-APPLE-STRUCTURED-LOCATION;VALUE=URI;X-ADDRESS=Lesser Hall The Civic Holmfirth Holmfirth HD9 3AS;X-APPLE-RADIUS=500;X-TITLE=The Civic Holmfirth:geo:-1.7860824573628,53.572496509564
END:VEVENT
BEGIN:VEVENT
DTSTART;TZID=Europe/London:20281019T193000
DTEND;TZID=Europe/London:20281019T210000
DTSTAMP:20260423T171236
CREATED:20260306T121731Z
LAST-MODIFIED:20260306T121731Z
UID:10012262-1855596600-1855602000@thecivicholmfirth.org
SUMMARY:Holme Valley Civic Society
DESCRIPTION:
URL:https://thecivicholmfirth.org/events/holme-valley-civic-society/2028-10-19/
LOCATION:Lesser Hall\, The Civic Holmfirth\, Holmfirth\, HD9 3AS
CATEGORIES:Clubs & Classes
ATTACH;FMTTYPE=image/jpeg:https://thecivicholmfirth.org/wp-content/uploads/2026/03/March-2026.jpg
GEO:53.572496509564;-1.7860824573628
X-APPLE-STRUCTURED-LOCATION;VALUE=URI;X-ADDRESS=Lesser Hall The Civic Holmfirth Holmfirth HD9 3AS;X-APPLE-RADIUS=500;X-TITLE=The Civic Holmfirth:geo:-1.7860824573628,53.572496509564
END:VEVENT
END:VCALENDAR