BEGIN:VCALENDAR
VERSION:2.0
PRODID:-//The Civic, Holmfirth - ECPv6.15.20//NONSGML v1.0//EN
CALSCALE:GREGORIAN
METHOD:PUBLISH
X-WR-CALNAME:The Civic, Holmfirth
X-ORIGINAL-URL:https://thecivicholmfirth.org
X-WR-CALDESC:Events for The Civic, Holmfirth
REFRESH-INTERVAL;VALUE=DURATION:PT1H
X-Robots-Tag:noindex
X-PUBLISHED-TTL:PT1H
BEGIN:VTIMEZONE
TZID:Europe/London
BEGIN:DAYLIGHT
TZOFFSETFROM:+0000
TZOFFSETTO:+0100
TZNAME:BST
DTSTART:20280326T010000
END:DAYLIGHT
BEGIN:STANDARD
TZOFFSETFROM:+0100
TZOFFSETTO:+0000
TZNAME:GMT
DTSTART:20281029T010000
END:STANDARD
BEGIN:DAYLIGHT
TZOFFSETFROM:+0000
TZOFFSETTO:+0100
TZNAME:BST
DTSTART:20290325T010000
END:DAYLIGHT
BEGIN:STANDARD
TZOFFSETFROM:+0100
TZOFFSETTO:+0000
TZNAME:GMT
DTSTART:20291028T010000
END:STANDARD
BEGIN:DAYLIGHT
TZOFFSETFROM:+0000
TZOFFSETTO:+0100
TZNAME:BST
DTSTART:20300331T010000
END:DAYLIGHT
BEGIN:STANDARD
TZOFFSETFROM:+0100
TZOFFSETTO:+0000
TZNAME:GMT
DTSTART:20301027T010000
END:STANDARD
BEGIN:DAYLIGHT
TZOFFSETFROM:+0000
TZOFFSETTO:+0100
TZNAME:BST
DTSTART:20310330T010000
END:DAYLIGHT
BEGIN:STANDARD
TZOFFSETFROM:+0100
TZOFFSETTO:+0000
TZNAME:GMT
DTSTART:20311026T010000
END:STANDARD
END:VTIMEZONE
BEGIN:VEVENT
DTSTART;TZID=Europe/London:20291119T183000
DTEND;TZID=Europe/London:20291119T193000
DTSTAMP:20260423T183337
CREATED:20250507T111548Z
LAST-MODIFIED:20250507T111551Z
UID:10009230-1889807400-1889811000@thecivicholmfirth.org
SUMMARY:Pilates -  Beginners & Mixed Ability
DESCRIPTION:
URL:https://thecivicholmfirth.org/events/beginners-pilates-talkactive-2-2/2029-11-19/
LOCATION:Lesser Hall\, The Civic Holmfirth\, Holmfirth\, HD9 3AS
CATEGORIES:Clubs & Classes
ATTACH;FMTTYPE=image/jpeg:https://thecivicholmfirth.org/wp-content/uploads/2021/04/Tak-Active-Modern-Pilates.jpg
ORGANIZER;CN="Julie Edwards":MAILTO:julieedwardsmail@gmail.com
GEO:53.572496509564;-1.7860824573628
X-APPLE-STRUCTURED-LOCATION;VALUE=URI;X-ADDRESS=Lesser Hall The Civic Holmfirth Holmfirth HD9 3AS;X-APPLE-RADIUS=500;X-TITLE=The Civic Holmfirth:geo:-1.7860824573628,53.572496509564
END:VEVENT
BEGIN:VEVENT
DTSTART;TZID=Europe/London:20291119T193000
DTEND;TZID=Europe/London:20291119T203000
DTSTAMP:20260423T183337
CREATED:20250507T111420Z
LAST-MODIFIED:20250507T111423Z
UID:10009232-1889811000-1889814600@thecivicholmfirth.org
SUMMARY:Pilates – Improvers
DESCRIPTION:
URL:https://thecivicholmfirth.org/events/pilates-improvers-2-2/2029-11-19/
LOCATION:Lesser Hall\, The Civic Holmfirth\, Holmfirth\, HD9 3AS
CATEGORIES:Clubs & Classes
ATTACH;FMTTYPE=image/jpeg:https://thecivicholmfirth.org/wp-content/uploads/2021/04/Improvers-Pilates.jpg
ORGANIZER;CN="Julie Edwards":MAILTO:julieedwardsmail@gmail.com
GEO:53.572496509564;-1.7860824573628
X-APPLE-STRUCTURED-LOCATION;VALUE=URI;X-ADDRESS=Lesser Hall The Civic Holmfirth Holmfirth HD9 3AS;X-APPLE-RADIUS=500;X-TITLE=The Civic Holmfirth:geo:-1.7860824573628,53.572496509564
END:VEVENT
BEGIN:VEVENT
DTSTART;TZID=Europe/London:20291126T183000
DTEND;TZID=Europe/London:20291126T193000
DTSTAMP:20260423T183337
CREATED:20250507T111548Z
LAST-MODIFIED:20250507T111551Z
UID:10009242-1890412200-1890415800@thecivicholmfirth.org
SUMMARY:Pilates -  Beginners & Mixed Ability
DESCRIPTION:
URL:https://thecivicholmfirth.org/events/beginners-pilates-talkactive-2-2/2029-11-26/
LOCATION:Lesser Hall\, The Civic Holmfirth\, Holmfirth\, HD9 3AS
CATEGORIES:Clubs & Classes
ATTACH;FMTTYPE=image/jpeg:https://thecivicholmfirth.org/wp-content/uploads/2021/04/Tak-Active-Modern-Pilates.jpg
ORGANIZER;CN="Julie Edwards":MAILTO:julieedwardsmail@gmail.com
GEO:53.572496509564;-1.7860824573628
X-APPLE-STRUCTURED-LOCATION;VALUE=URI;X-ADDRESS=Lesser Hall The Civic Holmfirth Holmfirth HD9 3AS;X-APPLE-RADIUS=500;X-TITLE=The Civic Holmfirth:geo:-1.7860824573628,53.572496509564
END:VEVENT
BEGIN:VEVENT
DTSTART;TZID=Europe/London:20291126T193000
DTEND;TZID=Europe/London:20291126T203000
DTSTAMP:20260423T183337
CREATED:20250507T111420Z
LAST-MODIFIED:20250507T111423Z
UID:10009244-1890415800-1890419400@thecivicholmfirth.org
SUMMARY:Pilates – Improvers
DESCRIPTION:
URL:https://thecivicholmfirth.org/events/pilates-improvers-2-2/2029-11-26/
LOCATION:Lesser Hall\, The Civic Holmfirth\, Holmfirth\, HD9 3AS
CATEGORIES:Clubs & Classes
ATTACH;FMTTYPE=image/jpeg:https://thecivicholmfirth.org/wp-content/uploads/2021/04/Improvers-Pilates.jpg
ORGANIZER;CN="Julie Edwards":MAILTO:julieedwardsmail@gmail.com
GEO:53.572496509564;-1.7860824573628
X-APPLE-STRUCTURED-LOCATION;VALUE=URI;X-ADDRESS=Lesser Hall The Civic Holmfirth Holmfirth HD9 3AS;X-APPLE-RADIUS=500;X-TITLE=The Civic Holmfirth:geo:-1.7860824573628,53.572496509564
END:VEVENT
BEGIN:VEVENT
DTSTART;TZID=Europe/London:20291203T183000
DTEND;TZID=Europe/London:20291203T193000
DTSTAMP:20260423T183337
CREATED:20250507T111548Z
LAST-MODIFIED:20250507T111551Z
UID:10009505-1891017000-1891020600@thecivicholmfirth.org
SUMMARY:Pilates -  Beginners & Mixed Ability
DESCRIPTION:
URL:https://thecivicholmfirth.org/events/beginners-pilates-talkactive-2-2/2029-12-03/
LOCATION:Lesser Hall\, The Civic Holmfirth\, Holmfirth\, HD9 3AS
CATEGORIES:Clubs & Classes
ATTACH;FMTTYPE=image/jpeg:https://thecivicholmfirth.org/wp-content/uploads/2021/04/Tak-Active-Modern-Pilates.jpg
ORGANIZER;CN="Julie Edwards":MAILTO:julieedwardsmail@gmail.com
GEO:53.572496509564;-1.7860824573628
X-APPLE-STRUCTURED-LOCATION;VALUE=URI;X-ADDRESS=Lesser Hall The Civic Holmfirth Holmfirth HD9 3AS;X-APPLE-RADIUS=500;X-TITLE=The Civic Holmfirth:geo:-1.7860824573628,53.572496509564
END:VEVENT
BEGIN:VEVENT
DTSTART;TZID=Europe/London:20291203T193000
DTEND;TZID=Europe/London:20291203T203000
DTSTAMP:20260423T183337
CREATED:20250507T111420Z
LAST-MODIFIED:20250507T111423Z
UID:10009507-1891020600-1891024200@thecivicholmfirth.org
SUMMARY:Pilates – Improvers
DESCRIPTION:
URL:https://thecivicholmfirth.org/events/pilates-improvers-2-2/2029-12-03/
LOCATION:Lesser Hall\, The Civic Holmfirth\, Holmfirth\, HD9 3AS
CATEGORIES:Clubs & Classes
ATTACH;FMTTYPE=image/jpeg:https://thecivicholmfirth.org/wp-content/uploads/2021/04/Improvers-Pilates.jpg
ORGANIZER;CN="Julie Edwards":MAILTO:julieedwardsmail@gmail.com
GEO:53.572496509564;-1.7860824573628
X-APPLE-STRUCTURED-LOCATION;VALUE=URI;X-ADDRESS=Lesser Hall The Civic Holmfirth Holmfirth HD9 3AS;X-APPLE-RADIUS=500;X-TITLE=The Civic Holmfirth:geo:-1.7860824573628,53.572496509564
END:VEVENT
BEGIN:VEVENT
DTSTART;TZID=Europe/London:20291210T183000
DTEND;TZID=Europe/London:20291210T193000
DTSTAMP:20260423T183337
CREATED:20250507T111548Z
LAST-MODIFIED:20250507T111551Z
UID:10009516-1891621800-1891625400@thecivicholmfirth.org
SUMMARY:Pilates -  Beginners & Mixed Ability
DESCRIPTION:
URL:https://thecivicholmfirth.org/events/beginners-pilates-talkactive-2-2/2029-12-10/
LOCATION:Lesser Hall\, The Civic Holmfirth\, Holmfirth\, HD9 3AS
CATEGORIES:Clubs & Classes
ATTACH;FMTTYPE=image/jpeg:https://thecivicholmfirth.org/wp-content/uploads/2021/04/Tak-Active-Modern-Pilates.jpg
ORGANIZER;CN="Julie Edwards":MAILTO:julieedwardsmail@gmail.com
GEO:53.572496509564;-1.7860824573628
X-APPLE-STRUCTURED-LOCATION;VALUE=URI;X-ADDRESS=Lesser Hall The Civic Holmfirth Holmfirth HD9 3AS;X-APPLE-RADIUS=500;X-TITLE=The Civic Holmfirth:geo:-1.7860824573628,53.572496509564
END:VEVENT
BEGIN:VEVENT
DTSTART;TZID=Europe/London:20291210T193000
DTEND;TZID=Europe/London:20291210T203000
DTSTAMP:20260423T183337
CREATED:20250507T111420Z
LAST-MODIFIED:20250507T111423Z
UID:10009518-1891625400-1891629000@thecivicholmfirth.org
SUMMARY:Pilates – Improvers
DESCRIPTION:
URL:https://thecivicholmfirth.org/events/pilates-improvers-2-2/2029-12-10/
LOCATION:Lesser Hall\, The Civic Holmfirth\, Holmfirth\, HD9 3AS
CATEGORIES:Clubs & Classes
ATTACH;FMTTYPE=image/jpeg:https://thecivicholmfirth.org/wp-content/uploads/2021/04/Improvers-Pilates.jpg
ORGANIZER;CN="Julie Edwards":MAILTO:julieedwardsmail@gmail.com
GEO:53.572496509564;-1.7860824573628
X-APPLE-STRUCTURED-LOCATION;VALUE=URI;X-ADDRESS=Lesser Hall The Civic Holmfirth Holmfirth HD9 3AS;X-APPLE-RADIUS=500;X-TITLE=The Civic Holmfirth:geo:-1.7860824573628,53.572496509564
END:VEVENT
BEGIN:VEVENT
DTSTART;TZID=Europe/London:20291217T183000
DTEND;TZID=Europe/London:20291217T193000
DTSTAMP:20260423T183337
CREATED:20250507T111548Z
LAST-MODIFIED:20250507T111551Z
UID:10009523-1892226600-1892230200@thecivicholmfirth.org
SUMMARY:Pilates -  Beginners & Mixed Ability
DESCRIPTION:
URL:https://thecivicholmfirth.org/events/beginners-pilates-talkactive-2-2/2029-12-17/
LOCATION:Lesser Hall\, The Civic Holmfirth\, Holmfirth\, HD9 3AS
CATEGORIES:Clubs & Classes
ATTACH;FMTTYPE=image/jpeg:https://thecivicholmfirth.org/wp-content/uploads/2021/04/Tak-Active-Modern-Pilates.jpg
ORGANIZER;CN="Julie Edwards":MAILTO:julieedwardsmail@gmail.com
GEO:53.572496509564;-1.7860824573628
X-APPLE-STRUCTURED-LOCATION;VALUE=URI;X-ADDRESS=Lesser Hall The Civic Holmfirth Holmfirth HD9 3AS;X-APPLE-RADIUS=500;X-TITLE=The Civic Holmfirth:geo:-1.7860824573628,53.572496509564
END:VEVENT
BEGIN:VEVENT
DTSTART;TZID=Europe/London:20291217T193000
DTEND;TZID=Europe/London:20291217T203000
DTSTAMP:20260423T183337
CREATED:20250507T111420Z
LAST-MODIFIED:20250507T111423Z
UID:10009524-1892230200-1892233800@thecivicholmfirth.org
SUMMARY:Pilates – Improvers
DESCRIPTION:
URL:https://thecivicholmfirth.org/events/pilates-improvers-2-2/2029-12-17/
LOCATION:Lesser Hall\, The Civic Holmfirth\, Holmfirth\, HD9 3AS
CATEGORIES:Clubs & Classes
ATTACH;FMTTYPE=image/jpeg:https://thecivicholmfirth.org/wp-content/uploads/2021/04/Improvers-Pilates.jpg
ORGANIZER;CN="Julie Edwards":MAILTO:julieedwardsmail@gmail.com
GEO:53.572496509564;-1.7860824573628
X-APPLE-STRUCTURED-LOCATION;VALUE=URI;X-ADDRESS=Lesser Hall The Civic Holmfirth Holmfirth HD9 3AS;X-APPLE-RADIUS=500;X-TITLE=The Civic Holmfirth:geo:-1.7860824573628,53.572496509564
END:VEVENT
BEGIN:VEVENT
DTSTART;TZID=Europe/London:20291224T183000
DTEND;TZID=Europe/London:20291224T193000
DTSTAMP:20260423T183337
CREATED:20250507T111548Z
LAST-MODIFIED:20250507T111551Z
UID:10009635-1892831400-1892835000@thecivicholmfirth.org
SUMMARY:Pilates -  Beginners & Mixed Ability
DESCRIPTION:
URL:https://thecivicholmfirth.org/events/beginners-pilates-talkactive-2-2/2029-12-24/
LOCATION:Lesser Hall\, The Civic Holmfirth\, Holmfirth\, HD9 3AS
CATEGORIES:Clubs & Classes
ATTACH;FMTTYPE=image/jpeg:https://thecivicholmfirth.org/wp-content/uploads/2021/04/Tak-Active-Modern-Pilates.jpg
ORGANIZER;CN="Julie Edwards":MAILTO:julieedwardsmail@gmail.com
GEO:53.572496509564;-1.7860824573628
X-APPLE-STRUCTURED-LOCATION;VALUE=URI;X-ADDRESS=Lesser Hall The Civic Holmfirth Holmfirth HD9 3AS;X-APPLE-RADIUS=500;X-TITLE=The Civic Holmfirth:geo:-1.7860824573628,53.572496509564
END:VEVENT
BEGIN:VEVENT
DTSTART;TZID=Europe/London:20291224T193000
DTEND;TZID=Europe/London:20291224T203000
DTSTAMP:20260423T183337
CREATED:20250507T111420Z
LAST-MODIFIED:20250507T111423Z
UID:10009641-1892835000-1892838600@thecivicholmfirth.org
SUMMARY:Pilates – Improvers
DESCRIPTION:
URL:https://thecivicholmfirth.org/events/pilates-improvers-2-2/2029-12-24/
LOCATION:Lesser Hall\, The Civic Holmfirth\, Holmfirth\, HD9 3AS
CATEGORIES:Clubs & Classes
ATTACH;FMTTYPE=image/jpeg:https://thecivicholmfirth.org/wp-content/uploads/2021/04/Improvers-Pilates.jpg
ORGANIZER;CN="Julie Edwards":MAILTO:julieedwardsmail@gmail.com
GEO:53.572496509564;-1.7860824573628
X-APPLE-STRUCTURED-LOCATION;VALUE=URI;X-ADDRESS=Lesser Hall The Civic Holmfirth Holmfirth HD9 3AS;X-APPLE-RADIUS=500;X-TITLE=The Civic Holmfirth:geo:-1.7860824573628,53.572496509564
END:VEVENT
BEGIN:VEVENT
DTSTART;TZID=Europe/London:20291231T183000
DTEND;TZID=Europe/London:20291231T193000
DTSTAMP:20260423T183337
CREATED:20250507T111548Z
LAST-MODIFIED:20250507T111551Z
UID:10009636-1893436200-1893439800@thecivicholmfirth.org
SUMMARY:Pilates -  Beginners & Mixed Ability
DESCRIPTION:
URL:https://thecivicholmfirth.org/events/beginners-pilates-talkactive-2-2/2029-12-31/
LOCATION:Lesser Hall\, The Civic Holmfirth\, Holmfirth\, HD9 3AS
CATEGORIES:Clubs & Classes
ATTACH;FMTTYPE=image/jpeg:https://thecivicholmfirth.org/wp-content/uploads/2021/04/Tak-Active-Modern-Pilates.jpg
ORGANIZER;CN="Julie Edwards":MAILTO:julieedwardsmail@gmail.com
GEO:53.572496509564;-1.7860824573628
X-APPLE-STRUCTURED-LOCATION;VALUE=URI;X-ADDRESS=Lesser Hall The Civic Holmfirth Holmfirth HD9 3AS;X-APPLE-RADIUS=500;X-TITLE=The Civic Holmfirth:geo:-1.7860824573628,53.572496509564
END:VEVENT
BEGIN:VEVENT
DTSTART;TZID=Europe/London:20291231T193000
DTEND;TZID=Europe/London:20291231T203000
DTSTAMP:20260423T183337
CREATED:20250507T111420Z
LAST-MODIFIED:20250507T111423Z
UID:10009642-1893439800-1893443400@thecivicholmfirth.org
SUMMARY:Pilates – Improvers
DESCRIPTION:
URL:https://thecivicholmfirth.org/events/pilates-improvers-2-2/2029-12-31/
LOCATION:Lesser Hall\, The Civic Holmfirth\, Holmfirth\, HD9 3AS
CATEGORIES:Clubs & Classes
ATTACH;FMTTYPE=image/jpeg:https://thecivicholmfirth.org/wp-content/uploads/2021/04/Improvers-Pilates.jpg
ORGANIZER;CN="Julie Edwards":MAILTO:julieedwardsmail@gmail.com
GEO:53.572496509564;-1.7860824573628
X-APPLE-STRUCTURED-LOCATION;VALUE=URI;X-ADDRESS=Lesser Hall The Civic Holmfirth Holmfirth HD9 3AS;X-APPLE-RADIUS=500;X-TITLE=The Civic Holmfirth:geo:-1.7860824573628,53.572496509564
END:VEVENT
BEGIN:VEVENT
DTSTART;TZID=Europe/London:20300107T183000
DTEND;TZID=Europe/London:20300107T193000
DTSTAMP:20260423T183337
CREATED:20250507T111548Z
LAST-MODIFIED:20250507T111551Z
UID:10009637-1894041000-1894044600@thecivicholmfirth.org
SUMMARY:Pilates -  Beginners & Mixed Ability
DESCRIPTION:
URL:https://thecivicholmfirth.org/events/beginners-pilates-talkactive-2-2/2030-01-07/
LOCATION:Lesser Hall\, The Civic Holmfirth\, Holmfirth\, HD9 3AS
CATEGORIES:Clubs & Classes
ATTACH;FMTTYPE=image/jpeg:https://thecivicholmfirth.org/wp-content/uploads/2021/04/Tak-Active-Modern-Pilates.jpg
ORGANIZER;CN="Julie Edwards":MAILTO:julieedwardsmail@gmail.com
GEO:53.572496509564;-1.7860824573628
X-APPLE-STRUCTURED-LOCATION;VALUE=URI;X-ADDRESS=Lesser Hall The Civic Holmfirth Holmfirth HD9 3AS;X-APPLE-RADIUS=500;X-TITLE=The Civic Holmfirth:geo:-1.7860824573628,53.572496509564
END:VEVENT
BEGIN:VEVENT
DTSTART;TZID=Europe/London:20300107T193000
DTEND;TZID=Europe/London:20300107T203000
DTSTAMP:20260423T183337
CREATED:20250507T111420Z
LAST-MODIFIED:20250507T111423Z
UID:10009643-1894044600-1894048200@thecivicholmfirth.org
SUMMARY:Pilates – Improvers
DESCRIPTION:
URL:https://thecivicholmfirth.org/events/pilates-improvers-2-2/2030-01-07/
LOCATION:Lesser Hall\, The Civic Holmfirth\, Holmfirth\, HD9 3AS
CATEGORIES:Clubs & Classes
ATTACH;FMTTYPE=image/jpeg:https://thecivicholmfirth.org/wp-content/uploads/2021/04/Improvers-Pilates.jpg
ORGANIZER;CN="Julie Edwards":MAILTO:julieedwardsmail@gmail.com
GEO:53.572496509564;-1.7860824573628
X-APPLE-STRUCTURED-LOCATION;VALUE=URI;X-ADDRESS=Lesser Hall The Civic Holmfirth Holmfirth HD9 3AS;X-APPLE-RADIUS=500;X-TITLE=The Civic Holmfirth:geo:-1.7860824573628,53.572496509564
END:VEVENT
BEGIN:VEVENT
DTSTART;TZID=Europe/London:20300114T183000
DTEND;TZID=Europe/London:20300114T193000
DTSTAMP:20260423T183337
CREATED:20250507T111548Z
LAST-MODIFIED:20250507T111551Z
UID:10009638-1894645800-1894649400@thecivicholmfirth.org
SUMMARY:Pilates -  Beginners & Mixed Ability
DESCRIPTION:
URL:https://thecivicholmfirth.org/events/beginners-pilates-talkactive-2-2/2030-01-14/
LOCATION:Lesser Hall\, The Civic Holmfirth\, Holmfirth\, HD9 3AS
CATEGORIES:Clubs & Classes
ATTACH;FMTTYPE=image/jpeg:https://thecivicholmfirth.org/wp-content/uploads/2021/04/Tak-Active-Modern-Pilates.jpg
ORGANIZER;CN="Julie Edwards":MAILTO:julieedwardsmail@gmail.com
GEO:53.572496509564;-1.7860824573628
X-APPLE-STRUCTURED-LOCATION;VALUE=URI;X-ADDRESS=Lesser Hall The Civic Holmfirth Holmfirth HD9 3AS;X-APPLE-RADIUS=500;X-TITLE=The Civic Holmfirth:geo:-1.7860824573628,53.572496509564
END:VEVENT
BEGIN:VEVENT
DTSTART;TZID=Europe/London:20300114T193000
DTEND;TZID=Europe/London:20300114T203000
DTSTAMP:20260423T183337
CREATED:20250507T111420Z
LAST-MODIFIED:20250507T111423Z
UID:10009644-1894649400-1894653000@thecivicholmfirth.org
SUMMARY:Pilates – Improvers
DESCRIPTION:
URL:https://thecivicholmfirth.org/events/pilates-improvers-2-2/2030-01-14/
LOCATION:Lesser Hall\, The Civic Holmfirth\, Holmfirth\, HD9 3AS
CATEGORIES:Clubs & Classes
ATTACH;FMTTYPE=image/jpeg:https://thecivicholmfirth.org/wp-content/uploads/2021/04/Improvers-Pilates.jpg
ORGANIZER;CN="Julie Edwards":MAILTO:julieedwardsmail@gmail.com
GEO:53.572496509564;-1.7860824573628
X-APPLE-STRUCTURED-LOCATION;VALUE=URI;X-ADDRESS=Lesser Hall The Civic Holmfirth Holmfirth HD9 3AS;X-APPLE-RADIUS=500;X-TITLE=The Civic Holmfirth:geo:-1.7860824573628,53.572496509564
END:VEVENT
BEGIN:VEVENT
DTSTART;TZID=Europe/London:20300121T183000
DTEND;TZID=Europe/London:20300121T193000
DTSTAMP:20260423T183337
CREATED:20250507T111548Z
LAST-MODIFIED:20250507T111551Z
UID:10009639-1895250600-1895254200@thecivicholmfirth.org
SUMMARY:Pilates -  Beginners & Mixed Ability
DESCRIPTION:
URL:https://thecivicholmfirth.org/events/beginners-pilates-talkactive-2-2/2030-01-21/
LOCATION:Lesser Hall\, The Civic Holmfirth\, Holmfirth\, HD9 3AS
CATEGORIES:Clubs & Classes
ATTACH;FMTTYPE=image/jpeg:https://thecivicholmfirth.org/wp-content/uploads/2021/04/Tak-Active-Modern-Pilates.jpg
ORGANIZER;CN="Julie Edwards":MAILTO:julieedwardsmail@gmail.com
GEO:53.572496509564;-1.7860824573628
X-APPLE-STRUCTURED-LOCATION;VALUE=URI;X-ADDRESS=Lesser Hall The Civic Holmfirth Holmfirth HD9 3AS;X-APPLE-RADIUS=500;X-TITLE=The Civic Holmfirth:geo:-1.7860824573628,53.572496509564
END:VEVENT
BEGIN:VEVENT
DTSTART;TZID=Europe/London:20300121T193000
DTEND;TZID=Europe/London:20300121T203000
DTSTAMP:20260423T183337
CREATED:20250507T111420Z
LAST-MODIFIED:20250507T111423Z
UID:10009645-1895254200-1895257800@thecivicholmfirth.org
SUMMARY:Pilates – Improvers
DESCRIPTION:
URL:https://thecivicholmfirth.org/events/pilates-improvers-2-2/2030-01-21/
LOCATION:Lesser Hall\, The Civic Holmfirth\, Holmfirth\, HD9 3AS
CATEGORIES:Clubs & Classes
ATTACH;FMTTYPE=image/jpeg:https://thecivicholmfirth.org/wp-content/uploads/2021/04/Improvers-Pilates.jpg
ORGANIZER;CN="Julie Edwards":MAILTO:julieedwardsmail@gmail.com
GEO:53.572496509564;-1.7860824573628
X-APPLE-STRUCTURED-LOCATION;VALUE=URI;X-ADDRESS=Lesser Hall The Civic Holmfirth Holmfirth HD9 3AS;X-APPLE-RADIUS=500;X-TITLE=The Civic Holmfirth:geo:-1.7860824573628,53.572496509564
END:VEVENT
BEGIN:VEVENT
DTSTART;TZID=Europe/London:20300128T183000
DTEND;TZID=Europe/London:20300128T193000
DTSTAMP:20260423T183337
CREATED:20250507T111548Z
LAST-MODIFIED:20250507T111551Z
UID:10009653-1895855400-1895859000@thecivicholmfirth.org
SUMMARY:Pilates -  Beginners & Mixed Ability
DESCRIPTION:
URL:https://thecivicholmfirth.org/events/beginners-pilates-talkactive-2-2/2030-01-28/
LOCATION:Lesser Hall\, The Civic Holmfirth\, Holmfirth\, HD9 3AS
CATEGORIES:Clubs & Classes
ATTACH;FMTTYPE=image/jpeg:https://thecivicholmfirth.org/wp-content/uploads/2021/04/Tak-Active-Modern-Pilates.jpg
ORGANIZER;CN="Julie Edwards":MAILTO:julieedwardsmail@gmail.com
GEO:53.572496509564;-1.7860824573628
X-APPLE-STRUCTURED-LOCATION;VALUE=URI;X-ADDRESS=Lesser Hall The Civic Holmfirth Holmfirth HD9 3AS;X-APPLE-RADIUS=500;X-TITLE=The Civic Holmfirth:geo:-1.7860824573628,53.572496509564
END:VEVENT
BEGIN:VEVENT
DTSTART;TZID=Europe/London:20300128T193000
DTEND;TZID=Europe/London:20300128T203000
DTSTAMP:20260423T183337
CREATED:20250507T111420Z
LAST-MODIFIED:20250507T111423Z
UID:10009655-1895859000-1895862600@thecivicholmfirth.org
SUMMARY:Pilates – Improvers
DESCRIPTION:
URL:https://thecivicholmfirth.org/events/pilates-improvers-2-2/2030-01-28/
LOCATION:Lesser Hall\, The Civic Holmfirth\, Holmfirth\, HD9 3AS
CATEGORIES:Clubs & Classes
ATTACH;FMTTYPE=image/jpeg:https://thecivicholmfirth.org/wp-content/uploads/2021/04/Improvers-Pilates.jpg
ORGANIZER;CN="Julie Edwards":MAILTO:julieedwardsmail@gmail.com
GEO:53.572496509564;-1.7860824573628
X-APPLE-STRUCTURED-LOCATION;VALUE=URI;X-ADDRESS=Lesser Hall The Civic Holmfirth Holmfirth HD9 3AS;X-APPLE-RADIUS=500;X-TITLE=The Civic Holmfirth:geo:-1.7860824573628,53.572496509564
END:VEVENT
BEGIN:VEVENT
DTSTART;TZID=Europe/London:20300204T183000
DTEND;TZID=Europe/London:20300204T193000
DTSTAMP:20260423T183337
CREATED:20250507T111548Z
LAST-MODIFIED:20250507T111551Z
UID:10009676-1896460200-1896463800@thecivicholmfirth.org
SUMMARY:Pilates -  Beginners & Mixed Ability
DESCRIPTION:
URL:https://thecivicholmfirth.org/events/beginners-pilates-talkactive-2-2/2030-02-04/
LOCATION:Lesser Hall\, The Civic Holmfirth\, Holmfirth\, HD9 3AS
CATEGORIES:Clubs & Classes
ATTACH;FMTTYPE=image/jpeg:https://thecivicholmfirth.org/wp-content/uploads/2021/04/Tak-Active-Modern-Pilates.jpg
ORGANIZER;CN="Julie Edwards":MAILTO:julieedwardsmail@gmail.com
GEO:53.572496509564;-1.7860824573628
X-APPLE-STRUCTURED-LOCATION;VALUE=URI;X-ADDRESS=Lesser Hall The Civic Holmfirth Holmfirth HD9 3AS;X-APPLE-RADIUS=500;X-TITLE=The Civic Holmfirth:geo:-1.7860824573628,53.572496509564
END:VEVENT
BEGIN:VEVENT
DTSTART;TZID=Europe/London:20300204T193000
DTEND;TZID=Europe/London:20300204T203000
DTSTAMP:20260423T183337
CREATED:20250507T111420Z
LAST-MODIFIED:20250507T111423Z
UID:10009678-1896463800-1896467400@thecivicholmfirth.org
SUMMARY:Pilates – Improvers
DESCRIPTION:
URL:https://thecivicholmfirth.org/events/pilates-improvers-2-2/2030-02-04/
LOCATION:Lesser Hall\, The Civic Holmfirth\, Holmfirth\, HD9 3AS
CATEGORIES:Clubs & Classes
ATTACH;FMTTYPE=image/jpeg:https://thecivicholmfirth.org/wp-content/uploads/2021/04/Improvers-Pilates.jpg
ORGANIZER;CN="Julie Edwards":MAILTO:julieedwardsmail@gmail.com
GEO:53.572496509564;-1.7860824573628
X-APPLE-STRUCTURED-LOCATION;VALUE=URI;X-ADDRESS=Lesser Hall The Civic Holmfirth Holmfirth HD9 3AS;X-APPLE-RADIUS=500;X-TITLE=The Civic Holmfirth:geo:-1.7860824573628,53.572496509564
END:VEVENT
BEGIN:VEVENT
DTSTART;TZID=Europe/London:20300211T183000
DTEND;TZID=Europe/London:20300211T193000
DTSTAMP:20260423T183337
CREATED:20250507T111548Z
LAST-MODIFIED:20250507T111551Z
UID:10010210-1897065000-1897068600@thecivicholmfirth.org
SUMMARY:Pilates -  Beginners & Mixed Ability
DESCRIPTION:
URL:https://thecivicholmfirth.org/events/beginners-pilates-talkactive-2-2/2030-02-11/
LOCATION:Lesser Hall\, The Civic Holmfirth\, Holmfirth\, HD9 3AS
CATEGORIES:Clubs & Classes
ATTACH;FMTTYPE=image/jpeg:https://thecivicholmfirth.org/wp-content/uploads/2021/04/Tak-Active-Modern-Pilates.jpg
ORGANIZER;CN="Julie Edwards":MAILTO:julieedwardsmail@gmail.com
GEO:53.572496509564;-1.7860824573628
X-APPLE-STRUCTURED-LOCATION;VALUE=URI;X-ADDRESS=Lesser Hall The Civic Holmfirth Holmfirth HD9 3AS;X-APPLE-RADIUS=500;X-TITLE=The Civic Holmfirth:geo:-1.7860824573628,53.572496509564
END:VEVENT
BEGIN:VEVENT
DTSTART;TZID=Europe/London:20300211T193000
DTEND;TZID=Europe/London:20300211T203000
DTSTAMP:20260423T183337
CREATED:20250507T111420Z
LAST-MODIFIED:20250507T111423Z
UID:10010212-1897068600-1897072200@thecivicholmfirth.org
SUMMARY:Pilates – Improvers
DESCRIPTION:
URL:https://thecivicholmfirth.org/events/pilates-improvers-2-2/2030-02-11/
LOCATION:Lesser Hall\, The Civic Holmfirth\, Holmfirth\, HD9 3AS
CATEGORIES:Clubs & Classes
ATTACH;FMTTYPE=image/jpeg:https://thecivicholmfirth.org/wp-content/uploads/2021/04/Improvers-Pilates.jpg
ORGANIZER;CN="Julie Edwards":MAILTO:julieedwardsmail@gmail.com
GEO:53.572496509564;-1.7860824573628
X-APPLE-STRUCTURED-LOCATION;VALUE=URI;X-ADDRESS=Lesser Hall The Civic Holmfirth Holmfirth HD9 3AS;X-APPLE-RADIUS=500;X-TITLE=The Civic Holmfirth:geo:-1.7860824573628,53.572496509564
END:VEVENT
BEGIN:VEVENT
DTSTART;TZID=Europe/London:20300218T183000
DTEND;TZID=Europe/London:20300218T193000
DTSTAMP:20260423T183337
CREATED:20250507T111548Z
LAST-MODIFIED:20250507T111551Z
UID:10010222-1897669800-1897673400@thecivicholmfirth.org
SUMMARY:Pilates -  Beginners & Mixed Ability
DESCRIPTION:
URL:https://thecivicholmfirth.org/events/beginners-pilates-talkactive-2-2/2030-02-18/
LOCATION:Lesser Hall\, The Civic Holmfirth\, Holmfirth\, HD9 3AS
CATEGORIES:Clubs & Classes
ATTACH;FMTTYPE=image/jpeg:https://thecivicholmfirth.org/wp-content/uploads/2021/04/Tak-Active-Modern-Pilates.jpg
ORGANIZER;CN="Julie Edwards":MAILTO:julieedwardsmail@gmail.com
GEO:53.572496509564;-1.7860824573628
X-APPLE-STRUCTURED-LOCATION;VALUE=URI;X-ADDRESS=Lesser Hall The Civic Holmfirth Holmfirth HD9 3AS;X-APPLE-RADIUS=500;X-TITLE=The Civic Holmfirth:geo:-1.7860824573628,53.572496509564
END:VEVENT
BEGIN:VEVENT
DTSTART;TZID=Europe/London:20300218T193000
DTEND;TZID=Europe/London:20300218T203000
DTSTAMP:20260423T183337
CREATED:20250507T111420Z
LAST-MODIFIED:20250507T111423Z
UID:10010224-1897673400-1897677000@thecivicholmfirth.org
SUMMARY:Pilates – Improvers
DESCRIPTION:
URL:https://thecivicholmfirth.org/events/pilates-improvers-2-2/2030-02-18/
LOCATION:Lesser Hall\, The Civic Holmfirth\, Holmfirth\, HD9 3AS
CATEGORIES:Clubs & Classes
ATTACH;FMTTYPE=image/jpeg:https://thecivicholmfirth.org/wp-content/uploads/2021/04/Improvers-Pilates.jpg
ORGANIZER;CN="Julie Edwards":MAILTO:julieedwardsmail@gmail.com
GEO:53.572496509564;-1.7860824573628
X-APPLE-STRUCTURED-LOCATION;VALUE=URI;X-ADDRESS=Lesser Hall The Civic Holmfirth Holmfirth HD9 3AS;X-APPLE-RADIUS=500;X-TITLE=The Civic Holmfirth:geo:-1.7860824573628,53.572496509564
END:VEVENT
BEGIN:VEVENT
DTSTART;TZID=Europe/London:20300225T183000
DTEND;TZID=Europe/London:20300225T193000
DTSTAMP:20260423T183337
CREATED:20250507T111548Z
LAST-MODIFIED:20250507T111551Z
UID:10010243-1898274600-1898278200@thecivicholmfirth.org
SUMMARY:Pilates -  Beginners & Mixed Ability
DESCRIPTION:
URL:https://thecivicholmfirth.org/events/beginners-pilates-talkactive-2-2/2030-02-25/
LOCATION:Lesser Hall\, The Civic Holmfirth\, Holmfirth\, HD9 3AS
CATEGORIES:Clubs & Classes
ATTACH;FMTTYPE=image/jpeg:https://thecivicholmfirth.org/wp-content/uploads/2021/04/Tak-Active-Modern-Pilates.jpg
ORGANIZER;CN="Julie Edwards":MAILTO:julieedwardsmail@gmail.com
GEO:53.572496509564;-1.7860824573628
X-APPLE-STRUCTURED-LOCATION;VALUE=URI;X-ADDRESS=Lesser Hall The Civic Holmfirth Holmfirth HD9 3AS;X-APPLE-RADIUS=500;X-TITLE=The Civic Holmfirth:geo:-1.7860824573628,53.572496509564
END:VEVENT
BEGIN:VEVENT
DTSTART;TZID=Europe/London:20300225T193000
DTEND;TZID=Europe/London:20300225T203000
DTSTAMP:20260423T183337
CREATED:20250507T111420Z
LAST-MODIFIED:20250507T111423Z
UID:10010245-1898278200-1898281800@thecivicholmfirth.org
SUMMARY:Pilates – Improvers
DESCRIPTION:
URL:https://thecivicholmfirth.org/events/pilates-improvers-2-2/2030-02-25/
LOCATION:Lesser Hall\, The Civic Holmfirth\, Holmfirth\, HD9 3AS
CATEGORIES:Clubs & Classes
ATTACH;FMTTYPE=image/jpeg:https://thecivicholmfirth.org/wp-content/uploads/2021/04/Improvers-Pilates.jpg
ORGANIZER;CN="Julie Edwards":MAILTO:julieedwardsmail@gmail.com
GEO:53.572496509564;-1.7860824573628
X-APPLE-STRUCTURED-LOCATION;VALUE=URI;X-ADDRESS=Lesser Hall The Civic Holmfirth Holmfirth HD9 3AS;X-APPLE-RADIUS=500;X-TITLE=The Civic Holmfirth:geo:-1.7860824573628,53.572496509564
END:VEVENT
END:VCALENDAR