BEGIN:VCALENDAR
VERSION:2.0
PRODID:-//The Civic, Holmfirth - ECPv6.15.20//NONSGML v1.0//EN
CALSCALE:GREGORIAN
METHOD:PUBLISH
X-ORIGINAL-URL:https://thecivicholmfirth.org
X-WR-CALDESC:Events for The Civic, Holmfirth
REFRESH-INTERVAL;VALUE=DURATION:PT1H
X-Robots-Tag:noindex
X-PUBLISHED-TTL:PT1H
BEGIN:VTIMEZONE
TZID:Europe/London
BEGIN:DAYLIGHT
TZOFFSETFROM:+0000
TZOFFSETTO:+0100
TZNAME:BST
DTSTART:20280326T010000
END:DAYLIGHT
BEGIN:STANDARD
TZOFFSETFROM:+0100
TZOFFSETTO:+0000
TZNAME:GMT
DTSTART:20281029T010000
END:STANDARD
BEGIN:DAYLIGHT
TZOFFSETFROM:+0000
TZOFFSETTO:+0100
TZNAME:BST
DTSTART:20290325T010000
END:DAYLIGHT
BEGIN:STANDARD
TZOFFSETFROM:+0100
TZOFFSETTO:+0000
TZNAME:GMT
DTSTART:20291028T010000
END:STANDARD
BEGIN:DAYLIGHT
TZOFFSETFROM:+0000
TZOFFSETTO:+0100
TZNAME:BST
DTSTART:20300331T010000
END:DAYLIGHT
BEGIN:STANDARD
TZOFFSETFROM:+0100
TZOFFSETTO:+0000
TZNAME:GMT
DTSTART:20301027T010000
END:STANDARD
BEGIN:DAYLIGHT
TZOFFSETFROM:+0000
TZOFFSETTO:+0100
TZNAME:BST
DTSTART:20310330T010000
END:DAYLIGHT
BEGIN:STANDARD
TZOFFSETFROM:+0100
TZOFFSETTO:+0000
TZNAME:GMT
DTSTART:20311026T010000
END:STANDARD
BEGIN:DAYLIGHT
TZOFFSETFROM:+0000
TZOFFSETTO:+0100
TZNAME:BST
DTSTART:20320328T010000
END:DAYLIGHT
BEGIN:STANDARD
TZOFFSETFROM:+0100
TZOFFSETTO:+0000
TZNAME:GMT
DTSTART:20321031T010000
END:STANDARD
END:VTIMEZONE
BEGIN:VEVENT
DTSTART;TZID=Europe/London:20290510T193000
DTEND;TZID=Europe/London:20290510T210000
DTSTAMP:20260424T130524
CREATED:20260306T123249Z
LAST-MODIFIED:20260306T123249Z
UID:10012329-1873135800-1873141200@thecivicholmfirth.org
SUMMARY:Holmfirth Local History Group
DESCRIPTION:
URL:https://thecivicholmfirth.org/events/holmfirth-local-history-group/2029-05-10/
LOCATION:Exhibition Room
CATEGORIES:Clubs & Classes
ATTACH;FMTTYPE=image/png:https://thecivicholmfirth.org/wp-content/uploads/2026/03/cropped-HolmfirthArms-1-300x300-1.png
END:VEVENT
BEGIN:VEVENT
DTSTART;TZID=Europe/London:20290614T193000
DTEND;TZID=Europe/London:20290614T210000
DTSTAMP:20260424T130524
CREATED:20260306T123249Z
LAST-MODIFIED:20260306T123249Z
UID:10012330-1876159800-1876165200@thecivicholmfirth.org
SUMMARY:Holmfirth Local History Group
DESCRIPTION:
URL:https://thecivicholmfirth.org/events/holmfirth-local-history-group/2029-06-14/
LOCATION:Exhibition Room
CATEGORIES:Clubs & Classes
ATTACH;FMTTYPE=image/png:https://thecivicholmfirth.org/wp-content/uploads/2026/03/cropped-HolmfirthArms-1-300x300-1.png
END:VEVENT
BEGIN:VEVENT
DTSTART;TZID=Europe/London:20290712T193000
DTEND;TZID=Europe/London:20290712T210000
DTSTAMP:20260424T130524
CREATED:20260306T123249Z
LAST-MODIFIED:20260306T123249Z
UID:10012331-1878579000-1878584400@thecivicholmfirth.org
SUMMARY:Holmfirth Local History Group
DESCRIPTION:
URL:https://thecivicholmfirth.org/events/holmfirth-local-history-group/2029-07-12/
LOCATION:Exhibition Room
CATEGORIES:Clubs & Classes
ATTACH;FMTTYPE=image/png:https://thecivicholmfirth.org/wp-content/uploads/2026/03/cropped-HolmfirthArms-1-300x300-1.png
END:VEVENT
BEGIN:VEVENT
DTSTART;TZID=Europe/London:20290809T193000
DTEND;TZID=Europe/London:20290809T210000
DTSTAMP:20260424T130524
CREATED:20260306T123249Z
LAST-MODIFIED:20260306T123249Z
UID:10012332-1880998200-1881003600@thecivicholmfirth.org
SUMMARY:Holmfirth Local History Group
DESCRIPTION:
URL:https://thecivicholmfirth.org/events/holmfirth-local-history-group/2029-08-09/
LOCATION:Exhibition Room
CATEGORIES:Clubs & Classes
ATTACH;FMTTYPE=image/png:https://thecivicholmfirth.org/wp-content/uploads/2026/03/cropped-HolmfirthArms-1-300x300-1.png
END:VEVENT
BEGIN:VEVENT
DTSTART;TZID=Europe/London:20290913T193000
DTEND;TZID=Europe/London:20290913T210000
DTSTAMP:20260424T130524
CREATED:20260306T123249Z
LAST-MODIFIED:20260306T123249Z
UID:10012333-1884022200-1884027600@thecivicholmfirth.org
SUMMARY:Holmfirth Local History Group
DESCRIPTION:
URL:https://thecivicholmfirth.org/events/holmfirth-local-history-group/2029-09-13/
LOCATION:Exhibition Room
CATEGORIES:Clubs & Classes
ATTACH;FMTTYPE=image/png:https://thecivicholmfirth.org/wp-content/uploads/2026/03/cropped-HolmfirthArms-1-300x300-1.png
END:VEVENT
BEGIN:VEVENT
DTSTART;TZID=Europe/London:20291011T193000
DTEND;TZID=Europe/London:20291011T210000
DTSTAMP:20260424T130524
CREATED:20260306T123249Z
LAST-MODIFIED:20260306T123249Z
UID:10012334-1886441400-1886446800@thecivicholmfirth.org
SUMMARY:Holmfirth Local History Group
DESCRIPTION:
URL:https://thecivicholmfirth.org/events/holmfirth-local-history-group/2029-10-11/
LOCATION:Exhibition Room
CATEGORIES:Clubs & Classes
ATTACH;FMTTYPE=image/png:https://thecivicholmfirth.org/wp-content/uploads/2026/03/cropped-HolmfirthArms-1-300x300-1.png
END:VEVENT
BEGIN:VEVENT
DTSTART;TZID=Europe/London:20291108T193000
DTEND;TZID=Europe/London:20291108T210000
DTSTAMP:20260424T130524
CREATED:20260306T123249Z
LAST-MODIFIED:20260306T123249Z
UID:10012335-1888860600-1888866000@thecivicholmfirth.org
SUMMARY:Holmfirth Local History Group
DESCRIPTION:
URL:https://thecivicholmfirth.org/events/holmfirth-local-history-group/2029-11-08/
LOCATION:Exhibition Room
CATEGORIES:Clubs & Classes
ATTACH;FMTTYPE=image/png:https://thecivicholmfirth.org/wp-content/uploads/2026/03/cropped-HolmfirthArms-1-300x300-1.png
END:VEVENT
BEGIN:VEVENT
DTSTART;TZID=Europe/London:20291213T193000
DTEND;TZID=Europe/London:20291213T210000
DTSTAMP:20260424T130524
CREATED:20260306T123249Z
LAST-MODIFIED:20260306T123249Z
UID:10012336-1891884600-1891890000@thecivicholmfirth.org
SUMMARY:Holmfirth Local History Group
DESCRIPTION:
URL:https://thecivicholmfirth.org/events/holmfirth-local-history-group/2029-12-13/
LOCATION:Exhibition Room
CATEGORIES:Clubs & Classes
ATTACH;FMTTYPE=image/png:https://thecivicholmfirth.org/wp-content/uploads/2026/03/cropped-HolmfirthArms-1-300x300-1.png
END:VEVENT
BEGIN:VEVENT
DTSTART;TZID=Europe/London:20300110T193000
DTEND;TZID=Europe/London:20300110T210000
DTSTAMP:20260424T130524
CREATED:20260306T123249Z
LAST-MODIFIED:20260306T123249Z
UID:10012337-1894303800-1894309200@thecivicholmfirth.org
SUMMARY:Holmfirth Local History Group
DESCRIPTION:
URL:https://thecivicholmfirth.org/events/holmfirth-local-history-group/2030-01-10/
LOCATION:Exhibition Room
CATEGORIES:Clubs & Classes
ATTACH;FMTTYPE=image/png:https://thecivicholmfirth.org/wp-content/uploads/2026/03/cropped-HolmfirthArms-1-300x300-1.png
END:VEVENT
BEGIN:VEVENT
DTSTART;TZID=Europe/London:20300214T193000
DTEND;TZID=Europe/London:20300214T210000
DTSTAMP:20260424T130524
CREATED:20260306T123249Z
LAST-MODIFIED:20260306T123249Z
UID:10012338-1897327800-1897333200@thecivicholmfirth.org
SUMMARY:Holmfirth Local History Group
DESCRIPTION:
URL:https://thecivicholmfirth.org/events/holmfirth-local-history-group/2030-02-14/
LOCATION:Exhibition Room
CATEGORIES:Clubs & Classes
ATTACH;FMTTYPE=image/png:https://thecivicholmfirth.org/wp-content/uploads/2026/03/cropped-HolmfirthArms-1-300x300-1.png
END:VEVENT
BEGIN:VEVENT
DTSTART;TZID=Europe/London:20300314T193000
DTEND;TZID=Europe/London:20300314T210000
DTSTAMP:20260424T130524
CREATED:20260306T123249Z
LAST-MODIFIED:20260306T123249Z
UID:10012339-1899747000-1899752400@thecivicholmfirth.org
SUMMARY:Holmfirth Local History Group
DESCRIPTION:
URL:https://thecivicholmfirth.org/events/holmfirth-local-history-group/2030-03-14/
LOCATION:Exhibition Room
CATEGORIES:Clubs & Classes
ATTACH;FMTTYPE=image/png:https://thecivicholmfirth.org/wp-content/uploads/2026/03/cropped-HolmfirthArms-1-300x300-1.png
END:VEVENT
BEGIN:VEVENT
DTSTART;TZID=Europe/London:20300411T193000
DTEND;TZID=Europe/London:20300411T210000
DTSTAMP:20260424T130524
CREATED:20260306T123249Z
LAST-MODIFIED:20260306T123249Z
UID:10012340-1902166200-1902171600@thecivicholmfirth.org
SUMMARY:Holmfirth Local History Group
DESCRIPTION:
URL:https://thecivicholmfirth.org/events/holmfirth-local-history-group/2030-04-11/
LOCATION:Exhibition Room
CATEGORIES:Clubs & Classes
ATTACH;FMTTYPE=image/png:https://thecivicholmfirth.org/wp-content/uploads/2026/03/cropped-HolmfirthArms-1-300x300-1.png
END:VEVENT
BEGIN:VEVENT
DTSTART;TZID=Europe/London:20300509T193000
DTEND;TZID=Europe/London:20300509T210000
DTSTAMP:20260424T130524
CREATED:20260306T123249Z
LAST-MODIFIED:20260306T123249Z
UID:10012341-1904585400-1904590800@thecivicholmfirth.org
SUMMARY:Holmfirth Local History Group
DESCRIPTION:
URL:https://thecivicholmfirth.org/events/holmfirth-local-history-group/2030-05-09/
LOCATION:Exhibition Room
CATEGORIES:Clubs & Classes
ATTACH;FMTTYPE=image/png:https://thecivicholmfirth.org/wp-content/uploads/2026/03/cropped-HolmfirthArms-1-300x300-1.png
END:VEVENT
BEGIN:VEVENT
DTSTART;TZID=Europe/London:20300613T193000
DTEND;TZID=Europe/London:20300613T210000
DTSTAMP:20260424T130524
CREATED:20260306T123249Z
LAST-MODIFIED:20260306T123249Z
UID:10012342-1907609400-1907614800@thecivicholmfirth.org
SUMMARY:Holmfirth Local History Group
DESCRIPTION:
URL:https://thecivicholmfirth.org/events/holmfirth-local-history-group/2030-06-13/
LOCATION:Exhibition Room
CATEGORIES:Clubs & Classes
ATTACH;FMTTYPE=image/png:https://thecivicholmfirth.org/wp-content/uploads/2026/03/cropped-HolmfirthArms-1-300x300-1.png
END:VEVENT
BEGIN:VEVENT
DTSTART;TZID=Europe/London:20300711T193000
DTEND;TZID=Europe/London:20300711T210000
DTSTAMP:20260424T130524
CREATED:20260306T123249Z
LAST-MODIFIED:20260306T123249Z
UID:10012343-1910028600-1910034000@thecivicholmfirth.org
SUMMARY:Holmfirth Local History Group
DESCRIPTION:
URL:https://thecivicholmfirth.org/events/holmfirth-local-history-group/2030-07-11/
LOCATION:Exhibition Room
CATEGORIES:Clubs & Classes
ATTACH;FMTTYPE=image/png:https://thecivicholmfirth.org/wp-content/uploads/2026/03/cropped-HolmfirthArms-1-300x300-1.png
END:VEVENT
BEGIN:VEVENT
DTSTART;TZID=Europe/London:20300808T193000
DTEND;TZID=Europe/London:20300808T210000
DTSTAMP:20260424T130524
CREATED:20260306T123249Z
LAST-MODIFIED:20260306T123249Z
UID:10012344-1912447800-1912453200@thecivicholmfirth.org
SUMMARY:Holmfirth Local History Group
DESCRIPTION:
URL:https://thecivicholmfirth.org/events/holmfirth-local-history-group/2030-08-08/
LOCATION:Exhibition Room
CATEGORIES:Clubs & Classes
ATTACH;FMTTYPE=image/png:https://thecivicholmfirth.org/wp-content/uploads/2026/03/cropped-HolmfirthArms-1-300x300-1.png
END:VEVENT
BEGIN:VEVENT
DTSTART;TZID=Europe/London:20300912T193000
DTEND;TZID=Europe/London:20300912T210000
DTSTAMP:20260424T130524
CREATED:20260306T123249Z
LAST-MODIFIED:20260306T123249Z
UID:10012345-1915471800-1915477200@thecivicholmfirth.org
SUMMARY:Holmfirth Local History Group
DESCRIPTION:
URL:https://thecivicholmfirth.org/events/holmfirth-local-history-group/2030-09-12/
LOCATION:Exhibition Room
CATEGORIES:Clubs & Classes
ATTACH;FMTTYPE=image/png:https://thecivicholmfirth.org/wp-content/uploads/2026/03/cropped-HolmfirthArms-1-300x300-1.png
END:VEVENT
BEGIN:VEVENT
DTSTART;TZID=Europe/London:20301010T193000
DTEND;TZID=Europe/London:20301010T210000
DTSTAMP:20260424T130524
CREATED:20260306T123249Z
LAST-MODIFIED:20260306T123249Z
UID:10012346-1917891000-1917896400@thecivicholmfirth.org
SUMMARY:Holmfirth Local History Group
DESCRIPTION:
URL:https://thecivicholmfirth.org/events/holmfirth-local-history-group/2030-10-10/
LOCATION:Exhibition Room
CATEGORIES:Clubs & Classes
ATTACH;FMTTYPE=image/png:https://thecivicholmfirth.org/wp-content/uploads/2026/03/cropped-HolmfirthArms-1-300x300-1.png
END:VEVENT
BEGIN:VEVENT
DTSTART;TZID=Europe/London:20301114T193000
DTEND;TZID=Europe/London:20301114T210000
DTSTAMP:20260424T130524
CREATED:20260306T123249Z
LAST-MODIFIED:20260306T123249Z
UID:10012347-1920915000-1920920400@thecivicholmfirth.org
SUMMARY:Holmfirth Local History Group
DESCRIPTION:
URL:https://thecivicholmfirth.org/events/holmfirth-local-history-group/2030-11-14/
LOCATION:Exhibition Room
CATEGORIES:Clubs & Classes
ATTACH;FMTTYPE=image/png:https://thecivicholmfirth.org/wp-content/uploads/2026/03/cropped-HolmfirthArms-1-300x300-1.png
END:VEVENT
BEGIN:VEVENT
DTSTART;TZID=Europe/London:20301212T193000
DTEND;TZID=Europe/London:20301212T210000
DTSTAMP:20260424T130524
CREATED:20260306T123249Z
LAST-MODIFIED:20260306T123249Z
UID:10012348-1923334200-1923339600@thecivicholmfirth.org
SUMMARY:Holmfirth Local History Group
DESCRIPTION:
URL:https://thecivicholmfirth.org/events/holmfirth-local-history-group/2030-12-12/
LOCATION:Exhibition Room
CATEGORIES:Clubs & Classes
ATTACH;FMTTYPE=image/png:https://thecivicholmfirth.org/wp-content/uploads/2026/03/cropped-HolmfirthArms-1-300x300-1.png
END:VEVENT
BEGIN:VEVENT
DTSTART;TZID=Europe/London:20310109T193000
DTEND;TZID=Europe/London:20310109T210000
DTSTAMP:20260424T130524
CREATED:20260306T123249Z
LAST-MODIFIED:20260306T123249Z
UID:10012349-1925753400-1925758800@thecivicholmfirth.org
SUMMARY:Holmfirth Local History Group
DESCRIPTION:
URL:https://thecivicholmfirth.org/events/holmfirth-local-history-group/2031-01-09/
LOCATION:Exhibition Room
CATEGORIES:Clubs & Classes
ATTACH;FMTTYPE=image/png:https://thecivicholmfirth.org/wp-content/uploads/2026/03/cropped-HolmfirthArms-1-300x300-1.png
END:VEVENT
BEGIN:VEVENT
DTSTART;TZID=Europe/London:20310213T193000
DTEND;TZID=Europe/London:20310213T210000
DTSTAMP:20260424T130524
CREATED:20260306T123249Z
LAST-MODIFIED:20260306T123249Z
UID:10012350-1928777400-1928782800@thecivicholmfirth.org
SUMMARY:Holmfirth Local History Group
DESCRIPTION:
URL:https://thecivicholmfirth.org/events/holmfirth-local-history-group/2031-02-13/
LOCATION:Exhibition Room
CATEGORIES:Clubs & Classes
ATTACH;FMTTYPE=image/png:https://thecivicholmfirth.org/wp-content/uploads/2026/03/cropped-HolmfirthArms-1-300x300-1.png
END:VEVENT
BEGIN:VEVENT
DTSTART;TZID=Europe/London:20310313T193000
DTEND;TZID=Europe/London:20310313T210000
DTSTAMP:20260424T130524
CREATED:20260306T123249Z
LAST-MODIFIED:20260306T123249Z
UID:10012426-1931196600-1931202000@thecivicholmfirth.org
SUMMARY:Holmfirth Local History Group
DESCRIPTION:
URL:https://thecivicholmfirth.org/events/holmfirth-local-history-group/2031-03-13/
LOCATION:Exhibition Room
CATEGORIES:Clubs & Classes
ATTACH;FMTTYPE=image/png:https://thecivicholmfirth.org/wp-content/uploads/2026/03/cropped-HolmfirthArms-1-300x300-1.png
END:VEVENT
BEGIN:VEVENT
DTSTART;TZID=Europe/London:20310410T193000
DTEND;TZID=Europe/London:20310410T210000
DTSTAMP:20260424T130524
CREATED:20260306T123249Z
LAST-MODIFIED:20260306T123249Z
UID:10012427-1933615800-1933621200@thecivicholmfirth.org
SUMMARY:Holmfirth Local History Group
DESCRIPTION:
URL:https://thecivicholmfirth.org/events/holmfirth-local-history-group/2031-04-10/
LOCATION:Exhibition Room
CATEGORIES:Clubs & Classes
ATTACH;FMTTYPE=image/png:https://thecivicholmfirth.org/wp-content/uploads/2026/03/cropped-HolmfirthArms-1-300x300-1.png
END:VEVENT
END:VCALENDAR