BEGIN:VCALENDAR
VERSION:2.0
PRODID:-//The Civic, Holmfirth - ECPv6.15.20//NONSGML v1.0//EN
CALSCALE:GREGORIAN
METHOD:PUBLISH
X-ORIGINAL-URL:https://thecivicholmfirth.org
X-WR-CALDESC:Events for The Civic, Holmfirth
REFRESH-INTERVAL;VALUE=DURATION:PT1H
X-Robots-Tag:noindex
X-PUBLISHED-TTL:PT1H
BEGIN:VTIMEZONE
TZID:Europe/London
BEGIN:DAYLIGHT
TZOFFSETFROM:+0000
TZOFFSETTO:+0100
TZNAME:BST
DTSTART:20250330T010000
END:DAYLIGHT
BEGIN:STANDARD
TZOFFSETFROM:+0100
TZOFFSETTO:+0000
TZNAME:GMT
DTSTART:20251026T010000
END:STANDARD
BEGIN:DAYLIGHT
TZOFFSETFROM:+0000
TZOFFSETTO:+0100
TZNAME:BST
DTSTART:20260329T010000
END:DAYLIGHT
BEGIN:STANDARD
TZOFFSETFROM:+0100
TZOFFSETTO:+0000
TZNAME:GMT
DTSTART:20261025T010000
END:STANDARD
BEGIN:DAYLIGHT
TZOFFSETFROM:+0000
TZOFFSETTO:+0100
TZNAME:BST
DTSTART:20270328T010000
END:DAYLIGHT
BEGIN:STANDARD
TZOFFSETFROM:+0100
TZOFFSETTO:+0000
TZNAME:GMT
DTSTART:20271031T010000
END:STANDARD
END:VTIMEZONE
BEGIN:VEVENT
DTSTART;TZID=Europe/London:20260629T183000
DTEND;TZID=Europe/London:20260629T203000
DTSTAMP:20260426T010055
CREATED:20230104T144220Z
LAST-MODIFIED:20230105T113141Z
UID:10006497-1782757800-1782765000@thecivicholmfirth.org
SUMMARY:Netherthong Badminton
DESCRIPTION:
URL:https://thecivicholmfirth.org/events/netherthong-badminton/2026-06-29/
LOCATION:Large Hall\, The Civic Holmfirth\, Holmfirth\, HD9 3AS\, United Kingdom
CATEGORIES:Clubs & Classes
ATTACH;FMTTYPE=image/jpeg:https://thecivicholmfirth.org/wp-content/uploads/2021/04/Ladies-Badminton.jpg
GEO:53.572496509564;-1.7860824573628
X-APPLE-STRUCTURED-LOCATION;VALUE=URI;X-ADDRESS=Large Hall The Civic Holmfirth Holmfirth HD9 3AS United Kingdom;X-APPLE-RADIUS=500;X-TITLE=The Civic Holmfirth:geo:-1.7860824573628,53.572496509564
END:VEVENT
BEGIN:VEVENT
DTSTART;TZID=Europe/London:20260630T200000
DTEND;TZID=Europe/London:20260630T213000
DTSTAMP:20260426T010055
CREATED:20210407T103151Z
LAST-MODIFIED:20230712T102236Z
UID:10005311-1782849600-1782855000@thecivicholmfirth.org
SUMMARY:Holmfirth Badminton Club
DESCRIPTION:
URL:https://thecivicholmfirth.org/events/holmfirth-badminton-club/2026-06-30/
LOCATION:Large Hall\, The Civic Holmfirth\, Holmfirth\, HD9 3AS\, United Kingdom
CATEGORIES:Clubs & Classes
ATTACH;FMTTYPE=image/jpeg:https://thecivicholmfirth.org/wp-content/uploads/2021/04/Badminton-Netherthong-BC.jpg
GEO:53.572496509564;-1.7860824573628
X-APPLE-STRUCTURED-LOCATION;VALUE=URI;X-ADDRESS=Large Hall The Civic Holmfirth Holmfirth HD9 3AS United Kingdom;X-APPLE-RADIUS=500;X-TITLE=The Civic Holmfirth:geo:-1.7860824573628,53.572496509564
END:VEVENT
BEGIN:VEVENT
DTSTART;TZID=Europe/London:20260701T193000
DTEND;TZID=Europe/London:20260701T220000
DTSTAMP:20260426T010055
CREATED:20260330T135950Z
LAST-MODIFIED:20260330T140139Z
UID:10010018-1782934200-1782943200@thecivicholmfirth.org
SUMMARY:Holmfirth Jive Dance Club
DESCRIPTION:
URL:https://thecivicholmfirth.org/events/vibejive-dance-club-2-2/2026-07-01/
LOCATION:Large Hall\, The Civic Holmfirth\, Holmfirth\, HD9 3AS\, United Kingdom
CATEGORIES:Clubs & Classes
ATTACH;FMTTYPE=image/jpeg:https://thecivicholmfirth.org/wp-content/uploads/2025/02/holmfirth-jive.jpg
GEO:53.572496509564;-1.7860824573628
X-APPLE-STRUCTURED-LOCATION;VALUE=URI;X-ADDRESS=Large Hall The Civic Holmfirth Holmfirth HD9 3AS United Kingdom;X-APPLE-RADIUS=500;X-TITLE=The Civic Holmfirth:geo:-1.7860824573628,53.572496509564
END:VEVENT
BEGIN:VEVENT
DTSTART;TZID=Europe/London:20260703T093000
DTEND;TZID=Europe/London:20260703T113000
DTSTAMP:20260426T010055
CREATED:20210407T104909Z
LAST-MODIFIED:20260306T104302Z
UID:10005468-1783071000-1783078200@thecivicholmfirth.org
SUMMARY:Ladies Badminton
DESCRIPTION:
URL:https://thecivicholmfirth.org/events/ladies-badminton/2026-07-03/
LOCATION:Large Hall\, The Civic Holmfirth\, Holmfirth\, HD9 3AS\, United Kingdom
CATEGORIES:Clubs & Classes
ATTACH;FMTTYPE=image/jpeg:https://thecivicholmfirth.org/wp-content/uploads/2021/04/Ladies-Badminton.jpg
GEO:53.572496509564;-1.7860824573628
X-APPLE-STRUCTURED-LOCATION;VALUE=URI;X-ADDRESS=Large Hall The Civic Holmfirth Holmfirth HD9 3AS United Kingdom;X-APPLE-RADIUS=500;X-TITLE=The Civic Holmfirth:geo:-1.7860824573628,53.572496509564
END:VEVENT
BEGIN:VEVENT
DTSTART;TZID=Europe/London:20260706T100000
DTEND;TZID=Europe/London:20260706T110000
DTSTAMP:20260426T010055
CREATED:20240716T111208Z
LAST-MODIFIED:20260205T134807Z
UID:10011661-1783332000-1783335600@thecivicholmfirth.org
SUMMARY:Monday Movers Low Impact Dancercise
DESCRIPTION:
URL:https://thecivicholmfirth.org/events/monday-movers/2026-07-06/
LOCATION:Large Hall\, The Civic Holmfirth\, Holmfirth\, HD9 3AS\, United Kingdom
CATEGORIES:Clubs & Classes
ATTACH;FMTTYPE=image/png:https://thecivicholmfirth.org/wp-content/uploads/2024/07/image-3.png
GEO:53.572496509564;-1.7860824573628
X-APPLE-STRUCTURED-LOCATION;VALUE=URI;X-ADDRESS=Large Hall The Civic Holmfirth Holmfirth HD9 3AS United Kingdom;X-APPLE-RADIUS=500;X-TITLE=The Civic Holmfirth:geo:-1.7860824573628,53.572496509564
END:VEVENT
BEGIN:VEVENT
DTSTART;TZID=Europe/London:20260706T183000
DTEND;TZID=Europe/London:20260706T203000
DTSTAMP:20260426T010055
CREATED:20230104T144220Z
LAST-MODIFIED:20230105T113141Z
UID:10006498-1783362600-1783369800@thecivicholmfirth.org
SUMMARY:Netherthong Badminton
DESCRIPTION:
URL:https://thecivicholmfirth.org/events/netherthong-badminton/2026-07-06/
LOCATION:Large Hall\, The Civic Holmfirth\, Holmfirth\, HD9 3AS\, United Kingdom
CATEGORIES:Clubs & Classes
ATTACH;FMTTYPE=image/jpeg:https://thecivicholmfirth.org/wp-content/uploads/2021/04/Ladies-Badminton.jpg
GEO:53.572496509564;-1.7860824573628
X-APPLE-STRUCTURED-LOCATION;VALUE=URI;X-ADDRESS=Large Hall The Civic Holmfirth Holmfirth HD9 3AS United Kingdom;X-APPLE-RADIUS=500;X-TITLE=The Civic Holmfirth:geo:-1.7860824573628,53.572496509564
END:VEVENT
BEGIN:VEVENT
DTSTART;TZID=Europe/London:20260707T200000
DTEND;TZID=Europe/London:20260707T213000
DTSTAMP:20260426T010055
CREATED:20210407T103151Z
LAST-MODIFIED:20230712T102236Z
UID:10005312-1783454400-1783459800@thecivicholmfirth.org
SUMMARY:Holmfirth Badminton Club
DESCRIPTION:
URL:https://thecivicholmfirth.org/events/holmfirth-badminton-club/2026-07-07/
LOCATION:Large Hall\, The Civic Holmfirth\, Holmfirth\, HD9 3AS\, United Kingdom
CATEGORIES:Clubs & Classes
ATTACH;FMTTYPE=image/jpeg:https://thecivicholmfirth.org/wp-content/uploads/2021/04/Badminton-Netherthong-BC.jpg
GEO:53.572496509564;-1.7860824573628
X-APPLE-STRUCTURED-LOCATION;VALUE=URI;X-ADDRESS=Large Hall The Civic Holmfirth Holmfirth HD9 3AS United Kingdom;X-APPLE-RADIUS=500;X-TITLE=The Civic Holmfirth:geo:-1.7860824573628,53.572496509564
END:VEVENT
BEGIN:VEVENT
DTSTART;TZID=Europe/London:20260708T193000
DTEND;TZID=Europe/London:20260708T220000
DTSTAMP:20260426T010055
CREATED:20260330T135950Z
LAST-MODIFIED:20260330T140139Z
UID:10010019-1783539000-1783548000@thecivicholmfirth.org
SUMMARY:Holmfirth Jive Dance Club
DESCRIPTION:
URL:https://thecivicholmfirth.org/events/vibejive-dance-club-2-2/2026-07-08/
LOCATION:Large Hall\, The Civic Holmfirth\, Holmfirth\, HD9 3AS\, United Kingdom
CATEGORIES:Clubs & Classes
ATTACH;FMTTYPE=image/jpeg:https://thecivicholmfirth.org/wp-content/uploads/2025/02/holmfirth-jive.jpg
GEO:53.572496509564;-1.7860824573628
X-APPLE-STRUCTURED-LOCATION;VALUE=URI;X-ADDRESS=Large Hall The Civic Holmfirth Holmfirth HD9 3AS United Kingdom;X-APPLE-RADIUS=500;X-TITLE=The Civic Holmfirth:geo:-1.7860824573628,53.572496509564
END:VEVENT
BEGIN:VEVENT
DTSTART;TZID=Europe/London:20260710T093000
DTEND;TZID=Europe/London:20260710T113000
DTSTAMP:20260426T010055
CREATED:20210407T104909Z
LAST-MODIFIED:20260306T104302Z
UID:10005469-1783675800-1783683000@thecivicholmfirth.org
SUMMARY:Ladies Badminton
DESCRIPTION:
URL:https://thecivicholmfirth.org/events/ladies-badminton/2026-07-10/
LOCATION:Large Hall\, The Civic Holmfirth\, Holmfirth\, HD9 3AS\, United Kingdom
CATEGORIES:Clubs & Classes
ATTACH;FMTTYPE=image/jpeg:https://thecivicholmfirth.org/wp-content/uploads/2021/04/Ladies-Badminton.jpg
GEO:53.572496509564;-1.7860824573628
X-APPLE-STRUCTURED-LOCATION;VALUE=URI;X-ADDRESS=Large Hall The Civic Holmfirth Holmfirth HD9 3AS United Kingdom;X-APPLE-RADIUS=500;X-TITLE=The Civic Holmfirth:geo:-1.7860824573628,53.572496509564
END:VEVENT
BEGIN:VEVENT
DTSTART;TZID=Europe/London:20260713T100000
DTEND;TZID=Europe/London:20260713T110000
DTSTAMP:20260426T010055
CREATED:20240716T111208Z
LAST-MODIFIED:20260205T134807Z
UID:10011662-1783936800-1783940400@thecivicholmfirth.org
SUMMARY:Monday Movers Low Impact Dancercise
DESCRIPTION:
URL:https://thecivicholmfirth.org/events/monday-movers/2026-07-13/
LOCATION:Large Hall\, The Civic Holmfirth\, Holmfirth\, HD9 3AS\, United Kingdom
CATEGORIES:Clubs & Classes
ATTACH;FMTTYPE=image/png:https://thecivicholmfirth.org/wp-content/uploads/2024/07/image-3.png
GEO:53.572496509564;-1.7860824573628
X-APPLE-STRUCTURED-LOCATION;VALUE=URI;X-ADDRESS=Large Hall The Civic Holmfirth Holmfirth HD9 3AS United Kingdom;X-APPLE-RADIUS=500;X-TITLE=The Civic Holmfirth:geo:-1.7860824573628,53.572496509564
END:VEVENT
BEGIN:VEVENT
DTSTART;TZID=Europe/London:20260713T183000
DTEND;TZID=Europe/London:20260713T203000
DTSTAMP:20260426T010055
CREATED:20230104T144220Z
LAST-MODIFIED:20230105T113141Z
UID:10006499-1783967400-1783974600@thecivicholmfirth.org
SUMMARY:Netherthong Badminton
DESCRIPTION:
URL:https://thecivicholmfirth.org/events/netherthong-badminton/2026-07-13/
LOCATION:Large Hall\, The Civic Holmfirth\, Holmfirth\, HD9 3AS\, United Kingdom
CATEGORIES:Clubs & Classes
ATTACH;FMTTYPE=image/jpeg:https://thecivicholmfirth.org/wp-content/uploads/2021/04/Ladies-Badminton.jpg
GEO:53.572496509564;-1.7860824573628
X-APPLE-STRUCTURED-LOCATION;VALUE=URI;X-ADDRESS=Large Hall The Civic Holmfirth Holmfirth HD9 3AS United Kingdom;X-APPLE-RADIUS=500;X-TITLE=The Civic Holmfirth:geo:-1.7860824573628,53.572496509564
END:VEVENT
BEGIN:VEVENT
DTSTART;TZID=Europe/London:20260714T200000
DTEND;TZID=Europe/London:20260714T213000
DTSTAMP:20260426T010055
CREATED:20210407T103151Z
LAST-MODIFIED:20230712T102236Z
UID:10005313-1784059200-1784064600@thecivicholmfirth.org
SUMMARY:Holmfirth Badminton Club
DESCRIPTION:
URL:https://thecivicholmfirth.org/events/holmfirth-badminton-club/2026-07-14/
LOCATION:Large Hall\, The Civic Holmfirth\, Holmfirth\, HD9 3AS\, United Kingdom
CATEGORIES:Clubs & Classes
ATTACH;FMTTYPE=image/jpeg:https://thecivicholmfirth.org/wp-content/uploads/2021/04/Badminton-Netherthong-BC.jpg
GEO:53.572496509564;-1.7860824573628
X-APPLE-STRUCTURED-LOCATION;VALUE=URI;X-ADDRESS=Large Hall The Civic Holmfirth Holmfirth HD9 3AS United Kingdom;X-APPLE-RADIUS=500;X-TITLE=The Civic Holmfirth:geo:-1.7860824573628,53.572496509564
END:VEVENT
BEGIN:VEVENT
DTSTART;TZID=Europe/London:20260715T193000
DTEND;TZID=Europe/London:20260715T220000
DTSTAMP:20260426T010055
CREATED:20260330T135950Z
LAST-MODIFIED:20260330T140139Z
UID:10010020-1784143800-1784152800@thecivicholmfirth.org
SUMMARY:Holmfirth Jive Dance Club
DESCRIPTION:
URL:https://thecivicholmfirth.org/events/vibejive-dance-club-2-2/2026-07-15/
LOCATION:Large Hall\, The Civic Holmfirth\, Holmfirth\, HD9 3AS\, United Kingdom
CATEGORIES:Clubs & Classes
ATTACH;FMTTYPE=image/jpeg:https://thecivicholmfirth.org/wp-content/uploads/2025/02/holmfirth-jive.jpg
GEO:53.572496509564;-1.7860824573628
X-APPLE-STRUCTURED-LOCATION;VALUE=URI;X-ADDRESS=Large Hall The Civic Holmfirth Holmfirth HD9 3AS United Kingdom;X-APPLE-RADIUS=500;X-TITLE=The Civic Holmfirth:geo:-1.7860824573628,53.572496509564
END:VEVENT
BEGIN:VEVENT
DTSTART;TZID=Europe/London:20260717T093000
DTEND;TZID=Europe/London:20260717T113000
DTSTAMP:20260426T010055
CREATED:20210407T104909Z
LAST-MODIFIED:20260306T104302Z
UID:10005470-1784280600-1784287800@thecivicholmfirth.org
SUMMARY:Ladies Badminton
DESCRIPTION:
URL:https://thecivicholmfirth.org/events/ladies-badminton/2026-07-17/
LOCATION:Large Hall\, The Civic Holmfirth\, Holmfirth\, HD9 3AS\, United Kingdom
CATEGORIES:Clubs & Classes
ATTACH;FMTTYPE=image/jpeg:https://thecivicholmfirth.org/wp-content/uploads/2021/04/Ladies-Badminton.jpg
GEO:53.572496509564;-1.7860824573628
X-APPLE-STRUCTURED-LOCATION;VALUE=URI;X-ADDRESS=Large Hall The Civic Holmfirth Holmfirth HD9 3AS United Kingdom;X-APPLE-RADIUS=500;X-TITLE=The Civic Holmfirth:geo:-1.7860824573628,53.572496509564
END:VEVENT
BEGIN:VEVENT
DTSTART;TZID=Europe/London:20260720T100000
DTEND;TZID=Europe/London:20260720T110000
DTSTAMP:20260426T010055
CREATED:20240716T111208Z
LAST-MODIFIED:20260205T134807Z
UID:10011663-1784541600-1784545200@thecivicholmfirth.org
SUMMARY:Monday Movers Low Impact Dancercise
DESCRIPTION:
URL:https://thecivicholmfirth.org/events/monday-movers/2026-07-20/
LOCATION:Large Hall\, The Civic Holmfirth\, Holmfirth\, HD9 3AS\, United Kingdom
CATEGORIES:Clubs & Classes
ATTACH;FMTTYPE=image/png:https://thecivicholmfirth.org/wp-content/uploads/2024/07/image-3.png
GEO:53.572496509564;-1.7860824573628
X-APPLE-STRUCTURED-LOCATION;VALUE=URI;X-ADDRESS=Large Hall The Civic Holmfirth Holmfirth HD9 3AS United Kingdom;X-APPLE-RADIUS=500;X-TITLE=The Civic Holmfirth:geo:-1.7860824573628,53.572496509564
END:VEVENT
BEGIN:VEVENT
DTSTART;TZID=Europe/London:20260720T183000
DTEND;TZID=Europe/London:20260720T203000
DTSTAMP:20260426T010055
CREATED:20230104T144220Z
LAST-MODIFIED:20230105T113141Z
UID:10006500-1784572200-1784579400@thecivicholmfirth.org
SUMMARY:Netherthong Badminton
DESCRIPTION:
URL:https://thecivicholmfirth.org/events/netherthong-badminton/2026-07-20/
LOCATION:Large Hall\, The Civic Holmfirth\, Holmfirth\, HD9 3AS\, United Kingdom
CATEGORIES:Clubs & Classes
ATTACH;FMTTYPE=image/jpeg:https://thecivicholmfirth.org/wp-content/uploads/2021/04/Ladies-Badminton.jpg
GEO:53.572496509564;-1.7860824573628
X-APPLE-STRUCTURED-LOCATION;VALUE=URI;X-ADDRESS=Large Hall The Civic Holmfirth Holmfirth HD9 3AS United Kingdom;X-APPLE-RADIUS=500;X-TITLE=The Civic Holmfirth:geo:-1.7860824573628,53.572496509564
END:VEVENT
BEGIN:VEVENT
DTSTART;TZID=Europe/London:20260721T200000
DTEND;TZID=Europe/London:20260721T213000
DTSTAMP:20260426T010055
CREATED:20210407T103151Z
LAST-MODIFIED:20230712T102236Z
UID:10005314-1784664000-1784669400@thecivicholmfirth.org
SUMMARY:Holmfirth Badminton Club
DESCRIPTION:
URL:https://thecivicholmfirth.org/events/holmfirth-badminton-club/2026-07-21/
LOCATION:Large Hall\, The Civic Holmfirth\, Holmfirth\, HD9 3AS\, United Kingdom
CATEGORIES:Clubs & Classes
ATTACH;FMTTYPE=image/jpeg:https://thecivicholmfirth.org/wp-content/uploads/2021/04/Badminton-Netherthong-BC.jpg
GEO:53.572496509564;-1.7860824573628
X-APPLE-STRUCTURED-LOCATION;VALUE=URI;X-ADDRESS=Large Hall The Civic Holmfirth Holmfirth HD9 3AS United Kingdom;X-APPLE-RADIUS=500;X-TITLE=The Civic Holmfirth:geo:-1.7860824573628,53.572496509564
END:VEVENT
BEGIN:VEVENT
DTSTART;TZID=Europe/London:20260722T193000
DTEND;TZID=Europe/London:20260722T220000
DTSTAMP:20260426T010055
CREATED:20260330T135950Z
LAST-MODIFIED:20260330T140139Z
UID:10010021-1784748600-1784757600@thecivicholmfirth.org
SUMMARY:Holmfirth Jive Dance Club
DESCRIPTION:
URL:https://thecivicholmfirth.org/events/vibejive-dance-club-2-2/2026-07-22/
LOCATION:Large Hall\, The Civic Holmfirth\, Holmfirth\, HD9 3AS\, United Kingdom
CATEGORIES:Clubs & Classes
ATTACH;FMTTYPE=image/jpeg:https://thecivicholmfirth.org/wp-content/uploads/2025/02/holmfirth-jive.jpg
GEO:53.572496509564;-1.7860824573628
X-APPLE-STRUCTURED-LOCATION;VALUE=URI;X-ADDRESS=Large Hall The Civic Holmfirth Holmfirth HD9 3AS United Kingdom;X-APPLE-RADIUS=500;X-TITLE=The Civic Holmfirth:geo:-1.7860824573628,53.572496509564
END:VEVENT
BEGIN:VEVENT
DTSTART;TZID=Europe/London:20260724T093000
DTEND;TZID=Europe/London:20260724T113000
DTSTAMP:20260426T010055
CREATED:20210407T104909Z
LAST-MODIFIED:20260306T104302Z
UID:10005471-1784885400-1784892600@thecivicholmfirth.org
SUMMARY:Ladies Badminton
DESCRIPTION:
URL:https://thecivicholmfirth.org/events/ladies-badminton/2026-07-24/
LOCATION:Large Hall\, The Civic Holmfirth\, Holmfirth\, HD9 3AS\, United Kingdom
CATEGORIES:Clubs & Classes
ATTACH;FMTTYPE=image/jpeg:https://thecivicholmfirth.org/wp-content/uploads/2021/04/Ladies-Badminton.jpg
GEO:53.572496509564;-1.7860824573628
X-APPLE-STRUCTURED-LOCATION;VALUE=URI;X-ADDRESS=Large Hall The Civic Holmfirth Holmfirth HD9 3AS United Kingdom;X-APPLE-RADIUS=500;X-TITLE=The Civic Holmfirth:geo:-1.7860824573628,53.572496509564
END:VEVENT
BEGIN:VEVENT
DTSTART;TZID=Europe/London:20260727T100000
DTEND;TZID=Europe/London:20260727T110000
DTSTAMP:20260426T010055
CREATED:20240716T111208Z
LAST-MODIFIED:20260205T134807Z
UID:10011664-1785146400-1785150000@thecivicholmfirth.org
SUMMARY:Monday Movers Low Impact Dancercise
DESCRIPTION:
URL:https://thecivicholmfirth.org/events/monday-movers/2026-07-27/
LOCATION:Large Hall\, The Civic Holmfirth\, Holmfirth\, HD9 3AS\, United Kingdom
CATEGORIES:Clubs & Classes
ATTACH;FMTTYPE=image/png:https://thecivicholmfirth.org/wp-content/uploads/2024/07/image-3.png
GEO:53.572496509564;-1.7860824573628
X-APPLE-STRUCTURED-LOCATION;VALUE=URI;X-ADDRESS=Large Hall The Civic Holmfirth Holmfirth HD9 3AS United Kingdom;X-APPLE-RADIUS=500;X-TITLE=The Civic Holmfirth:geo:-1.7860824573628,53.572496509564
END:VEVENT
BEGIN:VEVENT
DTSTART;TZID=Europe/London:20260727T183000
DTEND;TZID=Europe/London:20260727T203000
DTSTAMP:20260426T010055
CREATED:20230104T144220Z
LAST-MODIFIED:20230105T113141Z
UID:10006501-1785177000-1785184200@thecivicholmfirth.org
SUMMARY:Netherthong Badminton
DESCRIPTION:
URL:https://thecivicholmfirth.org/events/netherthong-badminton/2026-07-27/
LOCATION:Large Hall\, The Civic Holmfirth\, Holmfirth\, HD9 3AS\, United Kingdom
CATEGORIES:Clubs & Classes
ATTACH;FMTTYPE=image/jpeg:https://thecivicholmfirth.org/wp-content/uploads/2021/04/Ladies-Badminton.jpg
GEO:53.572496509564;-1.7860824573628
X-APPLE-STRUCTURED-LOCATION;VALUE=URI;X-ADDRESS=Large Hall The Civic Holmfirth Holmfirth HD9 3AS United Kingdom;X-APPLE-RADIUS=500;X-TITLE=The Civic Holmfirth:geo:-1.7860824573628,53.572496509564
END:VEVENT
BEGIN:VEVENT
DTSTART;TZID=Europe/London:20260728T200000
DTEND;TZID=Europe/London:20260728T213000
DTSTAMP:20260426T010055
CREATED:20210407T103151Z
LAST-MODIFIED:20230712T102236Z
UID:10005315-1785268800-1785274200@thecivicholmfirth.org
SUMMARY:Holmfirth Badminton Club
DESCRIPTION:
URL:https://thecivicholmfirth.org/events/holmfirth-badminton-club/2026-07-28/
LOCATION:Large Hall\, The Civic Holmfirth\, Holmfirth\, HD9 3AS\, United Kingdom
CATEGORIES:Clubs & Classes
ATTACH;FMTTYPE=image/jpeg:https://thecivicholmfirth.org/wp-content/uploads/2021/04/Badminton-Netherthong-BC.jpg
GEO:53.572496509564;-1.7860824573628
X-APPLE-STRUCTURED-LOCATION;VALUE=URI;X-ADDRESS=Large Hall The Civic Holmfirth Holmfirth HD9 3AS United Kingdom;X-APPLE-RADIUS=500;X-TITLE=The Civic Holmfirth:geo:-1.7860824573628,53.572496509564
END:VEVENT
BEGIN:VEVENT
DTSTART;TZID=Europe/London:20260729T193000
DTEND;TZID=Europe/London:20260729T220000
DTSTAMP:20260426T010055
CREATED:20260330T135950Z
LAST-MODIFIED:20260330T140139Z
UID:10010022-1785353400-1785362400@thecivicholmfirth.org
SUMMARY:Holmfirth Jive Dance Club
DESCRIPTION:
URL:https://thecivicholmfirth.org/events/vibejive-dance-club-2-2/2026-07-29/
LOCATION:Large Hall\, The Civic Holmfirth\, Holmfirth\, HD9 3AS\, United Kingdom
CATEGORIES:Clubs & Classes
ATTACH;FMTTYPE=image/jpeg:https://thecivicholmfirth.org/wp-content/uploads/2025/02/holmfirth-jive.jpg
GEO:53.572496509564;-1.7860824573628
X-APPLE-STRUCTURED-LOCATION;VALUE=URI;X-ADDRESS=Large Hall The Civic Holmfirth Holmfirth HD9 3AS United Kingdom;X-APPLE-RADIUS=500;X-TITLE=The Civic Holmfirth:geo:-1.7860824573628,53.572496509564
END:VEVENT
BEGIN:VEVENT
DTSTART;TZID=Europe/London:20260731T093000
DTEND;TZID=Europe/London:20260731T113000
DTSTAMP:20260426T010055
CREATED:20210407T104909Z
LAST-MODIFIED:20260306T104302Z
UID:10005472-1785490200-1785497400@thecivicholmfirth.org
SUMMARY:Ladies Badminton
DESCRIPTION:
URL:https://thecivicholmfirth.org/events/ladies-badminton/2026-07-31/
LOCATION:Large Hall\, The Civic Holmfirth\, Holmfirth\, HD9 3AS\, United Kingdom
CATEGORIES:Clubs & Classes
ATTACH;FMTTYPE=image/jpeg:https://thecivicholmfirth.org/wp-content/uploads/2021/04/Ladies-Badminton.jpg
GEO:53.572496509564;-1.7860824573628
X-APPLE-STRUCTURED-LOCATION;VALUE=URI;X-ADDRESS=Large Hall The Civic Holmfirth Holmfirth HD9 3AS United Kingdom;X-APPLE-RADIUS=500;X-TITLE=The Civic Holmfirth:geo:-1.7860824573628,53.572496509564
END:VEVENT
BEGIN:VEVENT
DTSTART;TZID=Europe/London:20260803T100000
DTEND;TZID=Europe/London:20260803T110000
DTSTAMP:20260426T010055
CREATED:20240716T111208Z
LAST-MODIFIED:20260205T134807Z
UID:10011665-1785751200-1785754800@thecivicholmfirth.org
SUMMARY:Monday Movers Low Impact Dancercise
DESCRIPTION:
URL:https://thecivicholmfirth.org/events/monday-movers/2026-08-03/
LOCATION:Large Hall\, The Civic Holmfirth\, Holmfirth\, HD9 3AS\, United Kingdom
CATEGORIES:Clubs & Classes
ATTACH;FMTTYPE=image/png:https://thecivicholmfirth.org/wp-content/uploads/2024/07/image-3.png
GEO:53.572496509564;-1.7860824573628
X-APPLE-STRUCTURED-LOCATION;VALUE=URI;X-ADDRESS=Large Hall The Civic Holmfirth Holmfirth HD9 3AS United Kingdom;X-APPLE-RADIUS=500;X-TITLE=The Civic Holmfirth:geo:-1.7860824573628,53.572496509564
END:VEVENT
BEGIN:VEVENT
DTSTART;TZID=Europe/London:20260803T183000
DTEND;TZID=Europe/London:20260803T203000
DTSTAMP:20260426T010055
CREATED:20230104T144220Z
LAST-MODIFIED:20230105T113141Z
UID:10006502-1785781800-1785789000@thecivicholmfirth.org
SUMMARY:Netherthong Badminton
DESCRIPTION:
URL:https://thecivicholmfirth.org/events/netherthong-badminton/2026-08-03/
LOCATION:Large Hall\, The Civic Holmfirth\, Holmfirth\, HD9 3AS\, United Kingdom
CATEGORIES:Clubs & Classes
ATTACH;FMTTYPE=image/jpeg:https://thecivicholmfirth.org/wp-content/uploads/2021/04/Ladies-Badminton.jpg
GEO:53.572496509564;-1.7860824573628
X-APPLE-STRUCTURED-LOCATION;VALUE=URI;X-ADDRESS=Large Hall The Civic Holmfirth Holmfirth HD9 3AS United Kingdom;X-APPLE-RADIUS=500;X-TITLE=The Civic Holmfirth:geo:-1.7860824573628,53.572496509564
END:VEVENT
BEGIN:VEVENT
DTSTART;TZID=Europe/London:20260804T200000
DTEND;TZID=Europe/London:20260804T213000
DTSTAMP:20260426T010055
CREATED:20210407T103151Z
LAST-MODIFIED:20230712T102236Z
UID:10005316-1785873600-1785879000@thecivicholmfirth.org
SUMMARY:Holmfirth Badminton Club
DESCRIPTION:
URL:https://thecivicholmfirth.org/events/holmfirth-badminton-club/2026-08-04/
LOCATION:Large Hall\, The Civic Holmfirth\, Holmfirth\, HD9 3AS\, United Kingdom
CATEGORIES:Clubs & Classes
ATTACH;FMTTYPE=image/jpeg:https://thecivicholmfirth.org/wp-content/uploads/2021/04/Badminton-Netherthong-BC.jpg
GEO:53.572496509564;-1.7860824573628
X-APPLE-STRUCTURED-LOCATION;VALUE=URI;X-ADDRESS=Large Hall The Civic Holmfirth Holmfirth HD9 3AS United Kingdom;X-APPLE-RADIUS=500;X-TITLE=The Civic Holmfirth:geo:-1.7860824573628,53.572496509564
END:VEVENT
BEGIN:VEVENT
DTSTART;TZID=Europe/London:20260805T193000
DTEND;TZID=Europe/London:20260805T220000
DTSTAMP:20260426T010055
CREATED:20260330T135950Z
LAST-MODIFIED:20260330T140139Z
UID:10010023-1785958200-1785967200@thecivicholmfirth.org
SUMMARY:Holmfirth Jive Dance Club
DESCRIPTION:
URL:https://thecivicholmfirth.org/events/vibejive-dance-club-2-2/2026-08-05/
LOCATION:Large Hall\, The Civic Holmfirth\, Holmfirth\, HD9 3AS\, United Kingdom
CATEGORIES:Clubs & Classes
ATTACH;FMTTYPE=image/jpeg:https://thecivicholmfirth.org/wp-content/uploads/2025/02/holmfirth-jive.jpg
GEO:53.572496509564;-1.7860824573628
X-APPLE-STRUCTURED-LOCATION;VALUE=URI;X-ADDRESS=Large Hall The Civic Holmfirth Holmfirth HD9 3AS United Kingdom;X-APPLE-RADIUS=500;X-TITLE=The Civic Holmfirth:geo:-1.7860824573628,53.572496509564
END:VEVENT
BEGIN:VEVENT
DTSTART;TZID=Europe/London:20260807T093000
DTEND;TZID=Europe/London:20260807T113000
DTSTAMP:20260426T010055
CREATED:20210407T104909Z
LAST-MODIFIED:20260306T104302Z
UID:10005473-1786095000-1786102200@thecivicholmfirth.org
SUMMARY:Ladies Badminton
DESCRIPTION:
URL:https://thecivicholmfirth.org/events/ladies-badminton/2026-08-07/
LOCATION:Large Hall\, The Civic Holmfirth\, Holmfirth\, HD9 3AS\, United Kingdom
CATEGORIES:Clubs & Classes
ATTACH;FMTTYPE=image/jpeg:https://thecivicholmfirth.org/wp-content/uploads/2021/04/Ladies-Badminton.jpg
GEO:53.572496509564;-1.7860824573628
X-APPLE-STRUCTURED-LOCATION;VALUE=URI;X-ADDRESS=Large Hall The Civic Holmfirth Holmfirth HD9 3AS United Kingdom;X-APPLE-RADIUS=500;X-TITLE=The Civic Holmfirth:geo:-1.7860824573628,53.572496509564
END:VEVENT
BEGIN:VEVENT
DTSTART;TZID=Europe/London:20260810T100000
DTEND;TZID=Europe/London:20260810T110000
DTSTAMP:20260426T010055
CREATED:20240716T111208Z
LAST-MODIFIED:20260205T134807Z
UID:10011666-1786356000-1786359600@thecivicholmfirth.org
SUMMARY:Monday Movers Low Impact Dancercise
DESCRIPTION:
URL:https://thecivicholmfirth.org/events/monday-movers/2026-08-10/
LOCATION:Large Hall\, The Civic Holmfirth\, Holmfirth\, HD9 3AS\, United Kingdom
CATEGORIES:Clubs & Classes
ATTACH;FMTTYPE=image/png:https://thecivicholmfirth.org/wp-content/uploads/2024/07/image-3.png
GEO:53.572496509564;-1.7860824573628
X-APPLE-STRUCTURED-LOCATION;VALUE=URI;X-ADDRESS=Large Hall The Civic Holmfirth Holmfirth HD9 3AS United Kingdom;X-APPLE-RADIUS=500;X-TITLE=The Civic Holmfirth:geo:-1.7860824573628,53.572496509564
END:VEVENT
END:VCALENDAR